BEGIN:VCALENDAR
VERSION:2.0
PRODID:-//Supersonic - ECPv6.15.20//NONSGML v1.0//EN
CALSCALE:GREGORIAN
METHOD:PUBLISH
X-WR-CALNAME:Supersonic
X-ORIGINAL-URL:http://supersonic-club.fr
X-WR-CALDESC:Évènements pour Supersonic
REFRESH-INTERVAL;VALUE=DURATION:PT1H
X-Robots-Tag:noindex
X-PUBLISHED-TTL:PT1H
BEGIN:VTIMEZONE
TZID:Europe/London
BEGIN:DAYLIGHT
TZOFFSETFROM:+0000
TZOFFSETTO:+0100
TZNAME:BST
DTSTART:20180325T010000
END:DAYLIGHT
BEGIN:STANDARD
TZOFFSETFROM:+0100
TZOFFSETTO:+0000
TZNAME:GMT
DTSTART:20181028T010000
END:STANDARD
BEGIN:DAYLIGHT
TZOFFSETFROM:+0000
TZOFFSETTO:+0100
TZNAME:BST
DTSTART:20190331T010000
END:DAYLIGHT
BEGIN:STANDARD
TZOFFSETFROM:+0100
TZOFFSETTO:+0000
TZNAME:GMT
DTSTART:20191027T010000
END:STANDARD
BEGIN:DAYLIGHT
TZOFFSETFROM:+0000
TZOFFSETTO:+0100
TZNAME:BST
DTSTART:20200329T010000
END:DAYLIGHT
BEGIN:STANDARD
TZOFFSETFROM:+0100
TZOFFSETTO:+0000
TZNAME:GMT
DTSTART:20201025T010000
END:STANDARD
END:VTIMEZONE
BEGIN:VEVENT
DTSTART;TZID=Europe/London:20191106T200000
DTEND;TZID=Europe/London:20191106T233000
DTSTAMP:20260420T142725
CREATED:20191014T154345Z
LAST-MODIFIED:20191014T154345Z
UID:5156-1573070400-1573083000@supersonic-club.fr
SUMMARY:Order 89 • Nonn • Nyght / Supersonic (Free entry)
DESCRIPTION:Le Supersonic c’est lieu incontournable du rock à Paris! Trois concerts gratuits tous les soirs\, des nuits pop rock du jeudi au samedi et ce soir on vous présente : \n \n▬▬▬ ENTREE LIBRE ▬▬▬▬ \n→ ORDER 89 (RELEASE PARTY)\n(French wave / post punk  – Icy cold record – Paris) \n« Groupe parisien de French Wave\, enfants des années 80 amoureux de sonorités futuristes\, nous mélangeons les styles pour donner vie à un univers unique\, teinté d’espoir et de violence.\nCette mélancolie véhémente qui nous anime s’exprime avant tout sur scène\, où s’entremêlent rage et poésie nocturne.\nRelease Party de notre premier album « Bleu Acier » paru au mois de Septembre 2019. » \nLes 3 influences: Prayers\, Depeche Mode\, Joy Division  \n► Liker : https://www.facebook.com/OrderEightyNine/\n► Regarder : https://www.youtube.com/watch?v=uEESzjf6tsQ \n→ NONN\n(Post-Punk / Coldwave – Fuzz Club – SWE) \n« Sweden already boasts some of the most exciting names in modern psychedelia\, and now\, rising out of a desolate winter to join the ranks is NONN.\nWith brooding postpunk/coldwave.\nThe bleak\, icy surroundings in northern Sweden inevitably became a huge influence on this project. Blurring the line between sharp\, glacial post-punk and the industrial electronic aesthetic of the 80s. Although contemporary in feel\, it’s hard to listen to these tracks and\nnot picture them sound-tracking moments of sheer euphoria in some sticky-floored warehouse in 80s Berlin. It’s got it all; the minimal droning synths\, kosmische drummachine percussion\, jangling post-punk guitars and echoing\, forlorn vocals. There’s something here for lovers of psych-rock\, post-punk and electronica alike. » \nLes 3 influences: Suuns\, The KVB\, The Soft Moon \n► Liker : www.facebook.com/nonnband\n► Ecouter : https://fuzzclub.bandcamp.com/album/xvii\n► Regarder : https://www.youtube.com/watch?v=YFh0-IlFqs8 \n→ NYGHT\n(Psych/Punk – Paris) \n« NYGHT sont des animaux nocturnes jouant un rock psyché urbain et sombre. On peut généralement les trouver dans des lieux confinés et humides aux volumes sonores excessifs. Suite a divers incidents\, il est fortement conseillé aux touristes de ne pas les nourrir\, surtout après minuit.\nWe don’t want your money\, we want your soul. » \nLes 3 influences: The Black Angels\, Siouxsie & The Banshees\, Mazzy Star \n► Liker : https://www.facebook.com/pg/nyghtmusic/\n► Ecouter : https://soundcloud.com/thenyght\n► Regarder : https://www.youtube.com/watch?v=XGskMEGlz68 \n▬▬▬ INFOS PRATIQUES ▬▬▬ \nMERCREDI 06 NOVEMBRE 2019\nEntrée gratuite \n– Ouverture des portes à 19h\n– Début des concerts vers 20h\n– Happy Hour de 19h à 20h (3€50 la pinte)\n– Hot Dog au bar \n▬▬▬▬▬▬▬▬▬▬▬▬▬▬▬▬▬▬▬▬▬▬▬ \nSUPERSONIC\n9 rue Biscornet\, 75012 Paris\nMétro Bastille (sortie rue de lyon)\nhttp://supersonic-club.fr/\nObjets Perdus: https://forms.gle/rZxcMgGD5G82JnMQ9\nNewsletter du Supersonic: http://eepurl.com/gmxPzb​ \nTarifs : Gratuit
URL:http://supersonic-club.fr/event/order-89-%e2%80%a2-nonn-%e2%80%a2-nyght-supersonic-free-entry/
LOCATION:SUPERSONIC\, 9 Rue Biscornet\, Paris\, 75012\, France
CATEGORIES:Concert,Nonn,Nyght,Order 89,Pop / Rock / Folk,Sowprog
ATTACH;FMTTYPE=image/jpeg:http://supersonic-club.fr/wp-content/uploads/2019/10/namethumb_w600px_img_event_6e808780-12db-4bf8-ae87-fecead7cdc91.jpg
END:VEVENT
END:VCALENDAR