BEGIN:VCALENDAR
VERSION:2.0
PRODID:-//Supersonic - ECPv6.15.20//NONSGML v1.0//EN
CALSCALE:GREGORIAN
METHOD:PUBLISH
X-WR-CALNAME:Supersonic
X-ORIGINAL-URL:http://supersonic-club.fr
X-WR-CALDESC:Évènements pour Supersonic
REFRESH-INTERVAL;VALUE=DURATION:PT1H
X-Robots-Tag:noindex
X-PUBLISHED-TTL:PT1H
BEGIN:VTIMEZONE
TZID:Europe/London
BEGIN:DAYLIGHT
TZOFFSETFROM:+0000
TZOFFSETTO:+0100
TZNAME:BST
DTSTART:20230326T010000
END:DAYLIGHT
BEGIN:STANDARD
TZOFFSETFROM:+0100
TZOFFSETTO:+0000
TZNAME:GMT
DTSTART:20231029T010000
END:STANDARD
BEGIN:DAYLIGHT
TZOFFSETFROM:+0000
TZOFFSETTO:+0100
TZNAME:BST
DTSTART:20240331T010000
END:DAYLIGHT
BEGIN:STANDARD
TZOFFSETFROM:+0100
TZOFFSETTO:+0000
TZNAME:GMT
DTSTART:20241027T010000
END:STANDARD
BEGIN:DAYLIGHT
TZOFFSETFROM:+0000
TZOFFSETTO:+0100
TZNAME:BST
DTSTART:20250330T010000
END:DAYLIGHT
BEGIN:STANDARD
TZOFFSETFROM:+0100
TZOFFSETTO:+0000
TZNAME:GMT
DTSTART:20251026T010000
END:STANDARD
END:VTIMEZONE
BEGIN:VEVENT
DTSTART;TZID=Europe/London:20240520T190000
DTEND;TZID=Europe/London:20240520T230000
DTSTAMP:20260419T145628
CREATED:20240227T160945Z
LAST-MODIFIED:20240517T145032Z
UID:13040-1716231600-1716246000@supersonic-club.fr
SUMMARY:BNNY • Kino Motel • No Gravity
DESCRIPTION:Cette soirée plaira aux fans de… Mazzy Star\, Tess Parks & Alice Phoebe Lou \n \nBNNY (22h00)\n(Indie pop – Chicago\, US)\nBNNY. Derrière ce quatuor se cache une tête pensante remarquable qui répond au nom de Jess Viscius et qui présente leur premier disque du nom d’Everything. C’est en convoquant les spectres de Mazzy Star\, de Low ou des plus récents SoKo et Cigarettes After Sex que Jess Viscius (accompagnée de sa sœur jumelle Alexa et de ses potes Tim Makowski et Matt Pelkey) décide de cicatriser sa peine la plus profonde.\nComposé de quatorze titres brumeux et mélancoliques\, la native de Chicago ira établir un deuil des plus éprouvants où elle raconte son désarroi et sa tristesse infinie suite au décès de sa partenaire. Préparez-vous à avoir le cœur accroché. Dès l’entrée en matière nommée « Ambulance »\, le ton est donné tant Bnny arrive à concilier le côté garage des années 1960 et le courant dream-pop/slow core des années 1990 avec un soupçon d’ambient des années 2010. Ce résultat est exprimé sur des morceaux brumeux et lancinants allant de « August » à « Little Flower » en passant par les enchanteurs et mélodiques « So Wrong »\, «Sure » ou bien encore « Blind » où la voix susurrée de Jess Viscius arrive à masquer sa douleur marquée par ce décès si brutal.\nElle ira jusqu’à puiser auprès de Wilco période Sky Blue Sky sur « Not Even You » ou ajouter un brin de psychédélique sur le nihiliste « Promises » et de garage sur « Take That Back » afin de mieux nous émouvoir. Doucereux et mystique de bout en bout\, ce deuil qu’entreprend Bnny arrive à nous émouvoir tant on pénètre facilement dans les pensées de Jess Viscius. C’est ce qui fait la force de ce sublime premier disque qui se clôt avec un « Stardust » et une intermède acoustique attachante nommée « Voice Memo ».\nhttps://open.spotify.com/…/artist/5WrIiG2BnDY2kouJxzQPsh\nhttps://youtu.be/gZKki_bg7Mg \nKINO MOTEL (21h00)\n(Art rock – Melbourne\, AUS)\nKino Motel are a Melbourne via Berlin 4-piece who push the dynamic range to extremes in both directions. Control and beauty and darkness featuring members of Cash Savage and The Last Drinks and Eaten By Dogs.\nhttps://kinomotel.bandcamp.com/\nhttps://www.youtube.com/watch?v=DRNjH6q-NCg \nNO GRAVITY (20h00)\n(Dream pop – Paris\, FR)\nDepuis la sortie de leur premier EP « Wake up » en mai dernier\, les parisiens de  No Gravity propose un rock à la fois mélodique et éthéré aux frontières de la dream pop et du shoegaze.\nPorté par une voix céleste et des guitares puissantes aux échos cristallins où se mêlent nappes envoutantes et riffs de synthétiseurs aux accents new wave\, le groupe déploie un paysage sonore flottant où la gravité n’existe plus.\nFFO / Si vous aimez : Beach House\, MGMT\, Slowdive\nhttps://open.spotify.com/…/2ZXf50lgKWQuXR8i3TTtCV…\n———————————\nLundi 20 Mai 2024\nEntrée gratuite\n• Ouverture des portes à 19h00\n• Happy Hour de 19h à 20h\n• Si vous êtes témoin ou victime d’une agression\, vous pouvez alerter le personnel du bar ou si vous préférez\, vous pouvez nous écrire à cette adresse: communication@supersonic-paris.fr\n———————————\nSUPERSONIC\n9 rue Biscornet\, 75012 Paris\nMétro Bastille (sortie rue de lyon) \nTarifs : Gratuit
URL:http://supersonic-club.fr/event/bnny-kino-motel-no-gravity-supersonic-free-entry/
LOCATION:SUPERSONIC\, 9 Rue Biscornet\, Paris\, 75012\, France
CATEGORIES:BNNY,Concert,Kino Motel,No Gravity,Pop / Rock / Folk,Sowprog,SUPERSONIC
ATTACH;FMTTYPE=image/jpeg:http://supersonic-club.fr/wp-content/uploads/2024/02/namethumb_w600px_img_event_d4250031-2873-4ff0-81e2-90a25fe16552-2.jpg
END:VEVENT
END:VCALENDAR