BEGIN:VCALENDAR
VERSION:2.0
PRODID:-//Supersonic - ECPv6.15.20//NONSGML v1.0//EN
CALSCALE:GREGORIAN
METHOD:PUBLISH
X-WR-CALNAME:Supersonic
X-ORIGINAL-URL:http://supersonic-club.fr
X-WR-CALDESC:Évènements pour Supersonic
REFRESH-INTERVAL;VALUE=DURATION:PT1H
X-Robots-Tag:noindex
X-PUBLISHED-TTL:PT1H
BEGIN:VTIMEZONE
TZID:Europe/London
BEGIN:DAYLIGHT
TZOFFSETFROM:+0000
TZOFFSETTO:+0100
TZNAME:BST
DTSTART:20180325T010000
END:DAYLIGHT
BEGIN:STANDARD
TZOFFSETFROM:+0100
TZOFFSETTO:+0000
TZNAME:GMT
DTSTART:20181028T010000
END:STANDARD
BEGIN:DAYLIGHT
TZOFFSETFROM:+0000
TZOFFSETTO:+0100
TZNAME:BST
DTSTART:20190331T010000
END:DAYLIGHT
BEGIN:STANDARD
TZOFFSETFROM:+0100
TZOFFSETTO:+0000
TZNAME:GMT
DTSTART:20191027T010000
END:STANDARD
BEGIN:DAYLIGHT
TZOFFSETFROM:+0000
TZOFFSETTO:+0100
TZNAME:BST
DTSTART:20200329T010000
END:DAYLIGHT
BEGIN:STANDARD
TZOFFSETFROM:+0100
TZOFFSETTO:+0000
TZNAME:GMT
DTSTART:20201025T010000
END:STANDARD
END:VTIMEZONE
BEGIN:VEVENT
DTSTART;TZID=Europe/London:20190423T210000
DTEND;TZID=Europe/London:20190424T003000
DTSTAMP:20260423T202612
CREATED:20190314T131152Z
LAST-MODIFIED:20190314T131152Z
UID:4175-1556053200-1556065800@supersonic-club.fr
SUMMARY:The Proper Ornaments • Dharma Bum • nephew / Supersonic (Free)
DESCRIPTION:▬ Le Supersonic présente ▬ \n \n▬▬▬ ENTREE LIBRE ▬▬▬▬ \n→ THE PROPER ORNAMENTS\n(Indie – Tapete Records – London\,UK) \n«Si on a toujours du mal à digérer la séparation abrupte d’Ultimate Painting (la sortie de leur ultime album annulée au dernier moment)\, James Hoare s’en porte fort bien et vient de terminer le troisième album de The Proper Ornaments. Le successeur de Foxhole (2017) s’intitule Six Lenins et paraîtra le 5 avril via (Tapete Records / Differ-Ant). Il a été enregistré par James Hoare (Veronica Falls) à Londres avec son alter ego Max Claps (Toy) ainsi que Danny Nellis (Charles Howl) à la basse et Bobby Syme (Wesley Gonzalez) à la batterie.» – pinkushion \n► Liker : https://www.facebook.com/theproperornaments/\n► Ecouter : https://theproperornaments.bandcamp.com/\n► Regarder : https://www.youtube.com/user/theproperornaments/videos \n→ DHARMA BUM\n(Psychédélique Groove – Rouen\, FR) \n« Entre musique chaleureuse et univers froid du psychédélisme\, on classe Dharma Bum dans la catégorie des projets inclassables. Du percussif et des strates de guitares volatiles sur le tarmac d’un aéroport lo-fi. Un quintet pop\, des mélodies lancinantes\, des fréquences sauvages\, et une démence rythmique. Projet normand\, rien n’en parle quand on écoute\, c’est pour ça qu’on le précise. En quelques mots\, c’est doux et acide à la fois\, mais c’est surtout haut perché. » \n► Liker : https://www.facebook.com/band.dharmabum/\n► Ecouter: https://soundcloud.com/dharma-bum1\n► Regarder : https://www.youtube.com/watch?v=pHdoPR_4Yhw \n→ nephew\n(Indie lo-fi – FR) \n«nephew est un projet musical indie/lo-fi créé par un mec paumé de 20 ans en banlieue parisienne\, à la fin de l’été 2017.\nAu début\, il enregistrait ses morceaux mais ne les publiait nul part\, le but était avant tout de se libérer l’esprit en écrivant des textes et en se défoulant sur le papier. Un premier morceau a prit vie\, puis quatre autres\, puis finalement un EP\, tout est parti de là.\nnephew sort son premier EP ‘Feeling Station’ le 19 mars 2018\, aux sonorités lo-fi/bedroom pop\, entièrement enregistré chez lui\, suivit d’un clip pour le titre ‘Sunset from the Southside’.» \n► Liker : https://www.instagram.com/martinnephew_/\n► Ecouter : https://soundcloud.com/nephew_music\n► Regarder : https://www.youtube.com/watch?v=nBfM07k1XHw \n▬▬▬ INFOS PRATIQUES ▬▬▬ \nMardi 23 Avril 2019\nEntrée gratuite \n– Ouverture des portes à 18h30\n– Début des concerts vers 20h\n– Happy Hour de 18h30 à 20h (3€50 la pinte)\n– Hot Dog au bar \n▬▬▬▬▬▬▬▬▬▬▬▬▬▬▬▬▬▬▬▬▬▬▬ \nSUPERSONIC\n9 rue Biscornet\, 75012 Paris\nMétro Bastille (sortie rue de lyon)\nhttp://supersonic-club.fr/\nInscription à la newsletter du Supersonic: http://bit.ly/1lWTnx4 \nTarifs : Gratuit
URL:http://supersonic-club.fr/event/the-proper-ornaments-%e2%80%a2-dharma-bum-%e2%80%a2-nephew-supersonic-free/
LOCATION:SUPERSONIC\, 9 Rue Biscornet\, Paris\, 75012\, France
CATEGORIES:Concert,Dharma Bum,nephew,Pop / Rock / Folk,The Proper Ornaments
ATTACH;FMTTYPE=image/jpeg:http://supersonic-club.fr/wp-content/uploads/2019/03/namethumb_w600px_img_event_63270c86-9403-46cb-b5ef-10711a37b938.jpg
END:VEVENT
END:VCALENDAR