BEGIN:VCALENDAR
VERSION:2.0
PRODID:-//Supersonic - ECPv6.15.20//NONSGML v1.0//EN
CALSCALE:GREGORIAN
METHOD:PUBLISH
X-ORIGINAL-URL:http://supersonic-club.fr
X-WR-CALDESC:Évènements pour Supersonic
REFRESH-INTERVAL;VALUE=DURATION:PT1H
X-Robots-Tag:noindex
X-PUBLISHED-TTL:PT1H
BEGIN:VTIMEZONE
TZID:Europe/London
BEGIN:DAYLIGHT
TZOFFSETFROM:+0000
TZOFFSETTO:+0100
TZNAME:BST
DTSTART:20190331T010000
END:DAYLIGHT
BEGIN:STANDARD
TZOFFSETFROM:+0100
TZOFFSETTO:+0000
TZNAME:GMT
DTSTART:20191027T010000
END:STANDARD
BEGIN:DAYLIGHT
TZOFFSETFROM:+0000
TZOFFSETTO:+0100
TZNAME:BST
DTSTART:20200329T010000
END:DAYLIGHT
BEGIN:STANDARD
TZOFFSETFROM:+0100
TZOFFSETTO:+0000
TZNAME:GMT
DTSTART:20201025T010000
END:STANDARD
BEGIN:DAYLIGHT
TZOFFSETFROM:+0000
TZOFFSETTO:+0100
TZNAME:BST
DTSTART:20210328T010000
END:DAYLIGHT
BEGIN:STANDARD
TZOFFSETFROM:+0100
TZOFFSETTO:+0000
TZNAME:GMT
DTSTART:20211031T010000
END:STANDARD
END:VTIMEZONE
BEGIN:VEVENT
DTSTART;TZID=Europe/London:20200222T200000
DTEND;TZID=Europe/London:20200222T233000
DTSTAMP:20260424T060150
CREATED:20200130T171133Z
LAST-MODIFIED:20200130T171133Z
UID:5768-1582401600-1582414200@supersonic-club.fr
SUMMARY:More Kicks • Famille Grendy • Wild Things / Supersonic (Free)
DESCRIPTION:Le Supersonic c’est lieu incontournable du rock à Paris! Trois concerts gratuits tous les soirs\, des nuits pop rock du jeudi au samedi et ce soir on vous présente : \n \n→ MORE KICKS\n(Pop explosion – UK) \n« Pur produit de la scène garage Londonienne\, More Kicks a ébranlé les murs des meilleurs dive bars de Camden avant de partir en tournée Européenne. Le trio (Sulli\, Marco et Kris) a compris toute la puissance d’une mélodie pop doublée d’une énergie 100% punk. Un cocktail très britannique inspiré du son garage des 60’s\, de la scène punk new-yorkaise des 70’s et de quelques sons très pop 90’s. » \n► Liker : https://www.facebook.com/morekicksmorekicks/\n► Écouter : https://morekicks.bandcamp.com\n► Regarder : https://www.youtube.com/watch?v=HF-8Z-ILj7s \n→ FAMILLE GRENDY\n(Rock – SLB Music – Chevry Cossigny\,FR) \n« Famille Grendy est né dans un grenier de Seine et Marne il y a 11 ans. Composée de 5 amis se connaissant depuis les bancs de l’école\, elle a parcouru à peu près toute la Seine et Marne et une grande partie de la France. Auteur de 4 albums dont le dernier\, The Green Rabbit qui est paru au début de l’été 2018\, Famille Grendy a beaucoup valdingué depuis son suivi avec la scène actuelle File 7 le concours France O\, la Session live de Twinlight Zone\, le Festival Un temps pour tous… Très présente par ailleurs sur la toile\, elle a produit de nombreux clips et vidéos. » \nLes 3 influences: Radiohead\, Nirvana\, Pink Floyd \n► Liker : https://www.facebook.com/FamilleGrendy/\n► Ecouter : https://soundcloud.com/famillegrendy\n► Regarder : https://www.youtube.com/watch?v=zI3nra-t1Ws \n→ WILD THINGS\n(Indie Rock – Sapajou Records – Paris) \n« Wild Things\, c’est deux sapajous poids plume qui jouent vite et fort. Après une tripotée d’EP sur cd\, cassette et sur les internets\, Wild Things sort son premier album\, Biscuit Bandit à la noël 2019. Ils jouent leur rock qui fait tomber le plâtre et rouler vite depuis 2011 à travers la France\, la Belgique\, l’Angleterre. » \nLes 3 influences: The Breeders\, Queens of the Stone Age\, Distillers \n► Liker : https://www.facebook.com/wildthingsband/\n► Ecouter : https://wildthingsband.bandcamp.com\n► Regarder : https://www.youtube.com/watch?v=SsSpTeBT3pM \nTarifs : Gratuit
URL:http://supersonic-club.fr/event/more-kicks-%e2%80%a2-famille-grendy-%e2%80%a2-wild-things-supersonic-free/
CATEGORIES:Concert,FAMILLE GRENDY,More Kicks,Pop / Rock / Folk,Sowprog,Wild Things
ATTACH;FMTTYPE=image/jpeg:http://supersonic-club.fr/wp-content/uploads/2020/01/namethumb_w600px_img_event_0a51c1fe-2769-4157-8738-f9f37223b3b9.jpg
END:VEVENT
END:VCALENDAR