BEGIN:VCALENDAR
VERSION:2.0
PRODID:-//Supersonic - ECPv6.15.20//NONSGML v1.0//EN
CALSCALE:GREGORIAN
METHOD:PUBLISH
X-ORIGINAL-URL:http://supersonic-club.fr
X-WR-CALDESC:Évènements pour Supersonic
REFRESH-INTERVAL;VALUE=DURATION:PT1H
X-Robots-Tag:noindex
X-PUBLISHED-TTL:PT1H
BEGIN:VTIMEZONE
TZID:Europe/London
BEGIN:DAYLIGHT
TZOFFSETFROM:+0000
TZOFFSETTO:+0100
TZNAME:BST
DTSTART:20240331T010000
END:DAYLIGHT
BEGIN:STANDARD
TZOFFSETFROM:+0100
TZOFFSETTO:+0000
TZNAME:GMT
DTSTART:20241027T010000
END:STANDARD
BEGIN:DAYLIGHT
TZOFFSETFROM:+0000
TZOFFSETTO:+0100
TZNAME:BST
DTSTART:20250330T010000
END:DAYLIGHT
BEGIN:STANDARD
TZOFFSETFROM:+0100
TZOFFSETTO:+0000
TZNAME:GMT
DTSTART:20251026T010000
END:STANDARD
BEGIN:DAYLIGHT
TZOFFSETFROM:+0000
TZOFFSETTO:+0100
TZNAME:BST
DTSTART:20260329T010000
END:DAYLIGHT
BEGIN:STANDARD
TZOFFSETFROM:+0100
TZOFFSETTO:+0000
TZNAME:GMT
DTSTART:20261025T010000
END:STANDARD
END:VTIMEZONE
BEGIN:VEVENT
DTSTART;TZID=Europe/London:20250502T190000
DTEND;TZID=Europe/London:20250502T230000
DTSTAMP:20260419T133556
CREATED:20250325T155109Z
LAST-MODIFIED:20250325T155109Z
UID:15922-1746212400-1746226800@supersonic-club.fr
SUMMARY:VAPOUR TRAIL : Painted Vein + Hongza + Moon-Li 历
DESCRIPTION:Voyage dans les vapeurs réverbératrices au fin fond d’un rêve Lynchien\, à la croisée du Shoegaze et de la dream pop\, bienvenue à la Vapour Trail. \n \nPAINTED VEIN (22h30)\n(Indie rock shoegaze – WWNBB – Seattle\, US)\nPainted Vein est le projet musical du musicien\, producteur et ingénieur du son Andrea Fox Volpato qui a passé les 10 dernières années à collaborer à l’écriture\, l’enregistrement et la tournée mondiale avec différents projets musicaux.\nDe 2017 à 2022\, Andrea a été le guitariste principal et le choriste du groupe italien New Candys avec lequel il a tourné en Europe\, au Royaume-Uni\, en Australie\, aux États-Unis\, au Canada\, au Mexique\, dans les Balkans et a ouvert des tournées pour des groupes comme les Dandy Warhols et BJM. Il a également participé à des festivals de renom tels que Psycho Vegas\, SXSW\, Devilstone en Lituanie et Levitation en France. Dans son studio\, il a enregistré\, mixé et coproduit les deux derniers albums studio de New Candys (« Bleeding Magenta » et « Vyvyd »).\nAndrea a également enregistré\, mixé et produit les albums « Euphoric Recall » et « Jaywalker » de l’artiste de Seattle MØAA et a coécrit et chanté en duo sur leur single à succès « X Marks ». Il a tourné depuis la création du projet en tant que guitariste et chanteur principal à travers l’Europe et le Royaume-Uni où ils ont partagé la scène avec Yves Tumor et joué dans des festivals comme Ypsigrock en Sicile et MIL à Lisbonne\, ainsi que plusieurs tournées aux États-Unis\, y compris des showcases officiels à SXSW en 2022 et 2024. Andrea est toujours un membre actif de la tournée de MØAA et avant cela\, il était également le batteur du groupe noise-rock italien Love in Elevator avec lequel il a tourné en Europe et ouvert pour des groupes tels que Shellac et Refused.\nSon premier album\, « Dripping Only Black »\, est l’aboutissement de cette expérience.\nLes 3 influences : DIIV\, Nirvana\, Radiohead\nhttps://paintedvein.bandcamp.com/\nhttps://www.youtube.com/@PaintedVein \nHONGZA (21h30)\n(Dream pop shoegaze – Londres\, UK)\nL’artiste vietnamo-chinois Hongza\, né à Londres\, revient avec un nouveau single\, « Lovesick »\, extrait de son nouvel EP intitulé Coming of Age\, dont la sortie est prévue pour le 27 septembre 2024. « Lovesick » fait suite à l’envolée de “She Changes The Weather” qui a reçu le soutien de Wonderland\, CLASH\, Alt Ctrl (Apple Music 1) et NME où il a fait la couverture de leur playlist New Bangers.\nTissant des paysages sonores éthérés qui transcendent les mélodies\, Hongza AKA Sam Hong\, étoile montante de la dream-pop\, présente son nouvel EP Coming of Age. Produit par Larry Hibbit (Nothing But Thieves\, Sea Girls\, Sundara Karma)\, Hongza livre un travail magnifiquement texturé qui s’appuie sur sa douleur et ses expériences de vie pour offrir cinq titres qui abordent les thèmes de l’identité\, de l’estime de soi et de l’amour jeune. Au milieu de paysages sonores rêveurs et distordus imprégnés de réverbération\, Hongza vous invite à parcourir le monde en tant que jeune homme d’origine asiatique de l’Est et du Sud-Est de Londres.\nExtrêmement résilient et dévoué à son métier\, Hongza a transformé ses revers en force motrice pour sa musique\, recevant le soutien de Zane Lowe’s Show (Apple Music 1)\, X-Pousre (Radio X)\, Fresh Finds Rock (Spotify)\, New In Alternative\, New In Rock (Apple Music) et Live Nation’s Ones To Watch (Ones To Watch). Plus récemment\, il a été sélectionné pour jouer au Truck Fest de cette année et a été nommé l’un des artistes émergents de Glastonbury.\nLes 3 influences : DIIV\, ALVVAYS\, Beach Fossils\nhttps://open.spotify.com/artist/7kBqyn9D0ijLLF95RxtkXk…\nhttps://www.youtube.com/channel/UCZjhvsSLxbXNgAcOpjFnWUw \nMOON-LI 历 (20h30)\n(Shoegaze post punk – Paris\, FR)\ngtr goes brrr + reverb = sad + catharsis :(((\nLes 3 influences : Have a nice life\, Duster\, Slowdive\nhttps://linktr.ee/moonliband\nhttps://www.youtube.com/@moon-li\n———————————\nVendredi 2 Mai 2025\nEntrée gratuite\n• Ouverture des portes à 19h00\n• Happy Hour de 19h à 20h\n• Si vous êtes témoin ou victime d’une agression\, vous pouvez alerter le personnel du bar ou si vous préférez\, vous pouvez nous écrire à cette adresse: communication@supersonic-paris.fr\n———————————\nSUPERSONIC\n9 rue Biscornet\, 75012 Paris\nMétro Bastille (sortie rue de lyon) \nTarifs : Gratuit
URL:http://supersonic-club.fr/event/vapour-trail-painted-vein-hongza-moon-li-%e5%8e%86/
LOCATION:SUPERSONIC\, 9 Rue Biscornet\, Paris\, 75012\, France
CATEGORIES:Concert,Hongza,Moon-Li 历,Painted Vein,Pop / Rock / Folk,Sowprog,SUPERSONIC
ATTACH;FMTTYPE=image/jpeg:http://supersonic-club.fr/wp-content/uploads/2025/03/namethumb_w600px_img_event_64b0431f-a2cf-4ea3-8cf2-0f9124bd1788.jpg
END:VEVENT
END:VCALENDAR