BEGIN:VCALENDAR
VERSION:2.0
PRODID:-//Supersonic - ECPv6.15.20//NONSGML v1.0//EN
CALSCALE:GREGORIAN
METHOD:PUBLISH
X-ORIGINAL-URL:http://supersonic-club.fr
X-WR-CALDESC:Évènements pour Supersonic
REFRESH-INTERVAL;VALUE=DURATION:PT1H
X-Robots-Tag:noindex
X-PUBLISHED-TTL:PT1H
BEGIN:VTIMEZONE
TZID:Europe/London
BEGIN:DAYLIGHT
TZOFFSETFROM:+0000
TZOFFSETTO:+0100
TZNAME:BST
DTSTART:20160327T010000
END:DAYLIGHT
BEGIN:STANDARD
TZOFFSETFROM:+0100
TZOFFSETTO:+0000
TZNAME:GMT
DTSTART:20161030T010000
END:STANDARD
BEGIN:DAYLIGHT
TZOFFSETFROM:+0000
TZOFFSETTO:+0100
TZNAME:BST
DTSTART:20170326T010000
END:DAYLIGHT
BEGIN:STANDARD
TZOFFSETFROM:+0100
TZOFFSETTO:+0000
TZNAME:GMT
DTSTART:20171029T010000
END:STANDARD
BEGIN:DAYLIGHT
TZOFFSETFROM:+0000
TZOFFSETTO:+0100
TZNAME:BST
DTSTART:20180325T010000
END:DAYLIGHT
BEGIN:STANDARD
TZOFFSETFROM:+0100
TZOFFSETTO:+0000
TZNAME:GMT
DTSTART:20181028T010000
END:STANDARD
END:VTIMEZONE
BEGIN:VEVENT
DTSTART;TZID=Europe/London:20170909T210000
DTEND;TZID=Europe/London:20170910T003000
DTSTAMP:20260425T111822
CREATED:20170713T114854Z
LAST-MODIFIED:20170713T114854Z
UID:1719-1504990800-1505003400@supersonic-club.fr
SUMMARY:MJ 12 • Rust Runners • Dragster Dealers / Free
DESCRIPTION:Le Supersonic présente… \n \n→ -MJ 12-\n(Pop rock – Paris\,FR) \n« Des mélodies enivrantes\, des rythmes puissants et sauvages\, c’est à coup de concerts explosifs\, où le public est peu à peu transporté et transcendé\, que MJ12 aiguise ses riffs et commence à se faire une réputation.\nFin 2015\, ils s’enferment dans un endroit hautement protégé des autorités afin de réaliser leur E.P conduit par l’envoutant single « Alien Greys » . Tenez vous prêt\, votre voyage aux portes de l’espace\, du temps et de l’esprit commence ici… » \nLes 3 influences: The Doors\, The Libertines\, Thin Lizzy \n► Liker: https://www.facebook.com/mj12official/\n► Ecouter: https://mj12music.com/music/\n► Regarder: https://www.youtube.com/watch?v=nwd_jkveV_o \n→ RUST RUNNERS\n(Rock – Paris\, FR) \n« En alliant rythmiques rageuses et mélodies entêtantes\, le quatuor parisien s’est forgé un rock unique\, tant inspiré par le classic rock des années 70 que par l’alternative des années 90\, en y ajoutant une personnalité et une énergie qui se déploient avant tout en live.\nFormé à l’automne 2014\, le groupe compose rapidement un set solide qui lui permet d’enchainer les concerts. Leur premier EP\, entièrement autoproduit\, sort fin 2015\, donnant ainsi un bon aperçu des capacités de la formation. Bien décidés à le défendre tout en proposant toujours de nouvelles compositions originales\, Rust Runners reprend la route de la scène en 2016-2017. » \nLes 3 influences: Foo Fighters\, Guns’N’Roses\, The Clash \n►Liker: https://www.facebook.com/rustrunners/\n►Ecouter : https://soundcloud.com/rust-runners \n→ DRAGSTER DEALERS\n(Garage pop – Paris\, FR) \n« DRAGSTER DEALERS\, c’est un son garage rock\, brut\, sauvage et sensuel. C’est un mélange de riffs entêtants\, de rythmes énergiques servis par une voix rauque et envoutante. Il y a de la rage\, de la mélancolie et de la folie dans les textes comme sur scène. DRAGSTER DEALERS c’est du rock avec un univers à part. » \nLes 3 influences: PJ Harvey\, Mudhoney\, Sleater-Kinney \n►Liker: https://www.facebook.com/DRAGSTERDEALERS/\n►Ecouter : http://www.dragsterdealers.com/\n►Regarder: https://youtu.be/9h4BdsGXKMA \nTarifs : Gratuit
URL:http://supersonic-club.fr/event/mj-12-%e2%80%a2-rust-runners-%e2%80%a2-dragster-dealers-free/
LOCATION:SUPERSONIC\, 9 Rue Biscornet\, Paris\, 75012\, France
CATEGORIES:Concert,DRAGSTER DEALERS,MJ 12,Pop / Rock / Folk,Rust Runners
ATTACH;FMTTYPE=image/jpeg:http://supersonic-club.fr/wp-content/uploads/2017/07/namethumb_w600px_img_event_0a44aede-740b-475d-b3c2-73949d03fba4.jpg
END:VEVENT
END:VCALENDAR