BEGIN:VCALENDAR
VERSION:2.0
PRODID:-//Supersonic - ECPv6.15.20//NONSGML v1.0//EN
CALSCALE:GREGORIAN
METHOD:PUBLISH
X-WR-CALNAME:Supersonic
X-ORIGINAL-URL:http://supersonic-club.fr
X-WR-CALDESC:Évènements pour Supersonic
REFRESH-INTERVAL;VALUE=DURATION:PT1H
X-Robots-Tag:noindex
X-PUBLISHED-TTL:PT1H
BEGIN:VTIMEZONE
TZID:Europe/London
BEGIN:DAYLIGHT
TZOFFSETFROM:+0000
TZOFFSETTO:+0100
TZNAME:BST
DTSTART:20160327T010000
END:DAYLIGHT
BEGIN:STANDARD
TZOFFSETFROM:+0100
TZOFFSETTO:+0000
TZNAME:GMT
DTSTART:20161030T010000
END:STANDARD
BEGIN:DAYLIGHT
TZOFFSETFROM:+0000
TZOFFSETTO:+0100
TZNAME:BST
DTSTART:20170326T010000
END:DAYLIGHT
BEGIN:STANDARD
TZOFFSETFROM:+0100
TZOFFSETTO:+0000
TZNAME:GMT
DTSTART:20171029T010000
END:STANDARD
BEGIN:DAYLIGHT
TZOFFSETFROM:+0000
TZOFFSETTO:+0100
TZNAME:BST
DTSTART:20180325T010000
END:DAYLIGHT
BEGIN:STANDARD
TZOFFSETFROM:+0100
TZOFFSETTO:+0000
TZNAME:GMT
DTSTART:20181028T010000
END:STANDARD
END:VTIMEZONE
BEGIN:VEVENT
DTSTART;TZID=Europe/London:20170328T210000
DTEND;TZID=Europe/London:20170329T003000
DTSTAMP:20260421T015535
CREATED:20170210T173505Z
LAST-MODIFIED:20170210T173505Z
UID:877-1490734800-1490747400@supersonic-club.fr
SUMMARY:Merchandise au Supersonic // Free
DESCRIPTION:▬▬▬ ENTREE LIBRE ▬▬▬▬▬▬▬▬▬▬▬ \nLe Supersonic présente… \n \n▬▬▬ LINE UP ▬▬▬▬▬▬▬▬▬▬▬▬▬▬▬▬ \n→ MERCHANDISE\n(Pop punk – 4AD – USA) \nMerchandise est un groupe combattant contre la catégorisation facile réservée aux biographies abrégées. Le projet est à parts égales du punk misanthropie\, des ballades larmoyantes\, de l’art\, de l’humour facile\, de l’étude classique\, une enveloppe psychédélique\, de la science folle et du génie pop.\nFormé à Tampa en Floride en 2008\, le trio se réinvente en permanence. Après avoir sorti de nombreux disques et des cassettes sur des labels punk indépendants et fait des concerts dans le métro\, le groupe a véritablement pris son élan avec la sortie de leur deuxième LP Children of desire en avril 2012.\nEn plus d’un accueil très chaleureux de la part des fans\, l’album a reçu les éloges de du média comme Pitchfork\, NME\, Spin\, et de nombreuses autres critiques et des revues. \n► Liker : https://www.facebook.com/wmerchandise/\n► Ecouter: https://wmerchandise.bandcamp.com/\n► Regarder: https://www.youtube.com/user/wmerchandise/videos \n+ GUESTS \n▬▬▬ INFOS PRATIQUES ▬▬▬▬▬▬▬▬▬▬▬ \nMardi 28 Mars 2017 – 20h\nEntrée gratuite\nFoodtruck hot dog au 1er étage \n▬▬▬▬▬▬▬▬▬▬▬▬▬▬▬▬▬▬▬▬▬▬▬▬▬▬▬▬▬▬▬ \nSUPERSONIC\n9 rue Biscornet\, 75012 Paris\nMétro Bastille\nhttp://supersonic-club.fr/\nInscription à la newsletter du Supersonic: http://bit.ly/1lWTnx4 \nTarifs : Gratuit
URL:http://supersonic-club.fr/event/merchandise-au-supersonic-free/
LOCATION:SUPERSONIC\, 9 Rue Biscornet\, Paris\, 75012\, France
CATEGORIES:Concert,Merchandise,Pop / Rock / Folk
ATTACH;FMTTYPE=image/jpeg:http://supersonic-club.fr/wp-content/uploads/2017/02/namethumb_w600px_img_event_5d6330c7-75ef-4c19-9971-8bfc7427e80c.jpg
END:VEVENT
END:VCALENDAR