BEGIN:VCALENDAR
VERSION:2.0
PRODID:-//Supersonic - ECPv6.15.20//NONSGML v1.0//EN
CALSCALE:GREGORIAN
METHOD:PUBLISH
X-WR-CALNAME:Supersonic
X-ORIGINAL-URL:http://supersonic-club.fr
X-WR-CALDESC:Évènements pour Supersonic
REFRESH-INTERVAL;VALUE=DURATION:PT1H
X-Robots-Tag:noindex
X-PUBLISHED-TTL:PT1H
BEGIN:VTIMEZONE
TZID:Europe/London
BEGIN:DAYLIGHT
TZOFFSETFROM:+0000
TZOFFSETTO:+0100
TZNAME:BST
DTSTART:20230326T010000
END:DAYLIGHT
BEGIN:STANDARD
TZOFFSETFROM:+0100
TZOFFSETTO:+0000
TZNAME:GMT
DTSTART:20231029T010000
END:STANDARD
BEGIN:DAYLIGHT
TZOFFSETFROM:+0000
TZOFFSETTO:+0100
TZNAME:BST
DTSTART:20240331T010000
END:DAYLIGHT
BEGIN:STANDARD
TZOFFSETFROM:+0100
TZOFFSETTO:+0000
TZNAME:GMT
DTSTART:20241027T010000
END:STANDARD
BEGIN:DAYLIGHT
TZOFFSETFROM:+0000
TZOFFSETTO:+0100
TZNAME:BST
DTSTART:20250330T010000
END:DAYLIGHT
BEGIN:STANDARD
TZOFFSETFROM:+0100
TZOFFSETTO:+0000
TZNAME:GMT
DTSTART:20251026T010000
END:STANDARD
END:VTIMEZONE
BEGIN:VEVENT
DTSTART;TZID=Europe/London:20240710T190000
DTEND;TZID=Europe/London:20240710T233000
DTSTAMP:20260420T055923
CREATED:20240430T133152Z
LAST-MODIFIED:20240625T150517Z
UID:13521-1720638000-1720654200@supersonic-club.fr
SUMMARY:MDNS • Spaghetti Sluts • Sam Sauvage • Pronostic Vital • Institut
DESCRIPTION:Restons Sérieux\, le festival beau & bizarre de la musique française à contre-courant commencera le mercredi 10 juillet ! \n \nPremier jour du festival avec avec l’hyperpunk des Spaghetti Sluts\, la synth punk de Pronostic Vital\, la pop de Sam Sauvage et la chanson française électronique d’Institut ! \nMDNS\n(Post-punk – Lille) \nMDNS aussi appelé Madness ou MAD propose un mélange d’emo et de post-punk dans lequel il aborde des sujets comme la dépression\, l’anxiété ou encore l’addiction. Il mène un combat contre lui-même. Rempli d’espoir.\nhttps://youtu.be/ZLbg__gYtxU?si=OjAM2CrXy8iKvYrX  \nSpaghetti Sluts au Supersonic Club\n(Hyperpunk – Melesse\, FR) \nSpaghetti Sluts nous feront pogoter avec leur garage punk potache et sans compromis. Leurs balades sillonnant entre Mike Krol et les Wampas sauront vous faire passer une bonne nuit de sommeil réparateur.\nhttps://www.youtube.com/watch?v=1almtNoijRs \nSam Sauvage au Supersonic Records\n(Pop Française – Paris\, FR) \nSam Sauvage se balade entre chanson et pop française tel un dandy moderne. Un univers singulier fait de désamour\, de poésie\, et de liberté désinvolte. (Non\, il ne vous révélera pas son secret pour des cheveux volumineux.)\nwww.youtube.com/@SamSauvage \nPronostic Vital au Supersonic Club\n(Synthpunk trap techno – Rennes\, FR) \nDuo né en 2020\, Pronostic Vital joue un mélange de trap autotunée\, de synthpunk et de techno dans l’atmosphère des soirées rennaises désargentées.\nhttps://www.youtube.com/watch?v=7D6RaUKkxSk \nInstitut au Supersonic Records\n(Chanson française électronique – Paris\, FR) \nFuyant les sirènes du shoegaze\, INSTITUT élargit le spectre et se donne la possibilité d’une attaque sonore d’un Michel Colombier sous MDMA tout en assumant une filiation avec un certain ragtime teinté d’afrobeat.\nhttps://www.youtube.com/watch?v=GiYTBfbVo3c \n—————————————————————– \nMercredi 10 Juillet 2024 de 19h à 00h\nAu Supersonic Club et au Supersonic Records\nEntrée gratuite\nTu peux réserver des tickets coupe-files Dice si il y a la queue avant 20h. Après 20h c’est premier arrivé premier ent ré.\nhttps://link.dice.fm/restons-serieux-festival\nPour en savoir plus sur le festival rendez-vous ici: https://supersonic-club.fr/restons-serieux/ \nTarifs : Gratuit
URL:http://supersonic-club.fr/event/jour-1-restons-serieux/
LOCATION:SUPERSONIC\, 9 Rue Biscornet\, Paris\, 75012\, France
CATEGORIES:Concert,INSTITUT,MDNS,Pop / Rock / Folk,Pronostic Vital,Sam Sauvage,Sowprog,Spaghetti Sluts,SUPERSONIC,Supersonic Paris
ATTACH;FMTTYPE=image/jpeg:http://supersonic-club.fr/wp-content/uploads/2024/04/namethumb_w600px_img_event_f2339c84-1aca-41d5-8d47-dd5d6e122699-2.jpg
END:VEVENT
END:VCALENDAR