BEGIN:VCALENDAR
VERSION:2.0
PRODID:-//Supersonic - ECPv6.15.20//NONSGML v1.0//EN
CALSCALE:GREGORIAN
METHOD:PUBLISH
X-ORIGINAL-URL:http://supersonic-club.fr
X-WR-CALDESC:Évènements pour Supersonic
REFRESH-INTERVAL;VALUE=DURATION:PT1H
X-Robots-Tag:noindex
X-PUBLISHED-TTL:PT1H
BEGIN:VTIMEZONE
TZID:Europe/London
BEGIN:DAYLIGHT
TZOFFSETFROM:+0000
TZOFFSETTO:+0100
TZNAME:BST
DTSTART:20160327T010000
END:DAYLIGHT
BEGIN:STANDARD
TZOFFSETFROM:+0100
TZOFFSETTO:+0000
TZNAME:GMT
DTSTART:20161030T010000
END:STANDARD
BEGIN:DAYLIGHT
TZOFFSETFROM:+0000
TZOFFSETTO:+0100
TZNAME:BST
DTSTART:20170326T010000
END:DAYLIGHT
BEGIN:STANDARD
TZOFFSETFROM:+0100
TZOFFSETTO:+0000
TZNAME:GMT
DTSTART:20171029T010000
END:STANDARD
BEGIN:DAYLIGHT
TZOFFSETFROM:+0000
TZOFFSETTO:+0100
TZNAME:BST
DTSTART:20180325T010000
END:DAYLIGHT
BEGIN:STANDARD
TZOFFSETFROM:+0100
TZOFFSETTO:+0000
TZNAME:GMT
DTSTART:20181028T010000
END:STANDARD
END:VTIMEZONE
BEGIN:VEVENT
DTSTART;TZID=Europe/London:20171120T200000
DTEND;TZID=Europe/London:20171120T230000
DTSTAMP:20260425T135115
CREATED:20171110T134402Z
LAST-MODIFIED:20171110T134402Z
UID:2207-1511208000-1511218800@supersonic-club.fr
SUMMARY:Beliefs • Marble Arch • Mancies
DESCRIPTION:Le Supersonic Présente… \n \n→ BELIEFS\n(Shoegaze\, Cold electric – Hand Drawn Dracula – Toronto\, CA) \nBeliefs\, hailing from Toronto Canada\, are touring their third record Habitat. On a departure from their shoegaze past\, it’s become time to live in the cold electric tones of concrete.  \n« Ça fait déjà sept ans que Beliefs s’évertue à conjuguer les guitares en mode mineur de My Bloody Valentine aux chansons flottantes de Yo La Tengo. On pourrait citer aussi un Seefeel en mode rock\, un Swervedriver concis\, un Boo Radleys féminisé. (…) Portée par une ligne de basse vrillée\, la composition qui fait suite à 1992\, figurant sur Leaper\, laisse pour la première fois un vaste espace champ d’expression au chant. La tatouée Jesse dévoile alors un glamour qu’on avait guère jusqu’alors décelé derrières les couches de guitares. Voilà qui place Beliefs non loin de Phantogram (en plus gothique) ou d’Austra (en plus new-wave). » – Sun Burns Out \nLes 3 influences: Portishead\, My Bloody Valentine\, Aphex Twin \n► Liker: https://www.facebook.com/weareBeliefs\n► Regarder: https://www.youtube.com/watch?v=limJ3JlBo3A \n→ MARBLE ARCH\n(Dream Pop – Shoegaze / Paris) \nDans sa chambre d’adolescent\, Yann le Razavet\, sous le nom de Marble Arch\, a mis au point une formule sensible\, entre délicatesse pop et mélancolie sonore rugueuse. En septembre 2014 sort son premier album\, The Bloom Of Division : dix morceaux bruts qui se réapproprient les étiquettes shoegaze et psychédélique\, imaginés comme les vestiges d’une enfance perdue..Une oeuvre personnelle et atypique qui lui vaut d’être repéré par Hedi Slimane et intégré au Saint Laurent Music Project\, shooté à Los Angeles. Après trois ans de lives\, son second album\, plus mature et coloré\, est en route … \n► Liker : https://www.facebook.com/marblearchmusic/\n► Ecouter : https://marblearch.bandcamp.com/ \n→ MANCIES\n(Alternative Pop/Rock – Paris) \nAussi bien influencés par la pop british des Smiths ou des Jesus and Mary Chains que par le rock alternatif des Strokes\, Mancies dévoile des chansons lumineuses aux textes sombres\, un garage pop tout en clair-obscur. \nLes 3 influences : The Smiths\, The Strokes\, The Jesus and Mary Chains \n► Liker: https://www.facebook.com/manciesmusic/\n► Regarder : https://youtu.be/CMq_3ioz8bk \nTarifs : Gratuit
URL:http://supersonic-club.fr/event/beliefs-%e2%80%a2-marble-arch-%e2%80%a2-mancies/
LOCATION:SUPERSONIC\, 9 Rue Biscornet\, Paris\, 75012\, France
CATEGORIES:Beliefs,Concert,Mancies,Marble Arch,Pop / Rock / Folk
ATTACH;FMTTYPE=image/jpeg:http://supersonic-club.fr/wp-content/uploads/2017/11/namethumb_w600px_img_event_fc723cf8-0f07-4cc5-ba01-b1bd48355b4d.jpg
END:VEVENT
END:VCALENDAR