BEGIN:VCALENDAR
VERSION:2.0
PRODID:-//Supersonic - ECPv6.15.20//NONSGML v1.0//EN
CALSCALE:GREGORIAN
METHOD:PUBLISH
X-WR-CALNAME:Supersonic
X-ORIGINAL-URL:http://supersonic-club.fr
X-WR-CALDESC:Évènements pour Supersonic
REFRESH-INTERVAL;VALUE=DURATION:PT1H
X-Robots-Tag:noindex
X-PUBLISHED-TTL:PT1H
BEGIN:VTIMEZONE
TZID:Europe/London
BEGIN:DAYLIGHT
TZOFFSETFROM:+0000
TZOFFSETTO:+0100
TZNAME:BST
DTSTART:20160327T010000
END:DAYLIGHT
BEGIN:STANDARD
TZOFFSETFROM:+0100
TZOFFSETTO:+0000
TZNAME:GMT
DTSTART:20161030T010000
END:STANDARD
BEGIN:DAYLIGHT
TZOFFSETFROM:+0000
TZOFFSETTO:+0100
TZNAME:BST
DTSTART:20170326T010000
END:DAYLIGHT
BEGIN:STANDARD
TZOFFSETFROM:+0100
TZOFFSETTO:+0000
TZNAME:GMT
DTSTART:20171029T010000
END:STANDARD
BEGIN:DAYLIGHT
TZOFFSETFROM:+0000
TZOFFSETTO:+0100
TZNAME:BST
DTSTART:20180325T010000
END:DAYLIGHT
BEGIN:STANDARD
TZOFFSETFROM:+0100
TZOFFSETTO:+0000
TZNAME:GMT
DTSTART:20181028T010000
END:STANDARD
END:VTIMEZONE
BEGIN:VEVENT
DTSTART;TZID=Europe/London:20170409T210000
DTEND;TZID=Europe/London:20170410T003000
DTSTAMP:20260423T165030
CREATED:20170206T162123Z
LAST-MODIFIED:20170403T135058Z
UID:821-1491771600-1491784200@supersonic-club.fr
SUMMARY:Bärlin • Manuel Etienne // Supersonic - Free
DESCRIPTION:On plonge alors dans les cabarets glauques du Berlin des années 30 avec Bärlin pour plonger dans le spleen rêveur de Manuel Etienne. \n \n→ BÄRLIN\n(Ghost Rock – Autre distribution – Lille) \nBÄRLIN est un groupe de low-rock alternatif aux sonorités jazz\, un trio composé d’une clarinette\, d’une basse et d’une batterie. De ruelles sombres en clubs enfumés\, leur musique est telle une déambulation nocturne dans une ville fantomatique. Quelques notes de clarinette qui déchirent la nuit\, un chant possédé et des nappes de basse enveloppantes font surgir un univers fantasmé\, hors du temps\, entre grandeur et décadence.\nOn plonge alors dans les cabarets glauques du Berlin des années 30\, dans la ville rêvée de Wim Wenders entre Nick Cave et Tuxedomoon\, ou dans les limbes d’un Detroit en ruine\, encore hanté d’un blues aux accents sombres\, rappelant Morphine et Sixteen Horsepower.  \nAvec la sortie de leur deuxième album distribué en France (Autre distribution) et en Belgique (COD&S)\, le trio s’est engagé dans une série de concerts en France et en Europe\, en son nom propre comme en première partie de grands noms du rock alternatif (Tuxedomoon\, And Also the Trees\, Motorama\, Lydia Lunch…).\nLa presse spécialisée (New Noise\, Longueurs d’Ondes\, SWQW…) et généraliste (20 Minutes\, A nous paris…) a salué les compositions audacieuses et les performances live de ce groupe inclassable. \nLes 3 influences: Nick Cave\, Morphine\, 16 Horsepower \n► Liker : https://www.facebook.com/baerlinmusik\n► Ecouter : https://baerlin.bandcamp.com/\n► Regarder : https://youtu.be/2yakVY5Nngg \n→ MANUEL ETIENNE\n(Indie pop – Les Disques De La Face Cachée / Lafolie Records – Metz / Nancy) \n« Entre français et anglais\, entre punk britannique et pop française\, entre passé et futur\, spleen rêveur et mur du son urbain\, Manuel Etienne se taille un territoire bien à lui. » dixit Gérôme Guibert dans la revue Magic. Le groupe lorrain Manuel Etienne semble vivre dans un monde parallèle\, poétique et fantaisiste où le Gun Club avale Bashung\, Christophe vampirise les Pixies. Il est vrai que sur scène les quatre musiciens ne laissent pas de place à l’immobilité\, sous tension\, ils emmènent progressivement le public dans leur expérience de contrastes.\nLe troisième album produit par Christian Quermalet (The Married Monk\, Perio)\, est sorti en Novembre dernier sur les labels Les Disques De La Face Cachée et Lafolie Records. \n► Liker : https://www.facebook.com/manueletiennecorp/\n► Ecouter: https://manueletienne.bandcamp.com/\n► Regarder: https://www.youtube.com/channel/UCTb_uIzyNOtFDE8OqdsSuhg/videos \n+ GUESTS \nTarifs : Gratuit
URL:http://supersonic-club.fr/event/manuel-etienne-au-supersonic-free/
LOCATION:SUPERSONIC\, 9 Rue Biscornet\, Paris\, 75012\, France
CATEGORIES:BÄRLIN,Concert,Manuel Etienne,Pop / Rock / Folk
ATTACH;FMTTYPE=image/jpeg:http://supersonic-club.fr/wp-content/uploads/2017/02/namethumb_w600px_img_event_aa87512a-e9d1-424c-98f6-c831005f6ee5-2.jpg
END:VEVENT
END:VCALENDAR