BEGIN:VCALENDAR
VERSION:2.0
PRODID:-//Supersonic - ECPv6.15.20//NONSGML v1.0//EN
CALSCALE:GREGORIAN
METHOD:PUBLISH
X-ORIGINAL-URL:http://supersonic-club.fr
X-WR-CALDESC:Évènements pour Supersonic
REFRESH-INTERVAL;VALUE=DURATION:PT1H
X-Robots-Tag:noindex
X-PUBLISHED-TTL:PT1H
BEGIN:VTIMEZONE
TZID:Europe/London
BEGIN:DAYLIGHT
TZOFFSETFROM:+0000
TZOFFSETTO:+0100
TZNAME:BST
DTSTART:20180325T010000
END:DAYLIGHT
BEGIN:STANDARD
TZOFFSETFROM:+0100
TZOFFSETTO:+0000
TZNAME:GMT
DTSTART:20181028T010000
END:STANDARD
BEGIN:DAYLIGHT
TZOFFSETFROM:+0000
TZOFFSETTO:+0100
TZNAME:BST
DTSTART:20190331T010000
END:DAYLIGHT
BEGIN:STANDARD
TZOFFSETFROM:+0100
TZOFFSETTO:+0000
TZNAME:GMT
DTSTART:20191027T010000
END:STANDARD
BEGIN:DAYLIGHT
TZOFFSETFROM:+0000
TZOFFSETTO:+0100
TZNAME:BST
DTSTART:20200329T010000
END:DAYLIGHT
BEGIN:STANDARD
TZOFFSETFROM:+0100
TZOFFSETTO:+0000
TZNAME:GMT
DTSTART:20201025T010000
END:STANDARD
END:VTIMEZONE
BEGIN:VEVENT
DTSTART;TZID=Europe/London:20190823T210000
DTEND;TZID=Europe/London:20190824T003000
DTSTAMP:20260420T102341
CREATED:20190628T161237Z
LAST-MODIFIED:20190628T161237Z
UID:4726-1566594000-1566606600@supersonic-club.fr
SUMMARY:Lumerians • El Gran Chufle • Santa Dogs / Supersonic (Free)
DESCRIPTION:▬ Le Supersonic présente ▬ \n \n▬▬▬ ENTREE LIBRE JUSQU’A 23H ▬▬▬▬ \n→ LUMERIANS\n(Doom Jazz – Fuzz Club Records – Oakland\, CA) \n« Oakland\, CA outfit Lumerians are a prodigious force in the extra-terrestrial realms of modern psychedelia. Since forming in San Francisco back in 2006\, Lumerians have traversed their way through multiple different genres – offering mind-bending adventures into everything from space rock\, kraut and noise to zamrock\, free jazz\, drone and dub. Drawing from a range of influences\, both familiar and esoteric\, past and present\, Lumerians conjure up sounds from far into the future. In their twelve years as a band they’ve toured with everyone from My Bloody Valentine to Killing Joke and Black Moth Super Rainbow\, putting out a number of critically-acclaimed releases. On June 22nd the band will be returning with their third album\, Call of the Void\, on London-label Fuzz Club after four years under the radar. » \n► Liker: https://www.facebook.com/Lumerians/\n► Ecouter : https://fuzzclub.bandcamp.com/album/call-of-the-void \n→ EL GRAN CHUFLE\n(Dark-Surf / Pop-Cosmique – Hueso Records – Santiago\, CHL) \n« El Gran Chufle s’est formé comme un side band dark-surf-motorik entre Memo (Panico) et PJ Grappin (Holden) il y a quelques années. Sur myspace se rencontrent Georgina (chanteuse australienne basée à Londres) branchée psyché et exotisme et Malfitano\, bassiste fraîchement arrivé du Chili. Ils enregistrent un EP\, puis l’album WAITECAS. Repérés par Steve Mckay (Pulp) et le Dj Tom Ravenscroft\, ils se produisent entre Londres et Paris\, et partagent la scène avec The Oscillation\, The Rayographs\, La Feline et d’autres groupes de la scène locale. Après la sortie de Waitecas (Hueso Records/All Time Low\, 2012) le groupe fait une pause. Georgina quitte le groupe\, Mr Lucido reprends les Farfisas\, et la machine repart à nouveau. » \n► Liker: https://www.facebook.com/El-Gran-Chufle-113283718703331/\n► Ecouter : https://elgranchufle.bandcamp.com \n→ SANTA DOGS\n(Rock – Paris) \n« Alexis et Fabrice jouent ensemble depuis trente ans. La formation a évolué\, atteignant jusqu’à cinq membres. Aujourd’hui réduite à sa plus simple expression\, la musique continue d’évoluer\, le but étant d’étonner toujours plus l’auditeur. » \n► Liker: https://www.facebook.com/DOG-O-MATIC-209571232447289/\n► Ecouter : https://santadogs.bandcamp.com/ \n▬▬▬ INFOS PRATIQUES ▬▬▬ \nVendredi 23 août 2019\nEntrée gratuite jusqu’à 23h \n– Ouverture des portes à 18h30\n– Début des concerts vers 20h\n– Happy Hour de 18h30 à 20h (3€50 la pinte)\n– Hot Dog au bar \n▬▬▬▬▬▬▬▬▬▬▬▬▬▬▬▬▬▬▬▬▬▬▬ \nSUPERSONIC\n9 rue Biscornet\, 75012 Paris\nMétro Bastille (sortie rue de lyon)\nhttp://supersonic-club.fr/\nInscription à la newsletter du Supersonic: http://eepurl.com/gmxPzb \nTarifs : Gratuit
URL:http://supersonic-club.fr/event/lumerians-%e2%80%a2-el-gran-chufle-%e2%80%a2-santa-dogs-supersonic-free/
LOCATION:SUPERSONIC\, 9 Rue Biscornet\, Paris\, 75012\, France
CATEGORIES:Concert,El Gran Chufle,LUMERIANS,Pop / Rock / Folk,Santa Dogs
ATTACH;FMTTYPE=image/jpeg:http://supersonic-club.fr/wp-content/uploads/2019/06/namethumb_w600px_img_event_937024aa-9bfd-45db-9831-7b7afa40844b.jpg
END:VEVENT
END:VCALENDAR