BEGIN:VCALENDAR
VERSION:2.0
PRODID:-//Supersonic - ECPv6.15.20//NONSGML v1.0//EN
CALSCALE:GREGORIAN
METHOD:PUBLISH
X-ORIGINAL-URL:http://supersonic-club.fr
X-WR-CALDESC:Évènements pour Supersonic
REFRESH-INTERVAL;VALUE=DURATION:PT1H
X-Robots-Tag:noindex
X-PUBLISHED-TTL:PT1H
BEGIN:VTIMEZONE
TZID:Europe/London
BEGIN:DAYLIGHT
TZOFFSETFROM:+0000
TZOFFSETTO:+0100
TZNAME:BST
DTSTART:20250330T010000
END:DAYLIGHT
BEGIN:STANDARD
TZOFFSETFROM:+0100
TZOFFSETTO:+0000
TZNAME:GMT
DTSTART:20251026T010000
END:STANDARD
BEGIN:DAYLIGHT
TZOFFSETFROM:+0000
TZOFFSETTO:+0100
TZNAME:BST
DTSTART:20260329T010000
END:DAYLIGHT
BEGIN:STANDARD
TZOFFSETFROM:+0100
TZOFFSETTO:+0000
TZNAME:GMT
DTSTART:20261025T010000
END:STANDARD
BEGIN:DAYLIGHT
TZOFFSETFROM:+0000
TZOFFSETTO:+0100
TZNAME:BST
DTSTART:20270328T010000
END:DAYLIGHT
BEGIN:STANDARD
TZOFFSETFROM:+0100
TZOFFSETTO:+0000
TZNAME:GMT
DTSTART:20271031T010000
END:STANDARD
END:VTIMEZONE
BEGIN:VEVENT
DTSTART;TZID=Europe/London:20261004T200000
DTEND;TZID=Europe/London:20261004T223000
DTSTAMP:20260425T135519
CREATED:20260310T130602Z
LAST-MODIFIED:20260310T130602Z
UID:18576-1791144000-1791153000@supersonic-club.fr
SUMMARY:Lords of Lounge en concert (côté Records)
DESCRIPTION:Si vous aimez Löwenzahnhonig\, Tommy Guerrero & Arc De Soleil\, le psych jazz ambiant et les sonorités surf\, ne manquez pas le concert des Berlinois Lords Of Lounge à Paris pour leur première tournée ! \n \nTake Me Out présente…\nLords of Lounge en concert !\nTickets : https://link.dice.fm/d28983222cf0 \nPOUR LES FANS DE Löwenzahnhonig\, Tommy Guerrero & Arc De Soleil \nLORDS OF LOUNGE\n(psych ambint jazz · Berlin\, DEU) \nQuatre musiciens accomplis basés à Berlin ont formé Lords of Lounge afin de proposer des classiques lounge faciles à écouter\, inspirés du surf.\nLeur méthode est simple : tout enregistrer pendant la composition. Pas de démos. Pas de surimpressions. Des vibrations et une inspiration pures\, directement sur bande. \nDad-Rock\, Surf-Pop\, riffs\, Indie-strumming… tout y est. \nÉCOUTER\nhttps://lordsoflounge.bandcamp.com/ \nREGARDER\nhttps://www.youtube.com/@lordsoflounge \nAIMER\nhttps://www.instagram.com/lordsoflounge/ \n———————————\nDimanche 4 Octobre 2026\n• Ouverture des portes à 20h\n• Bar sur place\n• Prévente à 17€ / 20€ sur place\n• Accès interdit aux moins de 16 ans sauf si accompagnés d’un tuteur légal\n———————————\nSUPERSONIC RECORDS\n9 rue Biscornet 75012 Paris\nMétro Bastille\nLa newsletter : https://t.ly/cx_NA\nLa playlist : https://t.ly/6erUG\nhttps://supersonic-records.fr/ \nhttps://takemeout-production.fr/ \nTarifs : Billet : 17€ \nBilletteries : DICE
URL:http://supersonic-club.fr/event/lords-of-lounge-en-concert-cote-records/
LOCATION:Supersonic Records\, 9 Rue Biscornet\, Paris\, 75012\, France
CATEGORIES:Concert,Jazz,Lords Of Lounge,Sowprog,Supersonic Records
ATTACH;FMTTYPE=image/jpeg:http://supersonic-club.fr/wp-content/uploads/2026/03/namethumb_w600px_img_event_9c2755fa-3f13-441e-b9bd-34cd76d87bb6.jpg
END:VEVENT
END:VCALENDAR