BEGIN:VCALENDAR
VERSION:2.0
PRODID:-//Supersonic - ECPv6.15.20//NONSGML v1.0//EN
CALSCALE:GREGORIAN
METHOD:PUBLISH
X-WR-CALNAME:Supersonic
X-ORIGINAL-URL:http://supersonic-club.fr
X-WR-CALDESC:Évènements pour Supersonic
REFRESH-INTERVAL;VALUE=DURATION:PT1H
X-Robots-Tag:noindex
X-PUBLISHED-TTL:PT1H
BEGIN:VTIMEZONE
TZID:Europe/London
BEGIN:DAYLIGHT
TZOFFSETFROM:+0000
TZOFFSETTO:+0100
TZNAME:BST
DTSTART:20170326T010000
END:DAYLIGHT
BEGIN:STANDARD
TZOFFSETFROM:+0100
TZOFFSETTO:+0000
TZNAME:GMT
DTSTART:20171029T010000
END:STANDARD
BEGIN:DAYLIGHT
TZOFFSETFROM:+0000
TZOFFSETTO:+0100
TZNAME:BST
DTSTART:20180325T010000
END:DAYLIGHT
BEGIN:STANDARD
TZOFFSETFROM:+0100
TZOFFSETTO:+0000
TZNAME:GMT
DTSTART:20181028T010000
END:STANDARD
BEGIN:DAYLIGHT
TZOFFSETFROM:+0000
TZOFFSETTO:+0100
TZNAME:BST
DTSTART:20190331T010000
END:DAYLIGHT
BEGIN:STANDARD
TZOFFSETFROM:+0100
TZOFFSETTO:+0000
TZNAME:GMT
DTSTART:20191027T010000
END:STANDARD
END:VTIMEZONE
BEGIN:VEVENT
DTSTART;TZID=Europe/London:20180520T003000
DTEND;TZID=Europe/London:20180520T070000
DTSTAMP:20260424T044622
CREATED:20180417T155325Z
LAST-MODIFIED:20180417T155325Z
UID:2813-1526776200-1526799600@supersonic-club.fr
SUMMARY:Wipe Out! 60s Party du Supersonic avec Les Grys-Grys
DESCRIPTION:▬ Le Supersonic présente ▬ \n \n▬▬▬ WIPE OUT ! ▬▬▬▬▬▬▬▬▬▬▬ \nWipe Out!\, la soirée #60s du Supersonic est de retour le samedi 10 Mars 2018\, avec Les Grys Grys en concert de nuit et les dj sets de Alex Croq Mac qui nous feront danser sur les sons #freakbeat\, #yéyé\, #twist\, #surf\, #garage\, #soul qui ont marqué les années 60\, de 23h30 à 6h du matin! \n▬▬▬ AU PROGRAMME ▬▬▬▬▬▬▬▬▬ \n THE GRYS-GRYS (live à 1h)\n(Rhythm ‘n’ blues – Montpellier)\nLe groupe français que toute la scène rock and roll européenne nous envie. Cinq gamins surdoués originaires d’Alès qui jouent un « wild rhythm and blues ». Les early Stones et les Pretty Things ont enfin trouvé leurs petits-enfants.\nhttps://soundcloud.com/tags/les%20grys-grys \n ALEX CROQ MAC (dj set) et DOUBLE TROUBLE (dj set)\nqui nous feront danser sur:\nBRIGITTE BARDOT / CHUBBY CHECKER / FRANCE GALL / FRANCOISE HARDY / LES 5 GENTLEMEN / LES CHAUSSETTES NOIRES / SONNY & CHER / SYLVIE VARTAN / THE ANIMALS / THE BEACH BOYS / THE BEATLES / THE EASYBEATS / THE FOUR TOPS / THE RONETTES / THE SHANGRI-LAS / THE SUPREMES / THE YARDBIRDS… & MORE. \n▬▬▬ INFOS PRATIQUES ▬▬▬▬▬▬▬▬▬▬▬▬ \nSamedi 19 Mai 2018 – 23h30/6h\nEntrée à 5€ dès 23h\nHot Dog au bar\nLook 60s bienvenue \n▬▬▬▬▬▬▬▬▬▬▬▬▬▬▬▬▬▬▬▬▬▬▬▬▬▬▬▬▬▬ \nSUPERSONIC\n9 rue Biscornet\, 75012 Paris\nMétro Bastille\nhttp://supersonic-club.fr/\nInscription à la newsletter du Supersonic: http://bit.ly/1lWTnx4 \nTarifs : sur place : 5€
URL:http://supersonic-club.fr/event/wipe-out-60s-party-du-supersonic-avec-les-grys-grys/
LOCATION:SUPERSONIC\, 9 Rue Biscornet\, Paris\, 75012\, France
CATEGORIES:Concert,Les Grys-Grys,Pop / Rock / Folk
ATTACH;FMTTYPE=image/jpeg:http://supersonic-club.fr/wp-content/uploads/2018/04/namethumb_w600px_img_event_49ac43f9-14e1-46e6-9976-a5a42dda6c1c.jpg
END:VEVENT
END:VCALENDAR