BEGIN:VCALENDAR
VERSION:2.0
PRODID:-//Supersonic - ECPv6.15.20//NONSGML v1.0//EN
CALSCALE:GREGORIAN
METHOD:PUBLISH
X-ORIGINAL-URL:http://supersonic-club.fr
X-WR-CALDESC:Évènements pour Supersonic
REFRESH-INTERVAL;VALUE=DURATION:PT1H
X-Robots-Tag:noindex
X-PUBLISHED-TTL:PT1H
BEGIN:VTIMEZONE
TZID:Europe/London
BEGIN:DAYLIGHT
TZOFFSETFROM:+0000
TZOFFSETTO:+0100
TZNAME:BST
DTSTART:20170326T010000
END:DAYLIGHT
BEGIN:STANDARD
TZOFFSETFROM:+0100
TZOFFSETTO:+0000
TZNAME:GMT
DTSTART:20171029T010000
END:STANDARD
BEGIN:DAYLIGHT
TZOFFSETFROM:+0000
TZOFFSETTO:+0100
TZNAME:BST
DTSTART:20180325T010000
END:DAYLIGHT
BEGIN:STANDARD
TZOFFSETFROM:+0100
TZOFFSETTO:+0000
TZNAME:GMT
DTSTART:20181028T010000
END:STANDARD
BEGIN:DAYLIGHT
TZOFFSETFROM:+0000
TZOFFSETTO:+0100
TZNAME:BST
DTSTART:20190331T010000
END:DAYLIGHT
BEGIN:STANDARD
TZOFFSETFROM:+0100
TZOFFSETTO:+0000
TZNAME:GMT
DTSTART:20191027T010000
END:STANDARD
END:VTIMEZONE
BEGIN:VEVENT
DTSTART;TZID=Europe/London:20180724T210000
DTEND;TZID=Europe/London:20180725T003000
DTSTAMP:20260420T025033
CREATED:20180511T141917Z
LAST-MODIFIED:20180704T130137Z
UID:2840-1532466000-1532478600@supersonic-club.fr
SUMMARY:Dirty Fences • Hoorsees • La Chinoise / Supersonic - Free
DESCRIPTION:▬ Le Supersonic présente ▬ \n \n▬▬▬ ENTREE LIBRE ▬▬▬▬ \n→ DIRTY FENCES\n(Punk rock – Greenway Records / Slovenly Recordings – NYC\, USA) \nDirty Fences est un groupe new yorkais de punk rock formé en 2012 par quatre musiciens originaires de Brooklyn. Clairement influencés par les Ramones\, le son de Dirty Fences nous ramène au CBGB des 70’s : des guitares biens grasses et rythmées\, des riffs qui transpirent le rock\, des paroles que l’on se prend à répéter inlassablement. \n► Liker: https://www.facebook.com/DIRTYFENCES/\n► Ecouter: https://dirtyfences.bandcamp.com/\n► Regarder: https://www.youtube.com/watch?v=H3a5cTeU_Ts \n→ HOORSEES\n(Garage lo-fi shoegaze – Paris) \n« Hoorsees\, c’est un peu comme un Nouvel An : tout le monde sourit\, parce qu’il le faut\, tout le monde se convainc d’être heureux\, parce qu’il le faut\, et tout le monde somatise d’avoir lamentablement raté l’année qui vient de s’écouler. » Still in rock\nLes 3 influences: Alex G\, Pavement\, Bryan’s magic tears \n► Liker: https://www.facebook.com/hoorsees/\n► Ecouter: https://hoorsees.bandcamp.com/releases\n► Regarder: https://www.youtube.com/watch?v=2uBrbL9w8NY \n→ LA CHINOISE\n(Rock garage – Paris) \n«La Chinoise est un groupe de garage rock aux mélodies influencées par la scène garage américaine (Black Lips\, Twin Peaks\, The King Khan and BBQ show\, les Marinellis etc…) qui chante en français. D’une moyenne d’âge de 26 ans\, les 5 membres du groupe venant des 4 coins de la France se sont réunis à Paris en 2018 afin de pouvoir se produire sur scène.» \nLes 3 influences: Black Lips\, Twin Peaks\, The King Khan and BBQ show \n► Liker: https://www.facebook.com/laachinoise/\n► Regarder: https://youtu.be/uzzRiXwK9O4 \n▬▬▬ INFOS PRATIQUES ▬▬▬ \nMardi 24 Juillet 2018\nEntrée gratuite \n– Ouverture des portes à 18h30\n– Début des concerts vers 20h\n– Happy Hour de 18h30 à 20h (3€50 la pinte)\n– Hot Dog au bar \nPartenaire média: Open Up Your Ears \n▬▬▬▬▬▬▬▬▬▬▬▬▬▬▬▬▬▬▬▬▬▬▬ \nSUPERSONIC\n9 rue Biscornet\, 75012 Paris\nMétro Bastille (sortie rue de lyon)\nhttp://supersonic-club.fr/\nInscription à la newsletter du Supersonic: http://bit.ly/1lWTnx4 \nTarifs : Gratuit
URL:http://supersonic-club.fr/event/dirty-fences-en-concert-au-supersonic-free-entrance/
LOCATION:SUPERSONIC\, 9 Rue Biscornet\, Paris\, 75012\, France
CATEGORIES:Concert,Dirty Fences,Hoorsees,La Chinoise,Pop / Rock / Folk
ATTACH;FMTTYPE=image/jpeg:http://supersonic-club.fr/wp-content/uploads/2018/05/namethumb_w600px_img_event_a1bda3c4-0ae8-4feb-956c-be977e6c5cd6-1.jpg
END:VEVENT
END:VCALENDAR