BEGIN:VCALENDAR
VERSION:2.0
PRODID:-//Supersonic - ECPv6.15.20//NONSGML v1.0//EN
CALSCALE:GREGORIAN
METHOD:PUBLISH
X-WR-CALNAME:Supersonic
X-ORIGINAL-URL:http://supersonic-club.fr
X-WR-CALDESC:Évènements pour Supersonic
REFRESH-INTERVAL;VALUE=DURATION:PT1H
X-Robots-Tag:noindex
X-PUBLISHED-TTL:PT1H
BEGIN:VTIMEZONE
TZID:Europe/London
BEGIN:DAYLIGHT
TZOFFSETFROM:+0000
TZOFFSETTO:+0100
TZNAME:BST
DTSTART:20250330T010000
END:DAYLIGHT
BEGIN:STANDARD
TZOFFSETFROM:+0100
TZOFFSETTO:+0000
TZNAME:GMT
DTSTART:20251026T010000
END:STANDARD
BEGIN:DAYLIGHT
TZOFFSETFROM:+0000
TZOFFSETTO:+0100
TZNAME:BST
DTSTART:20260329T010000
END:DAYLIGHT
BEGIN:STANDARD
TZOFFSETFROM:+0100
TZOFFSETTO:+0000
TZNAME:GMT
DTSTART:20261025T010000
END:STANDARD
BEGIN:DAYLIGHT
TZOFFSETFROM:+0000
TZOFFSETTO:+0100
TZNAME:BST
DTSTART:20270328T010000
END:DAYLIGHT
BEGIN:STANDARD
TZOFFSETFROM:+0100
TZOFFSETTO:+0000
TZNAME:GMT
DTSTART:20271031T010000
END:STANDARD
END:VTIMEZONE
BEGIN:VEVENT
DTSTART;TZID=Europe/London:20261010T200000
DTEND;TZID=Europe/London:20261010T223000
DTSTAMP:20260425T133552
CREATED:20251125T170634Z
LAST-MODIFIED:20260203T164747Z
UID:17691-1791662400-1791671400@supersonic-club.fr
SUMMARY:KYTES en concert (côté Records)
DESCRIPTION:Le trio de Munich KYTES est bien décidé à partager son indie rave avec vous ! Le groupe indépendant vous prépare un nouvel album à venir en 2026\, qui plaira aux fans de Caribou\, Foals & Phoenix. \n \nSupersonic Records présente…\nKYTES en concert !\nTickets : https://link.dice.fm/N890898987a6 \nPOUR LES FANS DE Foals\, Caribou & Phoenix \nKYTES\n(indie rave · Munich\, DEU) \nKYTES est un groupe indépendant primé originaire de Munich. Le trio composé de Michael Spieler\, Kerim Öke et Timothy Lush s’est développé petit à petit au fil des ans depuis sa création en 2015 pour devenir l’un des groupes les plus passionnants d’Europe. \nLes 3 musiciens\, amis depuis la maternelle\, ont trouvé leur propre rythme grâce à leur musique et à un mélange unique de liberté et de familiarité. KYTES publie ses chansons via son propre label\, Frisbee Records\, depuis 2018\, et celles-ci ont désormais été écoutées plus de 150 millions de fois en streaming. \nKYTES se définit comme de l' »indie rave »\, genre créé par le groupe lui-même\, et combinant son ancien amour « Indie » et son nouvel amour « Rave ». \nCe mélange fait également des concerts du groupe une expérience très spéciale\, entre refrains entraînants\, sets électroniques rave et moments intimistes en acoustique. \nDans leur nouveau single « Cope »\, KYTES s’interroge sur la manière dont ils gèrent le flot quotidien de mauvaises nouvelles\, abordant le doute de soi et la spirale du doomscrolling. Le rythme rapide\, hypnotique\, presque reggaeton\, fait avancer la chanson ; les guitares et les synthétiseurs se fondent\, et le chanteur Spieler surprend avec une voix inattendue\, mémorable et unique. \nLe nouvel album du groupe\, « Indie Rave »\, sortira le 31 juillet 2026. Le groupe se lancera ensuite dans sa plus grande tournée à ce jour. \nÉCOUTER\n· https://open.spotify.com/intl-fr/artist/1q8H46YhdCtAO8tXHIWe2d\n· https://soundcloud.com/kytesmusic  \nREGARDER\nhttps://www.youtube.com/@kytesmusic \nAIMER\nhttps://www.instagram.com/kytesmusic/ \n———————————\nSamedi 10 Octobre 2026\n• Ouverture des portes à 20h\n• Bar sur place\n• 14\,94€ en prévente / 18€ sur place\nBillets en vente dès le 26 novembre 2025 à midi\n• Accès interdit aux moins de 16 ans sauf si accompagnés d’un tuteur légal\n———————————\nSUPERSONIC RECORDS\n9 Bis Rue Biscornet 75012 Paris\nMetro Bastille\nhttps://supersonic-records.fr/\nLa newsletter  https://t.ly/cx_NA\nLa playlist 2025  https://t.ly/zRmWR \nTarifs : Billet : 14.94€ \nBilletteries : DICE
URL:http://supersonic-club.fr/event/kytes-en-concert-cote-records/
LOCATION:Supersonic Records\, 9 Rue Biscornet\, Paris\, 75012\, France
CATEGORIES:Concert,KYTES,Pop / Rock / Folk,Sowprog,Supersonic Records
ATTACH;FMTTYPE=image/jpeg:http://supersonic-club.fr/wp-content/uploads/2025/11/namethumb_w600px_img_event_013dfc2c-8501-4523-b58b-4698ae22c56c-1.jpg
END:VEVENT
END:VCALENDAR