BEGIN:VCALENDAR
VERSION:2.0
PRODID:-//Supersonic - ECPv6.15.20//NONSGML v1.0//EN
CALSCALE:GREGORIAN
METHOD:PUBLISH
X-WR-CALNAME:Supersonic
X-ORIGINAL-URL:http://supersonic-club.fr
X-WR-CALDESC:Évènements pour Supersonic
REFRESH-INTERVAL;VALUE=DURATION:PT1H
X-Robots-Tag:noindex
X-PUBLISHED-TTL:PT1H
BEGIN:VTIMEZONE
TZID:Europe/London
BEGIN:DAYLIGHT
TZOFFSETFROM:+0000
TZOFFSETTO:+0100
TZNAME:BST
DTSTART:20220327T010000
END:DAYLIGHT
BEGIN:STANDARD
TZOFFSETFROM:+0100
TZOFFSETTO:+0000
TZNAME:GMT
DTSTART:20221030T010000
END:STANDARD
BEGIN:DAYLIGHT
TZOFFSETFROM:+0000
TZOFFSETTO:+0100
TZNAME:BST
DTSTART:20230326T010000
END:DAYLIGHT
BEGIN:STANDARD
TZOFFSETFROM:+0100
TZOFFSETTO:+0000
TZNAME:GMT
DTSTART:20231029T010000
END:STANDARD
BEGIN:DAYLIGHT
TZOFFSETFROM:+0000
TZOFFSETTO:+0100
TZNAME:BST
DTSTART:20240331T010000
END:DAYLIGHT
BEGIN:STANDARD
TZOFFSETFROM:+0100
TZOFFSETTO:+0000
TZNAME:GMT
DTSTART:20241027T010000
END:STANDARD
END:VTIMEZONE
BEGIN:VEVENT
DTSTART;TZID=Europe/London:20230511T190000
DTEND;TZID=Europe/London:20230511T230000
DTSTAMP:20260423T134109
CREATED:20230313T121749Z
LAST-MODIFIED:20230411T175010Z
UID:10194-1683831600-1683846000@supersonic-club.fr
SUMMARY:King Dude en concert au Supersonic Records !
DESCRIPTION:Après s’être mis au Black Metal (Book Of Black Earth) et au Hardcore (Teen Cthulhu)\, le natif de Seattle King Dude continue sa percée dans l’occultisme goth avec son projet Néo Folk fondé en 2006. \n \nPersona Grata & le Supersonic Records présentent…\nKing Dude en concert !\nTicket: https://link.dice.fm/f84b91d698e6 \nKing Dude est Thomas Jefferson Cowgill. Le natif de Seattle après s’être mis au Black Metal (Book Of Black Earth) et au Hardcore (Teen Cthulhu) continue sa percée dans l’occultisme goth avec son projet Néo Folk fondé en 2006. Au même titre que Cult Of Youth par exemple\, le musicien exécute ses chansons dans une dénuement sobre et profond\, mené de sa guitare et de ses incantations vocales. \nEcoutez:\nhttps://kingdude.bandcamp.com/ \nGrâce à des sorties sur Dais\, Avant !\, Bathetic\, Clan Destine et Ván records\, à un certain nombre de participations à des festivals de haut niveau et à un programme de tournée sans relâche – souvent aux côtés de groupes comme Ghost and Earth – le chanteur/compositeur à la langue argentée a trouvé un public mondial de plus en plus large avec lequel partager sa vision prophétique de l’espoir et du salut : une congrégation volontaire dont les voix élevées et les pieds qui tapent du pied transforment systématiquement ses concerts en révolutions de tentes lucifériennes.\n———————————\nJeudi 11 Mai 2023\n• Ouverture des portes à 19h\n• Bar sur place\n• Prévente à 18€ / Sur place: 22€\n———————————\nSupersonic Records\n9 rue Biscornet 75012 Paris\nMetro Bastille\nhttps://supersonic-records.fr/ \nTarifs : Billet : 18€ \nBilletteries : DICE
URL:http://supersonic-club.fr/event/king-dude-en-concert-au-supersonic-records/
LOCATION:Supersonic Records\, 9 Rue Biscornet\, Paris\, 75012\, France
CATEGORIES:Concert,KING DUDE,Pop / Rock / Folk,Sowprog,Supersonic Records
ATTACH;FMTTYPE=image/jpeg:http://supersonic-club.fr/wp-content/uploads/2023/03/namethumb_w600px_img_event_cb26a220-8477-4a04-af29-71b9110366e0-2.jpg
END:VEVENT
END:VCALENDAR