BEGIN:VCALENDAR
VERSION:2.0
PRODID:-//Supersonic - ECPv6.15.20//NONSGML v1.0//EN
CALSCALE:GREGORIAN
METHOD:PUBLISH
X-ORIGINAL-URL:http://supersonic-club.fr
X-WR-CALDESC:Évènements pour Supersonic
REFRESH-INTERVAL;VALUE=DURATION:PT1H
X-Robots-Tag:noindex
X-PUBLISHED-TTL:PT1H
BEGIN:VTIMEZONE
TZID:Europe/London
BEGIN:DAYLIGHT
TZOFFSETFROM:+0000
TZOFFSETTO:+0100
TZNAME:BST
DTSTART:20160327T010000
END:DAYLIGHT
BEGIN:STANDARD
TZOFFSETFROM:+0100
TZOFFSETTO:+0000
TZNAME:GMT
DTSTART:20161030T010000
END:STANDARD
BEGIN:DAYLIGHT
TZOFFSETFROM:+0000
TZOFFSETTO:+0100
TZNAME:BST
DTSTART:20170326T010000
END:DAYLIGHT
BEGIN:STANDARD
TZOFFSETFROM:+0100
TZOFFSETTO:+0000
TZNAME:GMT
DTSTART:20171029T010000
END:STANDARD
BEGIN:DAYLIGHT
TZOFFSETFROM:+0000
TZOFFSETTO:+0100
TZNAME:BST
DTSTART:20180325T010000
END:DAYLIGHT
BEGIN:STANDARD
TZOFFSETFROM:+0100
TZOFFSETTO:+0000
TZNAME:GMT
DTSTART:20181028T010000
END:STANDARD
END:VTIMEZONE
BEGIN:VEVENT
DTSTART;TZID=Europe/London:20170610T210000
DTEND;TZID=Europe/London:20170611T003000
DTSTAMP:20260425T195040
CREATED:20170422T145056Z
LAST-MODIFIED:20170422T145056Z
UID:1346-1497128400-1497141000@supersonic-club.fr
SUMMARY:Wintersleep • Joe Purdy // Supersonic - Free
DESCRIPTION:Play Two et le Supersonic présentent le #folkrock de Wintersleep\, en concert pour la première fois à Paris\, et seront accompagnés de Joe Purdy et sa traditional #folk américaine. \n \n→ WINTERSLEEP\n(Folk rock – Dine Alone Records – CAN) \nAprès avoir tourné avec Pearl Jam\, Broken Social Scene ou avoir joué en première partie de Paul McCartney\, Wintersleep sera en concert pour la première fois à Paris au Supersonic le samedi 10 juin. Le groupe canadien présentera « The Great Detachment » \, le nouvel album d’un groupe au carrefour du folk-rock et de la pop atmosphérique. \nLes 3 influences: Pearl Jam\, The Editors\, Broken Social Scene \n► Liker : https://www.facebook.com/wintersleep/\n► Ecouter: https://soundcloud.com/wintersleep\n► Regarder : https://youtu.be/bKJ8lszyj1w \n→ JOE PURDY\n(Fok rock – Mudtown Crier Records – USA) \nOriginaire de l’Arkansas\, Joe Purdy est un musicien hors du commun issu de la pure tradition folk américaine : Bob Dylan\, Pete Seeger ou encore Woody Guthrie. Ses chansons ont été utilisées dans les bandes originales de nombreux films et séries : Grey’s Anatomy\, Dr House\, Lost. \n► Liker : https://www.facebook.com/joepurdy/\n► Ecouter : https://soundcloud.com/joepurdy/people-what-will-you-do\n► Regarder : https://www.youtube.com/watch?v=2BvxTldf2ig \n+ GUEST \nTarifs : Gratuit
URL:http://supersonic-club.fr/event/wintersleep-%e2%80%a2-joe-purdy-supersonic-free/
LOCATION:SUPERSONIC\, 9 Rue Biscornet\, Paris\, 75012\, France
CATEGORIES:Concert,Joe Purdy,Pop / Rock / Folk,Wintersleep
ATTACH;FMTTYPE=image/jpeg:http://supersonic-club.fr/wp-content/uploads/2017/04/namethumb_w600px_img_event_13b3b153-78f1-4dd0-a93d-a0248361d5c6.jpg
END:VEVENT
END:VCALENDAR