BEGIN:VCALENDAR
VERSION:2.0
PRODID:-//Supersonic - ECPv6.15.20//NONSGML v1.0//EN
CALSCALE:GREGORIAN
METHOD:PUBLISH
X-ORIGINAL-URL:http://supersonic-club.fr
X-WR-CALDESC:Évènements pour Supersonic
REFRESH-INTERVAL;VALUE=DURATION:PT1H
X-Robots-Tag:noindex
X-PUBLISHED-TTL:PT1H
BEGIN:VTIMEZONE
TZID:Europe/London
BEGIN:DAYLIGHT
TZOFFSETFROM:+0000
TZOFFSETTO:+0100
TZNAME:BST
DTSTART:20220327T010000
END:DAYLIGHT
BEGIN:STANDARD
TZOFFSETFROM:+0100
TZOFFSETTO:+0000
TZNAME:GMT
DTSTART:20221030T010000
END:STANDARD
BEGIN:DAYLIGHT
TZOFFSETFROM:+0000
TZOFFSETTO:+0100
TZNAME:BST
DTSTART:20230326T010000
END:DAYLIGHT
BEGIN:STANDARD
TZOFFSETFROM:+0100
TZOFFSETTO:+0000
TZNAME:GMT
DTSTART:20231029T010000
END:STANDARD
BEGIN:DAYLIGHT
TZOFFSETFROM:+0000
TZOFFSETTO:+0100
TZNAME:BST
DTSTART:20240331T010000
END:DAYLIGHT
BEGIN:STANDARD
TZOFFSETFROM:+0100
TZOFFSETTO:+0000
TZNAME:GMT
DTSTART:20241027T010000
END:STANDARD
END:VTIMEZONE
BEGIN:VEVENT
DTSTART;TZID=Europe/London:20230313T190000
DTEND;TZID=Europe/London:20230313T230000
DTSTAMP:20260419T221759
CREATED:20230116T115233Z
LAST-MODIFIED:20230123T180929Z
UID:9667-1678734000-1678748400@supersonic-club.fr
SUMMARY:Hoover III • Venin Carmin • Jen / Supersonic (Free entry)
DESCRIPTION:WELCOME TO SUPERSONIC\nConcerts gratuits\, Nuits rock et Disquaire à Paris ! \n \nHOOVER III\n(Space rock – Los Angeles\, USA)\nVoici le nouvel astéroïde space rock garage de Los Angeles ! Pour ceux qui ne sont pas familiers avec Hoover III\, l’ambiance est celle d’un groupe de rock spatial psychédélique entraînant\, avec suffisamment de travail à double guitares pour vous percher bien haut.\nDès la première écoute\, vous aurez ce tourbillon de riffs encré dans le crâne et ces mélodies vous emmèneront sans relâchement vers un mur du son spatial et fuzz ! Après un album éponyme en 2018\, Hoover III sort le single « Fhantom / I Dream of Mark Lee » l’année d’après\, toujours sur Permanent Records. En avril dernier sortait « Water for the Frogs »\, deuxième album du groupe très prometteur\, aussi intense que revitalisant !\nRécemment\, Hoover III vient d’annoncer un nouvel album « A Round of Applause »\, qui sortira en juillet prochain\, toujours sur le label The Reverberation Appreciation Society.\nLe groupe californien a déjà partagé la scène avec les Oh Sees\, Kikagaku Moyo\, Fuzz\, ORB ou encore Acid Mothers Temple.\nhttps://hooveriii.bandcamp.com/\nhttps://www.youtube.com/watch?v=OLMaso5CIbQ \nVENIN CARMIN\n(Schwarzpop – Lyon\, FR)\nBiberonné à l’underground 80’s le plus total mais ne cachant pas son béguin pour la pop\, Venin Carmin délivre une Coldpop\, sans concession\, un darkpunk sans détour\, comme le feraient une Cindy Lauper dépressive et une Madonna suicidaire.\nProduit de l’imaginaire déviant de Lula\, Venin Carmin\, s’anime sous la forme d’un duo avec la venue de Valentine aux machines.\nNe reculant devant rien\, la jeune créature à deux têtes a déjà parcouru les scènes européennes (et même plus avec une tournée au Japon à leur tout débuts en 2017) et enchaîné les premières parties prestigieuses (Boy Harsher\, Soft Kill\, She past away\, Rendez-vous\, Belgrado\, Frustration\, Jeanne Added).\nVenin Carmin\, c’est un bonbon au poison terriblement addictif.\nhttps://venincarmin.bandcamp.com\nhttps://www.youtube.com/watch?v=w9NLpw8Zmxk&feature=youtu.be \nJEN\n(Shoegaze – À la dérive Records – Paris\, FR)\nTrio originaire de Paris\, JEN publie en 2020 son premier EP\, « Vœu pieux » : quatre titres hésitants entre un shoegaze doux et introspectif\, un noise rock violent et un post-rock DIY plus expérimental.\nhttps://jenmusic.bandcamp.com/\n———————————\nLundi 13 Mars 2022\nEntrée gratuite\n• Ouverture des portes à 19h00\n• Happy Hour de 19h à 20h (3€50 la pinte)\n• Si vous êtes témoin ou victime d’une agression\, vous pouvez alerter le personnel du bar ou si vous préférez\, vous pouvez nous écrire à cette adresse: communication@supersonic-paris.fr\n———————————\nSUPERSONIC\n9 rue Biscornet\, 75012 Paris\nMétro Bastille (sortie rue de lyon) \nTarifs : Gratuit
URL:http://supersonic-club.fr/event/hoover-iii-venin-carmin-supersonic-free-entry/
LOCATION:SUPERSONIC\, 9 Rue Biscornet\, Paris\, 75012\, France
CATEGORIES:Concert,Hoover III,Jen,Pop / Rock / Folk,Sowprog,SUPERSONIC,Venin Carmin
ATTACH;FMTTYPE=image/jpeg:http://supersonic-club.fr/wp-content/uploads/2023/01/namethumb_w600px_img_event_8461e290-5fc6-4038-9956-fb18df3245d5-1.jpg
END:VEVENT
END:VCALENDAR