BEGIN:VCALENDAR
VERSION:2.0
PRODID:-//Supersonic - ECPv6.15.20//NONSGML v1.0//EN
CALSCALE:GREGORIAN
METHOD:PUBLISH
X-ORIGINAL-URL:http://supersonic-club.fr
X-WR-CALDESC:Évènements pour Supersonic
REFRESH-INTERVAL;VALUE=DURATION:PT1H
X-Robots-Tag:noindex
X-PUBLISHED-TTL:PT1H
BEGIN:VTIMEZONE
TZID:Europe/London
BEGIN:DAYLIGHT
TZOFFSETFROM:+0000
TZOFFSETTO:+0100
TZNAME:BST
DTSTART:20220327T010000
END:DAYLIGHT
BEGIN:STANDARD
TZOFFSETFROM:+0100
TZOFFSETTO:+0000
TZNAME:GMT
DTSTART:20221030T010000
END:STANDARD
BEGIN:DAYLIGHT
TZOFFSETFROM:+0000
TZOFFSETTO:+0100
TZNAME:BST
DTSTART:20230326T010000
END:DAYLIGHT
BEGIN:STANDARD
TZOFFSETFROM:+0100
TZOFFSETTO:+0000
TZNAME:GMT
DTSTART:20231029T010000
END:STANDARD
BEGIN:DAYLIGHT
TZOFFSETFROM:+0000
TZOFFSETTO:+0100
TZNAME:BST
DTSTART:20240331T010000
END:DAYLIGHT
BEGIN:STANDARD
TZOFFSETFROM:+0100
TZOFFSETTO:+0000
TZNAME:GMT
DTSTART:20241027T010000
END:STANDARD
END:VTIMEZONE
BEGIN:VEVENT
DTSTART;TZID=Europe/London:20230802T190000
DTEND;TZID=Europe/London:20230802T230000
DTSTAMP:20260419T162245
CREATED:20230523T121353Z
LAST-MODIFIED:20230728T170254Z
UID:10736-1691002800-1691017200@supersonic-club.fr
SUMMARY:Wrest • Ishinpy • Jim Wilson / Supersonic / (Free entry)
DESCRIPTION:Si tu aimes Snow Patrol\, The National & The Twilight Sad\, tu aimeras cette soirée ! \n \nWREST\n(Indie rock – Édimbourg\, UK)\nAfter sold-out shows at iconic venues in Glasgow and Edinburgh and sold-out dates in Germany in 2022\, wrest return for their biggest headline tour so far – poetic indie rock with heart and mind as well as an unmistakable\, Scottish touch.\nFollowing the acclaimed 2019 self-released debut album ‘Coward of Us All’ (BBC Radio Rapal Album of the Week\, Best Scottish Album 2019 – Scots What Hae)\, wrest have quickly secured a place as one of Scotland’s most popular emerging bands.\nPoetic lyricism and soaring guitars meet in songs that combine crafted songwriting with heartfelt Edinburgh indie rock\, reminiscent of bands like Frightened Rabbit\, Snow Patrol\, The National\, We Were Promised Jetpacks and Idlewild. Sold-out headline shows at La Belle Angele (Edinburgh) and Oran Mor (Glasgow) saw wrest step up as one of the country’s leading new live acts.\nA cult following across Scotland\, the UK\, Europe and beyond has seen the band become a best-kept secret in indie rock circles\, with the release of 2022 follow up album End All The Days widely winning critical plaudits and new fans alike.\nA run of sold out headline shows saw the band reach new audiences in the UK and Germany in 2022\, with sold out shows in Hamburg and Berlin on the debut German tour adding to a string of busy dates at home.\nWith new music on the horizon and an ever-growing profile in Scotland and beyond\, wrest stand poised for bigger stages\, as one of Scotland’s most promising independent breakthrough acts.\nhttps://wrest.bandcamp.com/\nhttps://www.youtube.com/watch?v=7vy1RtcBoKw \nISHINPY\n(Rock alternatif – Paris\, FR)\nFrench Band of Alternative Music\nhttps://www.youtube.com/watch?v=8V5_eLaJ9JY \nLa suite de la programmation arrive très vite !\n———————————\nMercredi 2 Août 2023\nEntrée gratuite\n• Ouverture des portes à 19h00\n• Happy Hour de 19h à 20h (3€50 la pinte)\n• Si vous êtes témoin ou victime d’une agression\, vous pouvez alerter le personnel du bar ou si vous préférez\, vous pouvez nous écrire à cette adresse: communication@supersonic-paris.fr\n———————————\nSUPERSONIC\n9 rue Biscornet\, 75012 Paris\nMétro Bastille (sortie rue de lyon) \nTarifs : Gratuit
URL:http://supersonic-club.fr/event/wrest-ishinpy-supersonic-free-entry/
LOCATION:SUPERSONIC\, 9 Rue Biscornet\, Paris\, 75012\, France
CATEGORIES:Concert,Ishinpy,Pop / Rock / Folk,Sowprog,SUPERSONIC,Wrest
ATTACH;FMTTYPE=image/jpeg:http://supersonic-club.fr/wp-content/uploads/2023/05/namethumb_w600px_img_event_627491ea-4d0e-451f-ad53-6cf0bef32066-2.jpg
END:VEVENT
END:VCALENDAR