BEGIN:VCALENDAR
VERSION:2.0
PRODID:-//Supersonic - ECPv6.15.20//NONSGML v1.0//EN
CALSCALE:GREGORIAN
METHOD:PUBLISH
X-WR-CALNAME:Supersonic
X-ORIGINAL-URL:http://supersonic-club.fr
X-WR-CALDESC:Évènements pour Supersonic
REFRESH-INTERVAL;VALUE=DURATION:PT1H
X-Robots-Tag:noindex
X-PUBLISHED-TTL:PT1H
BEGIN:VTIMEZONE
TZID:Europe/London
BEGIN:DAYLIGHT
TZOFFSETFROM:+0000
TZOFFSETTO:+0100
TZNAME:BST
DTSTART:20170326T010000
END:DAYLIGHT
BEGIN:STANDARD
TZOFFSETFROM:+0100
TZOFFSETTO:+0000
TZNAME:GMT
DTSTART:20171029T010000
END:STANDARD
BEGIN:DAYLIGHT
TZOFFSETFROM:+0000
TZOFFSETTO:+0100
TZNAME:BST
DTSTART:20180325T010000
END:DAYLIGHT
BEGIN:STANDARD
TZOFFSETFROM:+0100
TZOFFSETTO:+0000
TZNAME:GMT
DTSTART:20181028T010000
END:STANDARD
BEGIN:DAYLIGHT
TZOFFSETFROM:+0000
TZOFFSETTO:+0100
TZNAME:BST
DTSTART:20190331T010000
END:DAYLIGHT
BEGIN:STANDARD
TZOFFSETFROM:+0100
TZOFFSETTO:+0000
TZNAME:GMT
DTSTART:20191027T010000
END:STANDARD
END:VTIMEZONE
BEGIN:VEVENT
DTSTART;TZID=Europe/London:20180303T200000
DTEND;TZID=Europe/London:20180303T233000
DTSTAMP:20260420T031656
CREATED:20180212T160935Z
LAST-MODIFIED:20180212T160935Z
UID:2572-1520107200-1520119800@supersonic-club.fr
SUMMARY:Télescope #7 — Lulu Van Trapp • Hi Dive • Abraham Murder
DESCRIPTION:▬ Le Supersonic présente ▬ \n \n▬▬▬ ENTREE LIBRE JUSQU’A 23H ▬▬▬▬▬▬▬▬▬▬▬▬ \nLe Télescope présente… \n→ Lulu Van Trapp\n(Psych Pop – Paris) \nCousin germain de La Mouche\, ce curieux petit animal d’un autre âge aime jouer du synthé déguisé en cowboy et couvert de paillettes. Côté musique\, ça se passe entre la musique hawaïenne\, la trap\, et la pop psychédélique \n► Liker: https://www.facebook.com/profile.php?id=100010687213220\n► Ecouter : https://www.youtube.com/watch?v=5iYFTrm62Go \n→ Hi Dive\n(Psych Fuzz – Praise the Fuzz – Paris) \n« Praise the Fuzz ! Héritiers de la scène garage californienne et amoureux de surf music sous acides\, ce quatuor balance avec leur premier EP un son enregistré sur d’originales bandes 60’s : grand bain de reverb au menu !» \n► Liker: https://www.facebook.com/hidivemusic/\n► Ecouter : https://hi-dive.bandcamp.com/releases\n► Regarder : https://www.youtube.com/watch?v=U0XAb_7Ao-o \n→ Abraham Murder\n(Cold Pop Crooner – Winslow Records – Lyon) \n«Abraham Murder est le projet Cold-Pop de l’artiste multimédia Igor Keltchewsky. Existant depuis 2014\, Abraham Murder s’aborde comme un concept proteiformes dont chaque partie (musique\, animations\, jeux vidéos\, expositions…) peut s’envisager aussi bien dans son individualité que comme un ensemble cohérent et insécable. Tout autant influencé par les bricolages artisanaux d’un Beck en auto-gestion que par les éclats rétro-futuristes des synthétiseurs analogiques\, le Lyonnais d’adoption évolue entre « crooning » désabusé et sophistication robotique.» \n► Liker: https://www.facebook.com/Abemurdr/\n► Ecouter : https://abraham-murder.bandcamp.com/album/scarlet-distance\n► Regarder : https://www.youtube.com/watch?v=uDVMC9cwvUo&t=16s \nArtwork : Claire Barrow http://ciraletabular.tumblr.com/  \n▬▬▬ INFOS PRATIQUES ▬▬▬▬▬▬▬▬▬▬▬ \nSamedi 3 Mars 2018\nEntrée gratuite jusqu’à 23h \n– Ouverture des portes à 18h30\n– Début des concerts vers 20h\n– Happy Hour de 18h30 à 20h (3€50 la pinte)\n– Hot Dog au bar \n▬▬▬▬▬▬▬▬▬▬▬▬▬▬▬▬▬▬▬▬▬▬▬ \nSUPERSONIC\n9 rue Biscornet\, 75012 Paris\nMétro Bastille (sortie rue de lyon)\nhttp://supersonic-club.fr/\nInscription à la newsletter du Supersonic: http://bit.ly/1lWTnx4 \nTarifs : Gratuit
URL:http://supersonic-club.fr/event/telescope-7-lulu-van-trapp-%e2%80%a2-hi-dive-%e2%80%a2-abraham-murder/
LOCATION:SUPERSONIC\, 9 Rue Biscornet\, Paris\, 75012\, France
CATEGORIES:Abraham Murder,Concert,HI DIVE,Lulu Van Trapp,Pop / Rock / Folk
ATTACH;FMTTYPE=image/jpeg:http://supersonic-club.fr/wp-content/uploads/2018/02/namethumb_w600px_img_event_d8c804fd-72e5-400b-8db9-e1937b003a60.jpg
END:VEVENT
END:VCALENDAR