BEGIN:VCALENDAR
VERSION:2.0
PRODID:-//Supersonic - ECPv6.15.20//NONSGML v1.0//EN
CALSCALE:GREGORIAN
METHOD:PUBLISH
X-WR-CALNAME:Supersonic
X-ORIGINAL-URL:http://supersonic-club.fr
X-WR-CALDESC:Évènements pour Supersonic
REFRESH-INTERVAL;VALUE=DURATION:PT1H
X-Robots-Tag:noindex
X-PUBLISHED-TTL:PT1H
BEGIN:VTIMEZONE
TZID:Europe/London
BEGIN:DAYLIGHT
TZOFFSETFROM:+0000
TZOFFSETTO:+0100
TZNAME:BST
DTSTART:20170326T010000
END:DAYLIGHT
BEGIN:STANDARD
TZOFFSETFROM:+0100
TZOFFSETTO:+0000
TZNAME:GMT
DTSTART:20171029T010000
END:STANDARD
BEGIN:DAYLIGHT
TZOFFSETFROM:+0000
TZOFFSETTO:+0100
TZNAME:BST
DTSTART:20180325T010000
END:DAYLIGHT
BEGIN:STANDARD
TZOFFSETFROM:+0100
TZOFFSETTO:+0000
TZNAME:GMT
DTSTART:20181028T010000
END:STANDARD
BEGIN:DAYLIGHT
TZOFFSETFROM:+0000
TZOFFSETTO:+0100
TZNAME:BST
DTSTART:20190331T010000
END:DAYLIGHT
BEGIN:STANDARD
TZOFFSETFROM:+0100
TZOFFSETTO:+0000
TZNAME:GMT
DTSTART:20191027T010000
END:STANDARD
END:VTIMEZONE
BEGIN:VEVENT
DTSTART;TZID=Europe/London:20181006T210000
DTEND;TZID=Europe/London:20181007T003000
DTSTAMP:20260420T023353
CREATED:20180516T132444Z
LAST-MODIFIED:20180913T111247Z
UID:2881-1538859600-1538872200@supersonic-club.fr
SUMMARY:TurboParis Party #3 - Cannibal Mosquitos • Hellbats • Whacks
DESCRIPTION:  \nDans le cadre de la TurboParis Party #3 – Prince of the Metro\, les Turbojugend Paris FTW et TNA sont trempés d’excitation à l’idée de vous accueillir au Supersonic pour une soirée endiablée ! \nCannibal Mosquitos\n(Sur rock)\n**************************************\nSuite à un problème personnel Zéro Zéro ont été contraint d’annuler leur venue. En compensation nous aurons les Cannibal Mosquitos qui nous balancerons leur Surf-Rock en pleine poire!\nA écouter par ici: https://ihatezerozero.bandcamp.com/ \nThe Hellbats !\n(Death Heavy-rock / Montbéliard)\n***********************************\n(ou Chauve-Souris de l’Enfer d’après les recommandations de\nl’Académie)\nVenus de l’Est de la France\, le mythique trio viendra déverser son heavy-rock dans vos oreilles de death twisters. Prenez du déo et des petites lingettes\, transpiration garantie. Bagarre probable\, prévoyez aussi un dentier.\nA écouter par ici: https://hellbats.bandcamp.com/ \nThe Whacks !\n(Death Garage / Paris)\n****************************\nIls devaient venir l’année dernière\, mais ont dû annuler parce qu’ils faisaient un détour à l’hosto où ils réparaient quelques membres victimes de la pratique sauvage de la planche à roulettes en milieu urbain\, et ils sont bien décidés à prendre leur revanche cette année en cassant tout (décidément).\nA écouter par ici https://thewhacks.bandcamp.com/ \nGratuit avant 23h puis 5€ \nPlus d’infos sur la TurboParis Party #3: https://www.facebook.com/events/1569380309765269/ \nTarifs : Gratuit
URL:http://supersonic-club.fr/event/turboparis-party-3-zero-zero-%e2%80%a2-hellbats-%e2%80%a2-whacks/
LOCATION:SUPERSONIC\, 9 Rue Biscornet\, Paris\, 75012\, France
CATEGORIES:Concert,Hellbats,Pop / Rock / Folk,Whacks,Zero Zero
ATTACH;FMTTYPE=image/jpeg:http://supersonic-club.fr/wp-content/uploads/2018/05/41719279_1956323044667781_3641134829572980736_n.jpg
END:VEVENT
END:VCALENDAR