BEGIN:VCALENDAR
VERSION:2.0
PRODID:-//Supersonic - ECPv6.15.20//NONSGML v1.0//EN
CALSCALE:GREGORIAN
METHOD:PUBLISH
X-WR-CALNAME:Supersonic
X-ORIGINAL-URL:http://supersonic-club.fr
X-WR-CALDESC:Évènements pour Supersonic
REFRESH-INTERVAL;VALUE=DURATION:PT1H
X-Robots-Tag:noindex
X-PUBLISHED-TTL:PT1H
BEGIN:VTIMEZONE
TZID:Europe/London
BEGIN:DAYLIGHT
TZOFFSETFROM:+0000
TZOFFSETTO:+0100
TZNAME:BST
DTSTART:20220327T010000
END:DAYLIGHT
BEGIN:STANDARD
TZOFFSETFROM:+0100
TZOFFSETTO:+0000
TZNAME:GMT
DTSTART:20221030T010000
END:STANDARD
BEGIN:DAYLIGHT
TZOFFSETFROM:+0000
TZOFFSETTO:+0100
TZNAME:BST
DTSTART:20230326T010000
END:DAYLIGHT
BEGIN:STANDARD
TZOFFSETFROM:+0100
TZOFFSETTO:+0000
TZNAME:GMT
DTSTART:20231029T010000
END:STANDARD
BEGIN:DAYLIGHT
TZOFFSETFROM:+0000
TZOFFSETTO:+0100
TZNAME:BST
DTSTART:20240331T010000
END:DAYLIGHT
BEGIN:STANDARD
TZOFFSETFROM:+0100
TZOFFSETTO:+0000
TZNAME:GMT
DTSTART:20241027T010000
END:STANDARD
END:VTIMEZONE
BEGIN:VEVENT
DTSTART;TZID=Europe/London:20230203T190000
DTEND;TZID=Europe/London:20230203T231000
DTSTAMP:20260424T031642
CREATED:20230110T155814Z
LAST-MODIFIED:20230110T155814Z
UID:9641-1675450800-1675465800@supersonic-club.fr
SUMMARY:Beige Banquet • Hallan • Chester Remington / Supersonic (Free entry)
DESCRIPTION:Les 7 ans du Supersonic ! \n \nBEIGE BANQUET\n(Weirdo punk – Swish Swash records – Londres\, UK)\nBeige Banquet\, c’est le nouveau projet Tom Brierley du groupe PKNN\, basé à Londres. Du post-punk tendu aux guitares acérées\, soutenues par une basse et boite à rythme hypnotiques. La courte discographie du jeune groupe (un album\, un EP) impressionne déjà et on a bien hâte de voir ce que ça donne sur scène !\nhttps://beigebanquet.bandcamp.com/album/s-t\nhttps://youtu.be/TpIw7jjfAlE \nHALLAN\n(Post punk – Portsmouth\, UK)\nHallan est un groupe basé à Portsmouth qui écrit et répète dans une fortification du 18ème siècle construite sur le flanc d’une colline et entourée d’une forêt. C’est dans cet environnement dramatique que le leader Conor Clements canalise les frustrations\, les insécurités et les événements du début de l’âge adulte dans ses textes\, qui sont parsemés de poésie d’observation et de messages rassurants sur le fait que vous n’êtes pas seul dans ce monde écrasant.\nLe groupe puise ses influences dans les personnes qu’il croise tous les jours – dans les allées de supermarché\, sur votre fil d’actualité Facebook\, chez vos voisins\, Hallan observe et commente la vie britannique à travers une vision sombre de l’avenir influencée par Orwell\, le style cut-up de Burroughs\, et autres membres de la beat generation.\nhttps://soundcloud.com/hallanuk\nhttps://www.youtube.com/channel/UCnteT-fSfh8j-xncvH8-JXA \nCHESTER REMINGTON\n(Psych grunge – Le Cèpe Records – Reims\, FR)\nFusée sonore venue de Reims\, Chester Remington joue un rock kaléidoscopique qui n’appartient qu’à lui. Aussi bien influencé par la British Pop des 60’s\, le Grunge US 90’s ainsi que par le Garage ensorcelé Australien\, le groupe a sorti en 2021 une poignée de titres re- marqués. Porté par des concerts qui marquent les esprits\, le ciré jaune s’apprête à déferler sur 2023. Préparez-vous car vous n’avez pas fini d’en entendre parler.\nhttps://leceperecords.bandcamp.com/album/doldrums\nhttps://www.youtube.com/watch?v=FHtU3PTrJBE\n———————————\nVendredi 3 Février 2023\nEntrée gratuite\n• Ouverture des portes à 19h00\n• Happy Hour de 19h à 20h (3€50 la pinte)\n———————————\nSUPERSONIC\n9 rue Biscornet\, 75012 Paris\nMétro Bastille (sortie rue de lyon) \nTarifs : Gratuit
URL:http://supersonic-club.fr/event/beige-banquet-hallan-chester-remington-supersonic-free-entry/
LOCATION:SUPERSONIC\, 9 Rue Biscornet\, Paris\, 75012\, France
CATEGORIES:Beige Banquet,CHESTER REMINGTON,Concert,Hallan,Pop / Rock / Folk,Sowprog,SUPERSONIC,Supersonic Paris,Supersonic Productions
ATTACH;FMTTYPE=image/jpeg:http://supersonic-club.fr/wp-content/uploads/2023/01/namethumb_w600px_img_event_087e8402-f9f4-484d-b008-e3690641baaf.jpg
END:VEVENT
END:VCALENDAR