BEGIN:VCALENDAR
VERSION:2.0
PRODID:-//Supersonic - ECPv6.15.20//NONSGML v1.0//EN
CALSCALE:GREGORIAN
METHOD:PUBLISH
X-WR-CALNAME:Supersonic
X-ORIGINAL-URL:http://supersonic-club.fr
X-WR-CALDESC:Évènements pour Supersonic
REFRESH-INTERVAL;VALUE=DURATION:PT1H
X-Robots-Tag:noindex
X-PUBLISHED-TTL:PT1H
BEGIN:VTIMEZONE
TZID:Europe/London
BEGIN:DAYLIGHT
TZOFFSETFROM:+0000
TZOFFSETTO:+0100
TZNAME:BST
DTSTART:20220327T010000
END:DAYLIGHT
BEGIN:STANDARD
TZOFFSETFROM:+0100
TZOFFSETTO:+0000
TZNAME:GMT
DTSTART:20221030T010000
END:STANDARD
BEGIN:DAYLIGHT
TZOFFSETFROM:+0000
TZOFFSETTO:+0100
TZNAME:BST
DTSTART:20230326T010000
END:DAYLIGHT
BEGIN:STANDARD
TZOFFSETFROM:+0100
TZOFFSETTO:+0000
TZNAME:GMT
DTSTART:20231029T010000
END:STANDARD
BEGIN:DAYLIGHT
TZOFFSETFROM:+0000
TZOFFSETTO:+0100
TZNAME:BST
DTSTART:20240331T010000
END:DAYLIGHT
BEGIN:STANDARD
TZOFFSETFROM:+0100
TZOFFSETTO:+0000
TZNAME:GMT
DTSTART:20241027T010000
END:STANDARD
END:VTIMEZONE
BEGIN:VEVENT
DTSTART;TZID=Europe/London:20231104T190000
DTEND;TZID=Europe/London:20231104T230000
DTSTAMP:20260423T151308
CREATED:20230830T181344Z
LAST-MODIFIED:20231011T130316Z
UID:11505-1699124400-1699138800@supersonic-club.fr
SUMMARY:Gnome • High On Wheels • Qilin / Supersonic (Free entry)
DESCRIPTION:WELCOME TO SUPERSONIC\nConcerts gratuits\, et nuits rock à Paris ! \n \nGNOME\n(Rock – Polderrecords – Antwerp\, BEL)\nGnome packs a bigger punch than their name suggests: combining irresistible hooks and thundering guitars\, drums and bass with adventurous twists\, they brew their unique and ultimately satisfying potion of stoner\, prog and hardrock.\nAfter the success of 2018 debut ‘Father of Time’\, which demonstrates their knack for stacking riffs like lego bricks\, and having conquered stages across Europe with their shin-kicking live sets\, the power trio from Antwerp raise the bar with their majestic second outing ‘King’.\nThey sound bigger and heavier with more vocals (including special guest Oskar Logi from The Vintage Caravan) but never losing sight of the quest for the golden riff.\nhttps://gnome.bandcamp.com/album/king\nhttps://www.youtube.com/watch?v=LzG-qji05Lc \nHIGH ON WHEELS\n(Stoner desert rock – Klonosphere – Paris/Lyon\, FR)\nHigh on Wheels propose un stoner brut qui brûle comme un soleil étrange sur une autoroute martienne. En 2020\, ils enregistrent « Fuzzmovies » : leur musique vous emmènera dans un vieux cinéma\, un « grindhouse » où leur rock lourd et psychédélique rencontre des samples de films de séries Z.\nFrench power trio working the fuzz since 2014\, their rough music burns like twin suns on a martian highway… In 2020\, they recorded their latest LP: « Fuzzmovies ». Their music will guide you in a old « grindhouse » theatre\, where heavy psychedelic rock meet samples of Z movies.\nhttps://highonwheels.bandcamp.com/album/fuzzmovies\nhttps://www.youtube.com/watch?v=WOzJuqCn0L0 \nQILIN\n(Stoner doom – Paris\, FR)\nStoner/Doom qui en quelques temps à peine s’est rapidement fait connaître en parvenant à la seule force des instruments à instiller un mélange de genre harmonieux\, riche et lourd.\nLe quatuor développe en permanence son ambiance fuzz chaloupé. Préparez vous à un trip à travers les canyons tout en oscillations pachydermiques mais grâcieuses !\nhttps://qilin.bandcamp.com/\nhttps://www.youtube.com/watch?v=kwQAjf3b9SQ\n———————————\nSamedi 4 Novembre 2023\nEntrée gratuite\n• Ouverture des portes à 19h00\n• Happy Hour de 19h à 20h\n• Si vous êtes témoin ou victime d’une agression\, vous pouvez alerter le personnel du bar ou si vous préférez\, vous pouvez nous écrire à cette adresse: communication@supersonic-paris.fr\n———————————\nSUPERSONIC\n9 rue Biscornet\, 75012 Paris\nMétro Bastille (sortie rue de lyon) \nTarifs : Gratuit
URL:http://supersonic-club.fr/event/gnome-high-on-wheels-qilin-supersonic-free-entry/
LOCATION:SUPERSONIC\, 9 Rue Biscornet\, Paris\, 75012\, France
CATEGORIES:Concert,Gnome,High On Wheels,Pop / Rock / Folk,Qilin,Sowprog,SUPERSONIC,Supersonic Productions
ATTACH;FMTTYPE=image/jpeg:http://supersonic-club.fr/wp-content/uploads/2023/08/namethumb_w600px_img_event_e76cfbff-067a-404e-a636-222a877b9fa2-1.jpg
END:VEVENT
END:VCALENDAR