BEGIN:VCALENDAR
VERSION:2.0
PRODID:-//Supersonic - ECPv6.15.20//NONSGML v1.0//EN
CALSCALE:GREGORIAN
METHOD:PUBLISH
X-WR-CALNAME:Supersonic
X-ORIGINAL-URL:http://supersonic-club.fr
X-WR-CALDESC:Évènements pour Supersonic
REFRESH-INTERVAL;VALUE=DURATION:PT1H
X-Robots-Tag:noindex
X-PUBLISHED-TTL:PT1H
BEGIN:VTIMEZONE
TZID:Europe/London
BEGIN:DAYLIGHT
TZOFFSETFROM:+0000
TZOFFSETTO:+0100
TZNAME:BST
DTSTART:20170326T010000
END:DAYLIGHT
BEGIN:STANDARD
TZOFFSETFROM:+0100
TZOFFSETTO:+0000
TZNAME:GMT
DTSTART:20171029T010000
END:STANDARD
BEGIN:DAYLIGHT
TZOFFSETFROM:+0000
TZOFFSETTO:+0100
TZNAME:BST
DTSTART:20180325T010000
END:DAYLIGHT
BEGIN:STANDARD
TZOFFSETFROM:+0100
TZOFFSETTO:+0000
TZNAME:GMT
DTSTART:20181028T010000
END:STANDARD
BEGIN:DAYLIGHT
TZOFFSETFROM:+0000
TZOFFSETTO:+0100
TZNAME:BST
DTSTART:20190331T010000
END:DAYLIGHT
BEGIN:STANDARD
TZOFFSETFROM:+0100
TZOFFSETTO:+0000
TZNAME:GMT
DTSTART:20191027T010000
END:STANDARD
END:VTIMEZONE
BEGIN:VEVENT
DTSTART;TZID=Europe/London:20181003T210000
DTEND;TZID=Europe/London:20181004T003000
DTSTAMP:20260420T082046
CREATED:20180925T111744Z
LAST-MODIFIED:20181002T145138Z
UID:3432-1538600400-1538613000@supersonic-club.fr
SUMMARY:John Moods (Fenster) • Filago • Neon Flake / Supersonic - Free
DESCRIPTION:▬ Le Supersonic présente ▬ \n \n▬▬▬ ENTREE LIBRE ▬▬▬▬ \n→ JOHN MOODS\n(Indie – Mansions and Millions – Berlin\, DE) \nJohn Moods est le projet solo de Jonathan Jarzyna du groupe indie pop berlinois Fenster. Son 1er album « The Essential John Moods » est sorti le 20 Avril 2018 sur Mansions and Millions\, label de Better Person\, Magic Island… \nLe single «Take it Home» est un featuring avec Sean Nicholas Savage à découvrir ici: https://www.youtube.com/watch?v=-ATGebDPA5o \n► Liker : https://www.facebook.com/thejohnmoods/\n► Ecouter : https://soundcloud.com/johnmoods \n→ FILAGO\n(Indie Rock Kraut Pop – Lilystars Records\, Iki Records – Paris\,FR) \n«C’est au travers d’influences comme #TalkTalk\, #NickCave\, #ConnanMockasin ou encore #ErikSatie que Filago signe son nouveau long format.\nAvec « Dance Ordinaire »\, le trio parisien explore des sonorités sinueuses où le maniement du détail est omniprésent. Contée par la voix d’un personnage interlope\, on y entend les chroniques d’une marginalité enchanteresse.» \n► Liker : https://www.facebook.com/filagotheband/\n► Ecouter : https://www.youtube.com/watch?v=2lGv_0PbWj4 \n→ NEON FLAKE\n(Baroque Pop – Paris) \n«Avec sa pop hybride\, Neon Flake réchauffe de sa voix pleine et vibrante des beats électroniques aux ambiances éthérées. Sur scène et accompagné de ses machines\, il dresse un pont entre art lyrique et pop synthétique\, entre rituel chamanique et techno. Comme une pop sacrée moderne.» \nLes 3 influences: Björk\, Dead Can Dance\, Kate Bush \n► Liker : https://www.facebook.com/neonflakemusic/\n► Regarder : https://www.youtube.com/watch?v=JNu2GNc3XI8 \n▬▬▬ INFOS PRATIQUES ▬▬▬ \nMercredi 3 Octobre 2018\nEntrée gratuite  \n– Ouverture des portes à 18h30\n– Début des concerts vers 20h\n– Happy Hour de 18h30 à 20h (3€50 la pinte)\n– Hot Dog au bar \n▬▬▬▬▬▬▬▬▬▬▬▬▬▬▬▬▬▬▬▬▬▬▬ \nSUPERSONIC\n9 rue Biscornet\, 75012 Paris\nMétro Bastille (sortie rue de lyon)\nhttp://supersonic-club.fr/\nInscription à la newsletter du Supersonic: http://bit.ly/1lWTnx4 \nTarifs : Gratuit
URL:http://supersonic-club.fr/event/john-moods-indie-pop-mansions-and-millions-en-concert-a-paris/
LOCATION:SUPERSONIC\, 9 Rue Biscornet\, Paris\, 75012\, France
CATEGORIES:Concert,Filago,John Moods,Neon Flake,Pop / Rock / Folk
ATTACH;FMTTYPE=image/jpeg:http://supersonic-club.fr/wp-content/uploads/2018/09/namethumb_w600px_img_event_e8b599e9-8e57-4fe4-9146-f3aef6cefc3a-2.jpg
END:VEVENT
END:VCALENDAR