BEGIN:VCALENDAR
VERSION:2.0
PRODID:-//Supersonic - ECPv6.15.20//NONSGML v1.0//EN
CALSCALE:GREGORIAN
METHOD:PUBLISH
X-WR-CALNAME:Supersonic
X-ORIGINAL-URL:http://supersonic-club.fr
X-WR-CALDESC:Évènements pour Supersonic
REFRESH-INTERVAL;VALUE=DURATION:PT1H
X-Robots-Tag:noindex
X-PUBLISHED-TTL:PT1H
BEGIN:VTIMEZONE
TZID:Europe/London
BEGIN:DAYLIGHT
TZOFFSETFROM:+0000
TZOFFSETTO:+0100
TZNAME:BST
DTSTART:20220327T010000
END:DAYLIGHT
BEGIN:STANDARD
TZOFFSETFROM:+0100
TZOFFSETTO:+0000
TZNAME:GMT
DTSTART:20221030T010000
END:STANDARD
BEGIN:DAYLIGHT
TZOFFSETFROM:+0000
TZOFFSETTO:+0100
TZNAME:BST
DTSTART:20230326T010000
END:DAYLIGHT
BEGIN:STANDARD
TZOFFSETFROM:+0100
TZOFFSETTO:+0000
TZNAME:GMT
DTSTART:20231029T010000
END:STANDARD
BEGIN:DAYLIGHT
TZOFFSETFROM:+0000
TZOFFSETTO:+0100
TZNAME:BST
DTSTART:20240331T010000
END:DAYLIGHT
BEGIN:STANDARD
TZOFFSETFROM:+0100
TZOFFSETTO:+0000
TZNAME:GMT
DTSTART:20241027T010000
END:STANDARD
END:VTIMEZONE
BEGIN:VEVENT
DTSTART;TZID=Europe/London:20231202T190000
DTEND;TZID=Europe/London:20231202T230000
DTSTAMP:20260421T053006
CREATED:20230824T131845Z
LAST-MODIFIED:20231018T144401Z
UID:11420-1701543600-1701558000@supersonic-club.fr
SUMMARY:False Heads • Club Bombardier • Lame / Supersonic (Free entry)
DESCRIPTION:Pour les fans de… Royal Blood\, Frank Turner & The Sleeping Souls\, Blackfeet Revolution \n \nFALSE HEADS (22h30)\n(Rock – Londres\, UK)\nFalse Heads are an east London-based three-piece rock/punk band consisting of Luke Griffiths (Vocals/Guitar)\, Jake Elliott (Bass) and Barney Nash (Drums/Vocals).\nHaving met at Coopers’ Company and Coburn School in Upminster the three members reconvened after University to make music together in late 2015. While all members had collaborated creatively with each other in the past and Griffiths had previously released music under the title\, this marked the first time they began to perform together as ‘False Heads’.\nWhile playing at the Black Heart in Camden in November 2015\, False Heads caught the attention of former Ramones manager Danny Fields also famous for signing Iggy Pop & The Stooges and The MC5. Fields began to take an interest in and to mentor the band\, even declaring that they were « the future of Rock and Roll”.\nFFO / Si vous aimez : Royal Blood\, Frank Turner & The Sleeping Souls\, Blackfeet Revolution\nhttps://falseheadsldn.bandcamp.com/\nhttps://www.youtube.com/watch?v=KQ_ZLrZekSs \nLAME (21h30)\n(Indie rock – Lame Music – Nantes\, FR)\nLame est un quatuor Indie Pop Rock formé à Nantes en 2018.\nLame revendique le goût du paradoxe. La musique du groupe claudique entre luminosité pop et paroles ombrageuses\, se nourrit de ces tensions\, entre efficacité et sophistication\, optimisme et noirceur\, réel et imaginaire. Comme un réveil en gueule de bois\, la tête partagée entre le souvenir des heures festives et l’angoisse du jour naissant.\nLame est un groupe dont l’énergie paradoxale éclate sur scène\, laissant sa juste part à l’improvisation pour faire de chaque concert une expérience unique\, persuadé que la musique se vit LIVE. Lame fête en live la sortie de son 1er album « Up\, Down\, Aside » !\nFFO / Si vous aimez : The Strokes\, Franz Ferdinand\, Interpol\nhttps://linkr.bio/lame\nhttps://www.youtube.com/c/LameTube \nCLUB BOMBARDIER (20h30)\n(Rock punk – M&O Music – Paris\, FR)\nNourrit par le rock et le punk\, Club Bombardier se faufile entre les genres pour ancrer leur expression musicale dans la spontanéité. Atmosphère électrique et électrisante\, brute et contrôlée\, tout est au service de l’exutoire de la scène et du défoulement des corps. Après avoir régulièrement joué à Paris et sorti 3 EPs\, Club Bombardier recommence la scène et la production à rythme grand V avec un nouveau chanteur mettant le franc-parler et le franc-chanter au service de la frénésie musicale.\nFFO / Si vous aimez : At the Drive In\, Idles\, NoFX\nhttps://www.facebook.com/Clubbombardier\n———————————\nSamedi 2 Décembre 2023\nEntrée gratuite\n• Ouverture des portes à 19h00\n• Happy Hour de 19h à 20h\n• Si vous êtes victime ou témoin d’une agression\, vous pouvez alerter le personnel du bar ou si vous préférez\, vous pouvez nous écrire à cette adresse: communication@supersonic-paris.fr\n———————————\nSUPERSONIC\n9 rue Biscornet\, 75012 Paris\nMétro Bastille (sortie rue de lyon) \nTarifs : Gratuit
URL:http://supersonic-club.fr/event/false-heads-en-concert-au-supersonic-free-entry/
LOCATION:SUPERSONIC\, 9 Rue Biscornet\, Paris\, 75012\, France
CATEGORIES:Club Bombardier,Concert,False Heads,Lame,Pop / Rock / Folk,Sowprog,SUPERSONIC
ATTACH;FMTTYPE=image/jpeg:http://supersonic-club.fr/wp-content/uploads/2023/08/namethumb_w600px_img_event_5ba0e900-6f8d-45fd-8edc-30ac2f9e610a-2.jpg
END:VEVENT
END:VCALENDAR