BEGIN:VCALENDAR
VERSION:2.0
PRODID:-//Supersonic - ECPv6.15.20//NONSGML v1.0//EN
CALSCALE:GREGORIAN
METHOD:PUBLISH
X-ORIGINAL-URL:http://supersonic-club.fr
X-WR-CALDESC:Évènements pour Supersonic
REFRESH-INTERVAL;VALUE=DURATION:PT1H
X-Robots-Tag:noindex
X-PUBLISHED-TTL:PT1H
BEGIN:VTIMEZONE
TZID:Europe/London
BEGIN:DAYLIGHT
TZOFFSETFROM:+0000
TZOFFSETTO:+0100
TZNAME:BST
DTSTART:20250330T010000
END:DAYLIGHT
BEGIN:STANDARD
TZOFFSETFROM:+0100
TZOFFSETTO:+0000
TZNAME:GMT
DTSTART:20251026T010000
END:STANDARD
BEGIN:DAYLIGHT
TZOFFSETFROM:+0000
TZOFFSETTO:+0100
TZNAME:BST
DTSTART:20260329T010000
END:DAYLIGHT
BEGIN:STANDARD
TZOFFSETFROM:+0100
TZOFFSETTO:+0000
TZNAME:GMT
DTSTART:20261025T010000
END:STANDARD
BEGIN:DAYLIGHT
TZOFFSETFROM:+0000
TZOFFSETTO:+0100
TZNAME:BST
DTSTART:20270328T010000
END:DAYLIGHT
BEGIN:STANDARD
TZOFFSETFROM:+0100
TZOFFSETTO:+0000
TZNAME:GMT
DTSTART:20271031T010000
END:STANDARD
END:VTIMEZONE
BEGIN:VEVENT
DTSTART;TZID=Europe/London:20260526T200000
DTEND;TZID=Europe/London:20260526T223000
DTSTAMP:20260425T135119
CREATED:20260202T145854Z
LAST-MODIFIED:20260202T145854Z
UID:18274-1779825600-1779834600@supersonic-club.fr
SUMMARY:BLÜ EYES + Everything We Do en concert (côté Records)
DESCRIPTION:Autoproduite et d’une honnêteté sans concession\, BLÜ EYES est une force montante qui redéfinit la vulnérabilité dans la pop moderne. Elle vient célébrer avec vous son 1er album « Two People At Once » ! \n \nTake Me Out présente…\nBLÜ EYES + Everything We Do en concert !\nTickets : https://link.dice.fm/xe6116c5ffbd \nBLÜ EYES\n(modern pop · USA) \nAutoproduite et d’une honnêteté sans concession\, BLÜ EYES est une force montante qui redéfinit la vulnérabilité dans la pop moderne. \nSes compositions émotionnellement incisives explorent la santé mentale\, l’identité et la complexité émotionnelle\, créant une expérience live captivante à la fois cathartique et profondément humaine. \nSon premier album\, Two People at Once\, examine les contrastes que nous portons tous en nous : la joie et le traumatisme\, la lumière et l’ombre\, et le pouvoir de contenir des émotions contradictoires à la fois. \nAvec plus de 100 millions de streams à travers le monde\, elle a partagé la scène avec JP Saxe\, Rachel Platten\, Alec Benjamin\, Hunter Hayes et Ingrid Andress\, et a été reconnue par des plateformes telles que Zane Lowe\, SiriusXM et TikTok. \nÉCOUTER\nhttps://blueyes.komi.io/ \nREGARDER\nhttps://www.youtube.com/@blueyesmusic \nAIMER\nhttps://www.instagram.com/blueyesmusic/ \nEVERYTHING WE DO\n(indie pop · UK) \nCe groupe indie pop conceptuel est composé de deux membres\, Joe et Kaity\, qui écrivent et produisent eux-mêmes leurs morceaux.  \nLancé à l’automne 2023\, le groupe a rapidement gagné un public fidèle grâce aux réseaux sociaux. Leur premier single\, « real love\, to roommates »\, a rencontré un vif succès sur TikTok\, où il a été visionné des millions de fois et a suscité de nombreuses discussions parmi les milliers de fans qui se sont identifiés à l’histoire racontée dans la chanson.  \nLa sortie du single a été suivie de leur premier EP « act one » et célébrée non seulement par des concerts à guichets fermés\, mais aussi par des premières parties avec des artistes incroyables tels que The Lottery Winners\, Gabrielle Aplin & Only The Poets\, ainsi que des tournées avec Remember Monday\, Jamie Lawson et blü eyes.  \nÉCOUTER\nhttps://open.spotify.com/artist/710XGNeKNBxnUjDhRyzIgL?si=-ISbZ_nsQJC0le-KLZ8BQg\nhttps://music.apple.com/gb/artist/everything-we-do/1713588521 \nAIMER\nhttps://www.instagram.com/weareeverythingwedo/ \n———————————\nMardi 26 Mai 2026\n• Ouverture des portes à 20h\n• Bar sur place\n• Prévente à 21\,12€ / 24€ sur place\nOuverture de la billetterie le 6 Février à 11h\n• Accès interdit aux moins de 16 ans sauf si accompagnés d’un tuteur légal\n———————————\nSUPERSONIC RECORDS\n9 rue Biscornet 75012 Paris\nMétro Bastille\nLa newsletter : https://t.ly/cx_NA\nLa playlist : https://tinyurl.com/SupersonicRecords2026\nhttps://supersonic-records.fr/ \nhttps://takemeout-production.fr/ \nTarifs : Billet : 21.12€ \nBilletteries : DICE
URL:http://supersonic-club.fr/event/blu-eyes-everything-we-do-en-concert-cote-records/
LOCATION:Supersonic Records\, 9 Rue Biscornet\, Paris\, 75012\, France
CATEGORIES:BLÜ EYES,Concert,Everything We Do,Pop / Rock / Folk,Sowprog,Supersonic Records
ATTACH;FMTTYPE=image/jpeg:http://supersonic-club.fr/wp-content/uploads/2026/02/namethumb_w600px_img_event_385533a3-ec46-424a-ae85-b2083dae6e0a.jpg
END:VEVENT
END:VCALENDAR