BEGIN:VCALENDAR
VERSION:2.0
PRODID:-//Supersonic - ECPv6.15.20//NONSGML v1.0//EN
CALSCALE:GREGORIAN
METHOD:PUBLISH
X-ORIGINAL-URL:http://supersonic-club.fr
X-WR-CALDESC:Évènements pour Supersonic
REFRESH-INTERVAL;VALUE=DURATION:PT1H
X-Robots-Tag:noindex
X-PUBLISHED-TTL:PT1H
BEGIN:VTIMEZONE
TZID:Europe/London
BEGIN:DAYLIGHT
TZOFFSETFROM:+0000
TZOFFSETTO:+0100
TZNAME:BST
DTSTART:20230326T010000
END:DAYLIGHT
BEGIN:STANDARD
TZOFFSETFROM:+0100
TZOFFSETTO:+0000
TZNAME:GMT
DTSTART:20231029T010000
END:STANDARD
BEGIN:DAYLIGHT
TZOFFSETFROM:+0000
TZOFFSETTO:+0100
TZNAME:BST
DTSTART:20240331T010000
END:DAYLIGHT
BEGIN:STANDARD
TZOFFSETFROM:+0100
TZOFFSETTO:+0000
TZNAME:GMT
DTSTART:20241027T010000
END:STANDARD
BEGIN:DAYLIGHT
TZOFFSETFROM:+0000
TZOFFSETTO:+0100
TZNAME:BST
DTSTART:20250330T010000
END:DAYLIGHT
BEGIN:STANDARD
TZOFFSETFROM:+0100
TZOFFSETTO:+0000
TZNAME:GMT
DTSTART:20251026T010000
END:STANDARD
END:VTIMEZONE
BEGIN:VEVENT
DTSTART;TZID=Europe/London:20240218T190000
DTEND;TZID=Europe/London:20240218T223000
DTSTAMP:20260419T150051
CREATED:20231109T132732Z
LAST-MODIFIED:20240216T180503Z
UID:12095-1708282800-1708295400@supersonic-club.fr
SUMMARY:ANNULÉ / Ella Grace + Elliot Cooper en concert au Supersonic Records !
DESCRIPTION:À cheval entre le folk moderne et le rock\, citant des influences allant de Wolf Alice à Aldous Harding\, la londonienne Ella Grace a conquis une audience très large à travers le monde ! \n \nSupersonic Records présente…\nElla Grace + Elliot Cooper en concert !\nTickets : https://link.dice.fm/n112f1fd8fdc \nELLA GRACE\n(Soft rock / folk rock – Londres\, UK) \nSi vous aimez : Wolf Alice\, Aldous Harding\, Julia Jacklin \nElla Grace a passé ses premières années à écrire et à jouer de la musique en privé dans la chambre de son enfance à Londres. À cheval entre le folk moderne et le rock\, citant des influences allant de Wolf Alice à Aldous Harding\, elle a commencé à partager en ligne des vidéos de sa musique et de son parcours en tant qu’artiste. En quelques années\, l’auteure-compositrice-interprète s’est constitué un public fidèle de plus de 350 000 auditeurs. Prenant un acte de foi\, elle abandonne l’université et envoie ses démos à un label indépendant de Leeds. \nIl en résulte une série de singles\, dont le point culminant est « Wild Roads »\, un hymne folk fantaisiste qui a connu un succès fulgurant sur les plateformes de streaming : la chanson a été écoutée plus de 3 millions de fois. \nEn 2021\, Ella Grace a utilisé les royalties du single pour enregistrer et publier elle-même son premier album de 11 titres\, « Reverence ». Le disque explore les thèmes de l’homosexualité et de l’acceptation de soi. Il a été écouté plus de 20 millions de fois et a fait l’objet d’une couverture médiatique dans Wonderland\, NOTION\, Clash\, GayTimes et Diva Mag.\nElle sort actuellement une série de singles au son plus brut et plus grinçant\, en commençant par « Grace » et en poursuivant avec « Burn ». \nRegarder\nhttps://www.youtube.com/@EllaGrace \nÉcouter\nhttps://ellagrace.bandcamp.com/music \nAimer\nhttps://www.instagram.com/ellagracedenton \nELLIOT COOPER\nLes ballades brisées d’un cœur battant et de veines remplies d’étoiles. \nRegarder\nhttps://www.youtube.com/@elliotd.coopermusic4507 \nÉcouter\nhttps://elliotcooper.bandcamp.com/ \nAimer\nhttps://www.instagram.com/elliot_d.coop/ \n———————————\nDimanche 18 Février 2024\n• Ouverture des portes à 19h\n• Bar sur place\n• Prévente à 13€ / 18€ sur place\n• Accès interdit aux moins de 16 ans sauf si accompagnés d’un tuteur légal​\n———————————\nSupersonic Records\n9 rue Biscornet 75012 Paris\nMetro Bastille\nhttps://supersonic-records.fr/ \nTarifs : Annulé \nBilletteries : DICE
URL:http://supersonic-club.fr/event/ella-grace-en-concert-au-supersonic-records/
LOCATION:Supersonic Records\, 9 Rue Biscornet\, Paris\, 75012\, France
CATEGORIES:Concert,Ella Grace,Elliot Cooper,Pop / Rock / Folk,Sowprog,Supersonic Records
ATTACH;FMTTYPE=image/jpeg:http://supersonic-club.fr/wp-content/uploads/2023/11/namethumb_w600px_img_event_29336c5c-3093-4d18-bb67-88341482ff91-2.jpg
END:VEVENT
END:VCALENDAR