BEGIN:VCALENDAR
VERSION:2.0
PRODID:-//Supersonic - ECPv6.15.20//NONSGML v1.0//EN
CALSCALE:GREGORIAN
METHOD:PUBLISH
X-ORIGINAL-URL:http://supersonic-club.fr
X-WR-CALDESC:Évènements pour Supersonic
REFRESH-INTERVAL;VALUE=DURATION:PT1H
X-Robots-Tag:noindex
X-PUBLISHED-TTL:PT1H
BEGIN:VTIMEZONE
TZID:Europe/London
BEGIN:DAYLIGHT
TZOFFSETFROM:+0000
TZOFFSETTO:+0100
TZNAME:BST
DTSTART:20220327T010000
END:DAYLIGHT
BEGIN:STANDARD
TZOFFSETFROM:+0100
TZOFFSETTO:+0000
TZNAME:GMT
DTSTART:20221030T010000
END:STANDARD
BEGIN:DAYLIGHT
TZOFFSETFROM:+0000
TZOFFSETTO:+0100
TZNAME:BST
DTSTART:20230326T010000
END:DAYLIGHT
BEGIN:STANDARD
TZOFFSETFROM:+0100
TZOFFSETTO:+0000
TZNAME:GMT
DTSTART:20231029T010000
END:STANDARD
BEGIN:DAYLIGHT
TZOFFSETFROM:+0000
TZOFFSETTO:+0100
TZNAME:BST
DTSTART:20240331T010000
END:DAYLIGHT
BEGIN:STANDARD
TZOFFSETFROM:+0100
TZOFFSETTO:+0000
TZNAME:GMT
DTSTART:20241027T010000
END:STANDARD
END:VTIMEZONE
BEGIN:VEVENT
DTSTART;TZID=Europe/London:20230405T190000
DTEND;TZID=Europe/London:20230405T230000
DTSTAMP:20260419T134456
CREATED:20230116T115248Z
LAST-MODIFIED:20230125T183041Z
UID:9675-1680721200-1680735600@supersonic-club.fr
SUMMARY:Egyptian Blue • Humour • Difference / Supersonic (Free entry)
DESCRIPTION:WELCOME TO SUPERSONIC\nConcerts gratuits\, Nuits rock et Disquaire à Paris ! \n \nEGYPTIAN BLUE\n(Post punk – Yala! Records – Brighton\, UK)\nEvery element of Egyptian Blue’s angular and uncompromising sound brings with it an urgency that is both rare and vital. Their duo of critically acclaimed EP’s to date\, both released via Yala! Records\, have made the Brighton-based band a compelling proposition. Between their jolting\, groove-orientated post-punk attack and their polemic lyrical approach\, the quartet made moves in all of the right places. The tracks ‘Collateral’ and ‘Nylon Wire’ were playlisted at BBC 6Music\, while further support came from Jack Saunders\, Steve Lamacq\, John Kennedy and artistic peers including Joe Talbot (IDLES) and Yannis Philippakis (Foals).\nLifelong friends Andy Buss and Leith Ambrose formed the band in their hometown of Colchester (UK) with bassist Luke Phelps. Initially practicing above a jewellery shop\, they were the epitome of a band reacting to the mundanity of their surroundings. Early jams often devolved into marathon sessions of fourteen hours or more\, made all the more chaotic by the amount of whisky they’d share as well as the growing attention of the local police. Relocating to Brighton\, a turning point came at a King Gizzard & The Lizard Wizard gig. Seeing a band that well-drilled made them rethink the work ethic that their own project required. The addition of drummer Isaac Ide completed the jigsaw\, offering a more intense direction for the band\, together with a fresh rush of creativity.\nTheir debut album is due for release in 2023 via Yala! Records.\nhttps://open.spotify.com/artist/3IW8WBsi0vGrcdMNsXS6Bi\nhttps://www.youtube.com/watch?v=wvav-OeEhJU \nHUMOUR\n(Post punk – So Young Records – Glasgow\, UK)\nVoici un nom à la c**. Humour\, pourtant\, n’a pas l’air de venir ici pour blaguer. Le groupe de Glasgow en Écosse\, formé en 2021\, vient tout juste de sortir son tout premier single baptisé yeah\, mud!. Un titre puissant\, qui reprend certes les codes déjà bien usés du post-punk\, mais qui le fait avec une touche de fraîcheur\, et une identité déjà bien affirmée. L’album\, prévu sur le label So Young Records\, ne devrait pas tarder.\nhttps://open.spotify.com/artist/5ErUNpyxSBAdjZaKlefsUr\nhttps://youtu.be/S_Ah0fc8xGg \nDIFFERENCE\n(Post punk – Paris\, FR)\nGroupe parisien créé par Baptiste et Pedro\, Difference est aujourd’hui composé de 5 têtes. Cette toute nouvelle formation rock\, post punk aux teintes cold wave\, apporte à la scène française un souffle enragé.⁠\nhttps://www.facebook.com/profile.php?id=100088877407443\nhttps://www.instagram.com/difference.inter/\n———————————\nMercredi 5 Avril 2023\nEntrée gratuite\n• Ouverture des portes à 19h00\n• Happy Hour de 19h à 20h (3€50 la pinte)\n• Si vous êtes témoin ou victime d’une agression\, vous pouvez alerter le personnel du bar ou si vous préférez\, vous pouvez nous écrire à cette adresse: communication@supersonic-paris.fr\n———————————\nSUPERSONIC\n9 rue Biscornet\, 75012 Paris\nMétro Bastille (sortie rue de lyon) \nTarifs : Gratuit
URL:http://supersonic-club.fr/event/egyptian-blue-humour-supersonic-free-entry/
LOCATION:SUPERSONIC\, 9 Rue Biscornet\, Paris\, 75012\, France
CATEGORIES:Concert,Difference,Egyptian Blue,Humour,Pop / Rock / Folk,Sowprog,SUPERSONIC
ATTACH;FMTTYPE=image/jpeg:http://supersonic-club.fr/wp-content/uploads/2023/01/namethumb_w600px_img_event_4ea26914-13ce-407f-876e-126a07990bea-1.jpg
END:VEVENT
END:VCALENDAR