BEGIN:VCALENDAR
VERSION:2.0
PRODID:-//Supersonic - ECPv6.15.20//NONSGML v1.0//EN
CALSCALE:GREGORIAN
METHOD:PUBLISH
X-ORIGINAL-URL:http://supersonic-club.fr
X-WR-CALDESC:Évènements pour Supersonic
REFRESH-INTERVAL;VALUE=DURATION:PT1H
X-Robots-Tag:noindex
X-PUBLISHED-TTL:PT1H
BEGIN:VTIMEZONE
TZID:Europe/London
BEGIN:DAYLIGHT
TZOFFSETFROM:+0000
TZOFFSETTO:+0100
TZNAME:BST
DTSTART:20170326T010000
END:DAYLIGHT
BEGIN:STANDARD
TZOFFSETFROM:+0100
TZOFFSETTO:+0000
TZNAME:GMT
DTSTART:20171029T010000
END:STANDARD
BEGIN:DAYLIGHT
TZOFFSETFROM:+0000
TZOFFSETTO:+0100
TZNAME:BST
DTSTART:20180325T010000
END:DAYLIGHT
BEGIN:STANDARD
TZOFFSETFROM:+0100
TZOFFSETTO:+0000
TZNAME:GMT
DTSTART:20181028T010000
END:STANDARD
BEGIN:DAYLIGHT
TZOFFSETFROM:+0000
TZOFFSETTO:+0100
TZNAME:BST
DTSTART:20190331T010000
END:DAYLIGHT
BEGIN:STANDARD
TZOFFSETFROM:+0100
TZOFFSETTO:+0000
TZNAME:GMT
DTSTART:20191027T010000
END:STANDARD
END:VTIMEZONE
BEGIN:VEVENT
DTSTART;TZID=Europe/London:20181117T200000
DTEND;TZID=Europe/London:20181117T233000
DTSTAMP:20260419T132829
CREATED:20181004T154544Z
LAST-MODIFIED:20181004T154544Z
UID:3482-1542484800-1542497400@supersonic-club.fr
SUMMARY:Dr Chan release party w/Favx & Guest
DESCRIPTION:▬ Le Supersonic présente ▬ \n \nFreaky Loud Things présente… \nDR CHAN (Garage Rock / Stolen Body Records / Paris) \nDr Chan a la particularité d’être noisy (album Ty Rex de Segall) et skate punk (façon Fidlar)\, le tout emporté par une diction rapide qui n’est pas sans rappeler le Brit Garage des Rascals ou des premiers Arctic monkeys (une autre époque). Sans pomper le sixties qui sature la scène\, il flirte tantôt avec le Garage skate punk Californien\, tantôt avec les thématiques et le spleen du Death rap floridiens ($uicideboy$). Le plus important\, peut-être\, est que Dr Chan a pour lui un côté slacker qui fait du rock’n’roll au service du fun. Ce côté Mike Krol punk / Fugazi de velours lui va à merveille\, en un mot\, Dr Chan\, est le « groupe volume 11 » du garage français. \nLeur nouvel album intitulé « Squier » sortira le 12 octobre via Stolen Body records. \n► https://drchan.bandcamp.com/\n► https://www.facebook.com/drchanstrikesagain/ \nFAVX (Garage Rock / BURGER RECORDS / Madrid) \nFAVX\, c’est Burger Records\, ça faisait longtemps. Le groupe du jour est Espagnol\, il vient de Madrid (pas loin) et il aime les Fugazi. Et le punk 90s. « Not punk\, neither grunge or hardcore; their tunes aim for something in between that sounds noisy ». Ouais\, c’est ce qu’en dit Burger\, et ce n’est pas bien faux.  \n► https://favxpop.bandcamp.com/\n► https://www.facebook.com/favxpop/ \n+ GUEST \n Entrée gratuite avant 23h \n▬▬▬▬▬▬▬▬▬▬▬▬▬▬▬▬▬▬▬▬▬▬▬ \nSUPERSONIC\n9 rue Biscornet\, 75012 Paris\nMétro Bastille (sortie rue de lyon)\nhttp://supersonic-club.fr/\nInscription à la newsletter du Supersonic: http://bit.ly/1lWTnx4 \nTarifs : Gratuit
URL:http://supersonic-club.fr/event/dr-chan-release-party-wfavx-guest/
LOCATION:SUPERSONIC\, 9 Rue Biscornet\, Paris\, 75012\, France
CATEGORIES:Concert,DR CHAN,Favx,Pop / Rock / Folk
ATTACH;FMTTYPE=image/jpeg:http://supersonic-club.fr/wp-content/uploads/2018/10/namethumb_w600px_img_event_faf3c095-3e5c-48a4-8010-4d0d3a6c9607.jpg
END:VEVENT
END:VCALENDAR