BEGIN:VCALENDAR
VERSION:2.0
PRODID:-//Supersonic - ECPv6.15.20//NONSGML v1.0//EN
CALSCALE:GREGORIAN
METHOD:PUBLISH
X-WR-CALNAME:Supersonic
X-ORIGINAL-URL:http://supersonic-club.fr
X-WR-CALDESC:Évènements pour Supersonic
REFRESH-INTERVAL;VALUE=DURATION:PT1H
X-Robots-Tag:noindex
X-PUBLISHED-TTL:PT1H
BEGIN:VTIMEZONE
TZID:Europe/London
BEGIN:DAYLIGHT
TZOFFSETFROM:+0000
TZOFFSETTO:+0100
TZNAME:BST
DTSTART:20210328T010000
END:DAYLIGHT
BEGIN:STANDARD
TZOFFSETFROM:+0100
TZOFFSETTO:+0000
TZNAME:GMT
DTSTART:20211031T010000
END:STANDARD
BEGIN:DAYLIGHT
TZOFFSETFROM:+0000
TZOFFSETTO:+0100
TZNAME:BST
DTSTART:20220327T010000
END:DAYLIGHT
BEGIN:STANDARD
TZOFFSETFROM:+0100
TZOFFSETTO:+0000
TZNAME:GMT
DTSTART:20221030T010000
END:STANDARD
BEGIN:DAYLIGHT
TZOFFSETFROM:+0000
TZOFFSETTO:+0100
TZNAME:BST
DTSTART:20230326T010000
END:DAYLIGHT
BEGIN:STANDARD
TZOFFSETFROM:+0100
TZOFFSETTO:+0000
TZNAME:GMT
DTSTART:20231029T010000
END:STANDARD
END:VTIMEZONE
BEGIN:VEVENT
DTSTART;TZID=Europe/London:20221028T190000
DTEND;TZID=Europe/London:20221028T230000
DTSTAMP:20260424T110839
CREATED:20220825T125338Z
LAST-MODIFIED:20221026T174844Z
UID:8487-1666983600-1666998000@supersonic-club.fr
SUMMARY:Dharmacide • Emerson Snowe • Indigo Birds / Supersonic (Free entry)
DESCRIPTION:WELCOME TO SUPERSONIC\nConcerts gratuits\, Nuits rock et Disquaire à Paris ! \n \nDHARMACIDE\n(Dreampop – Madrid\, ESP)\nDharmacide est un groupe de shoegaze/dreampop de Madrid.\nLe groupe a grandi depuis ses débuts et est formé de René (voix et guitare)\, Salvi (basse)\, Hoppi (batterie)\, Conrado (guitare) et Pedro (claviers).\nAprès plusieurs singles et des concerts à Paris (Supersonic) et Berlin (8MM Club)\, ils ont sorti leur premier album « Cult Band Member » en septembre 2021.\nhttps://open.spotify.com/artist/6Opwdl6TcMEonIbtztjl0k\nhttps://www.youtube.com/watch?v=_v0hYNRQX30 \nEMERSON SNOWE\n(Freak Folk – Berlin via Australia)\nConstantly writing and recording new songs\, Emerson has a prolific catalogue of 500+ tracks\, only recently has he begun to slowly release them. Having toured Australia with Ariel Pink\, King Krule and GUM (Jay Watson of Pond and Tame Impala) he now lives in Berlin. Snowe’s artwork also appears in Hedi Slimane’s Céline Men’s show and collection. \nLes 3 influences: Daniel Johnston\, Kevin Ayers\, Bradford Cox\nhttps://emersonsnowe.bandcamp.com/\nhttps://www.youtube.com/c/EmersonSnowe/videos \nINDIGO BIRDS\n(Indie rock – Paris\, FR)\nQui se frotte à l’univers d’Indigo Birds se rend bien compte de son détachement des codes de l’indie rock. Si tout l’héritage mélodique et rythmique du genre marque The Influence Of Loneliness\, le quatuor parisien est animé par la recherche de nouvelles sensations musicales\, de nouvelles façons de produire\, tout en proposant un disque tout-à-fait accessible. Même si une certaine mélancolie habite les 50 minutes de ce premier long format\, difficile de ne pas succomber aux rythmes entraînants qui leur sont chers\, derrière lesquels se tapissent des subtilités synthétiques\, industrielles par-ci\, purement electronica par-là.\nhttps://indigobirds.bandcamp.com/releases\nhttps://www.youtube.com/watch?v=feRUzGrORG0\n———————————\nVendredi 28 Octobre 2022\nEntrée gratuite\n• Ouverture des portes à 19h00\n• Happy Hour de 19h à 20h (3€50 la pinte)\n———————————\nSUPERSONIC\n9 rue Biscornet\, 75012 Paris\nMétro Bastille (sortie rue de lyon) \nTarifs : Gratuit
URL:http://supersonic-club.fr/event/hala-dharmacide-supersonic-free-entry/
LOCATION:SUPERSONIC\, 9 Rue Biscornet\, Paris\, 75012\, France
CATEGORIES:Concert,Dharmacide,Emerson Snowe,Indigo Birds,Pop / Rock / Folk,Sowprog
ATTACH;FMTTYPE=image/jpeg:http://supersonic-club.fr/wp-content/uploads/2022/08/namethumb_w600px_img_event_abdc0ebe-6476-4815-9d08-8f1fadad5f80-3.jpg
END:VEVENT
END:VCALENDAR