BEGIN:VCALENDAR
VERSION:2.0
PRODID:-//Supersonic - ECPv6.15.20//NONSGML v1.0//EN
CALSCALE:GREGORIAN
METHOD:PUBLISH
X-WR-CALNAME:Supersonic
X-ORIGINAL-URL:http://supersonic-club.fr
X-WR-CALDESC:Évènements pour Supersonic
REFRESH-INTERVAL;VALUE=DURATION:PT1H
X-Robots-Tag:noindex
X-PUBLISHED-TTL:PT1H
BEGIN:VTIMEZONE
TZID:Europe/London
BEGIN:DAYLIGHT
TZOFFSETFROM:+0000
TZOFFSETTO:+0100
TZNAME:BST
DTSTART:20180325T010000
END:DAYLIGHT
BEGIN:STANDARD
TZOFFSETFROM:+0100
TZOFFSETTO:+0000
TZNAME:GMT
DTSTART:20181028T010000
END:STANDARD
BEGIN:DAYLIGHT
TZOFFSETFROM:+0000
TZOFFSETTO:+0100
TZNAME:BST
DTSTART:20190331T010000
END:DAYLIGHT
BEGIN:STANDARD
TZOFFSETFROM:+0100
TZOFFSETTO:+0000
TZNAME:GMT
DTSTART:20191027T010000
END:STANDARD
BEGIN:DAYLIGHT
TZOFFSETFROM:+0000
TZOFFSETTO:+0100
TZNAME:BST
DTSTART:20200329T010000
END:DAYLIGHT
BEGIN:STANDARD
TZOFFSETFROM:+0100
TZOFFSETTO:+0000
TZNAME:GMT
DTSTART:20201025T010000
END:STANDARD
END:VTIMEZONE
BEGIN:VEVENT
DTSTART;TZID=Europe/London:20190403T210000
DTEND;TZID=Europe/London:20190404T003000
DTSTAMP:20260423T161019
CREATED:20190131T181520Z
LAST-MODIFIED:20190306T181122Z
UID:3955-1554325200-1554337800@supersonic-club.fr
SUMMARY:The Dandelion • Luneapache • Dharmacide / Supersonic
DESCRIPTION:▬ Le Supersonic présente ▬ \n \n▬▬▬ ENTREE LIBRE ▬▬▬▬ \n→ THE DANDELION\n(Psychedelic Pop – Sydney\,AUS) \n«The Dandelion weave an old kind of magic. Their own mix of musical spells are not unlike those woven in the 1960’s and have seduced many believers in their brief musical career.\nWhat started as a studio project evolved into a live band led by Natalie de Silver who writes\, records and produces the band’s original material. The Dandelion’s 2nd LP titled Seeds Flowers and Magical Powers of The Dandelion caught the ears of many listeners around the globe\, many of whom catapulting it to their favorite album of 2015. In 2017 Natalie begun working on a third album titled “Old Habits & New Ways of The Dandelion. This record is currently being mixed and will be released in the coming months.\nLast year\, The Dandelion joined the Gizzfest\, curated by Ozzie favorites King Gizzard and the Lizard Wizard.» \n► Liker : https://www.facebook.com/thedandelionmusic/\n► Ecouter : https://thedandelion.bandcamp.com\n► Regarder : https://www.youtube.com/channel/UCVGtN0g6qv24UD04NECM2Tw/videos \n→ LUNEAPACHE\n(Pop – Toolong Records – Toulon\,FR)  \n«Ici les cactus ne sont pas hallucinogènes mais le soleil monte à la tête… Voilà d’où peut venir l’inspiration quand on fait du psychédélisme dans la « French California ». Et s’ils se passent volontiers du peyotl pour écrire leur pop française kaléidoscopique\, les LuneApache(s) assument pleinement leur fascination des 60’s. Après un premier EP (Almost Music / Alter-K) et des scènes partagées avec les Requin Chagrin et les Chemical Brothers\, entre autres\, le groupe s’apprête à dévoiler son premier album « Onironautes »\, un voyage dans des contrées inexplorées\, quelque part entre Etienne Daho* et Les Black Angels.» \nLes 3 influences: Primal Scream\, Etienne Daho\, Black Angels \n► Liker : https://www.facebook.com/luneapache/ \n+ GUEST \n▬▬▬ INFOS PRATIQUES ▬▬▬ \nMercredi 3 Avril 2019\nEntrée gratuite \n– Ouverture des portes à 18h30\n– Début des concerts vers 20h\n– Happy Hour de 18h30 à 20h (3€50 la pinte)\n– Hot Dog au bar \n▬▬▬▬▬▬▬▬▬▬▬▬▬▬▬▬▬▬▬▬▬▬▬ \nSUPERSONIC\n9 rue Biscornet\, 75012 Paris\nMétro Bastille (sortie rue de lyon)\nhttp://supersonic-club.fr/\nInscription à la newsletter du Supersonic: http://bit.ly/1lWTnx4 \nTarifs : Gratuit
URL:http://supersonic-club.fr/event/the-dandelion-%e2%80%a2-luneapache-supersonic-free-entry/
LOCATION:SUPERSONIC\, 9 Rue Biscornet\, Paris\, 75012\, France
CATEGORIES:Concert,Dharmacide,LUNEAPACHE,Pop / Rock / Folk,The Dandelion
ATTACH;FMTTYPE=image/jpeg:http://supersonic-club.fr/wp-content/uploads/2019/01/namethumb_w600px_img_event_ee5581a1-03eb-411a-af39-ce6a64552c1d-1.jpg
END:VEVENT
END:VCALENDAR