BEGIN:VCALENDAR
VERSION:2.0
PRODID:-//Supersonic - ECPv6.15.20//NONSGML v1.0//EN
CALSCALE:GREGORIAN
METHOD:PUBLISH
X-ORIGINAL-URL:http://supersonic-club.fr
X-WR-CALDESC:Évènements pour Supersonic
REFRESH-INTERVAL;VALUE=DURATION:PT1H
X-Robots-Tag:noindex
X-PUBLISHED-TTL:PT1H
BEGIN:VTIMEZONE
TZID:Europe/London
BEGIN:DAYLIGHT
TZOFFSETFROM:+0000
TZOFFSETTO:+0100
TZNAME:BST
DTSTART:20210328T010000
END:DAYLIGHT
BEGIN:STANDARD
TZOFFSETFROM:+0100
TZOFFSETTO:+0000
TZNAME:GMT
DTSTART:20211031T010000
END:STANDARD
BEGIN:DAYLIGHT
TZOFFSETFROM:+0000
TZOFFSETTO:+0100
TZNAME:BST
DTSTART:20220327T010000
END:DAYLIGHT
BEGIN:STANDARD
TZOFFSETFROM:+0100
TZOFFSETTO:+0000
TZNAME:GMT
DTSTART:20221030T010000
END:STANDARD
BEGIN:DAYLIGHT
TZOFFSETFROM:+0000
TZOFFSETTO:+0100
TZNAME:BST
DTSTART:20230326T010000
END:DAYLIGHT
BEGIN:STANDARD
TZOFFSETFROM:+0100
TZOFFSETTO:+0000
TZNAME:GMT
DTSTART:20231029T010000
END:STANDARD
END:VTIMEZONE
BEGIN:VEVENT
DTSTART;TZID=Europe/London:20220204T190000
DTEND;TZID=Europe/London:20220204T230000
DTSTAMP:20260424T065734
CREATED:20220124T173709Z
LAST-MODIFIED:20220124T173709Z
UID:7011-1644001200-1644015600@supersonic-club.fr
SUMMARY:Djiin • Decasia • Red Cloud / Supersonic (Free entry)
DESCRIPTION:WELCOME TO SUPERSONIC\nConcerts gratuits\, Nuits rock et Disquaire à Paris ! \n \nDJIIN\n(Psych\, Stoner – Rennes\,FR)\n« Avec « Meandering Soul »\, DJIIN signe un superbe album avec lequel il atteint une maturité musicale qui lui permet d’affirmer sa personnalité dans un genre largement exploré et où il est difficile de sortir du lot. « Meandering Soul » est un des albums de stoner de l’année à ne pas manquer. » – HARD FORCE\n » Ça commence par une couverture sortie tout droit d’un rêve psychédélique digne d’un trip de substances illicite\, qui donne le ton à la musique qu’elle enveloppe. De toute évidence\, nos cousins d’outreAtlantique ont décidé de passer à l’offensive\, et ça fait plaisir à mes oreilles. »  » – Chicks ROCK Media\n– https://djiin.bandcamp.com/ \nDECASIA\n(Stoner-rock – More Fuzz records – Paris)\nLe power-trio puise son énergie intarissable dans l’interstice lumineux du stoner\, où des groupes comme Colour Haze et toute la clique d’Elektrohash se sont engouffrés. Force tellurique et vibrations célestes s’entremêlent pour déployer une musique qui sait tout aussi bien se montrer puissamment galvanisante qu’émotive et spontanée.\nAttention\, le power-trio est en passe de sortir un nouvel album absolument monstrueux\, qui sera joué sur scène !\nLes 3 influences : Pontiak\, Beastie Boys\, MC5\n– https://decasia.bandcamp.com/ \nRED CLOUD\n(Classic rock – Paris\, FR)\nRED CLOUD est un groupe de Rock parisien puisant son inspiration dans le Classic Rock des 70’s (Led Zeppelin\, AC/DC\, Black Sabbath\, Cactus\, Atomic Rooster) auquel viennent se mêler des influences plus contemporaines (DeWolff\, Monster Truck\, Rival Sons). Un chant mystique et des riffs endiablés portés par une session rythmique lourde\, le tout nappé par un orgue diabolique vous feront planer et danser toute la nuit !\nLes 3 influences : Led Zeppelin\, Rival Sons\, Black Sabbath\n– https://www.youtube.com/channel/UCHc3ydhh0JLrnO1d3NFrrCg \nTarifs : Gratuit
URL:http://supersonic-club.fr/event/djiin-%e2%80%a2-decasia-%e2%80%a2-red-cloud-supersonic-free-entry/
CATEGORIES:Concert,DECASIA,Djiin,Pop / Rock / Folk,Red Cloud,Sowprog
ATTACH;FMTTYPE=image/jpeg:http://supersonic-club.fr/wp-content/uploads/2022/01/namethumb_w600px_img_event_2b3c4a87-51f1-48e2-a5c0-312d1167e183.jpg
END:VEVENT
END:VCALENDAR