BEGIN:VCALENDAR
VERSION:2.0
PRODID:-//Supersonic - ECPv6.15.20//NONSGML v1.0//EN
CALSCALE:GREGORIAN
METHOD:PUBLISH
X-ORIGINAL-URL:http://supersonic-club.fr
X-WR-CALDESC:Évènements pour Supersonic
REFRESH-INTERVAL;VALUE=DURATION:PT1H
X-Robots-Tag:noindex
X-PUBLISHED-TTL:PT1H
BEGIN:VTIMEZONE
TZID:Europe/London
BEGIN:DAYLIGHT
TZOFFSETFROM:+0000
TZOFFSETTO:+0100
TZNAME:BST
DTSTART:20210328T010000
END:DAYLIGHT
BEGIN:STANDARD
TZOFFSETFROM:+0100
TZOFFSETTO:+0000
TZNAME:GMT
DTSTART:20211031T010000
END:STANDARD
BEGIN:DAYLIGHT
TZOFFSETFROM:+0000
TZOFFSETTO:+0100
TZNAME:BST
DTSTART:20220327T010000
END:DAYLIGHT
BEGIN:STANDARD
TZOFFSETFROM:+0100
TZOFFSETTO:+0000
TZNAME:GMT
DTSTART:20221030T010000
END:STANDARD
BEGIN:DAYLIGHT
TZOFFSETFROM:+0000
TZOFFSETTO:+0100
TZNAME:BST
DTSTART:20230326T010000
END:DAYLIGHT
BEGIN:STANDARD
TZOFFSETFROM:+0100
TZOFFSETTO:+0000
TZNAME:GMT
DTSTART:20231029T010000
END:STANDARD
END:VTIMEZONE
BEGIN:VEVENT
DTSTART;TZID=Europe/London:20220305T190000
DTEND;TZID=Europe/London:20220305T230000
DTSTAMP:20260420T141551
CREATED:20220113T170023Z
LAST-MODIFIED:20220301T142851Z
UID:6947-1646506800-1646521200@supersonic-club.fr
SUMMARY:Slow Crush • Dead Horse One / Supersonic (Free entry)
DESCRIPTION:Supersonic: Concerts gratuits\, Nuits rock et Disquaire à Paris \n \nSLOW CRUSH\n(Shoegaze grunge – Church Road Records\, Quiet Panic Records – Leuven\,BEL)\nA compelling abrasive shoegaze band\, dealing with the aesthetics of contrasting sounds. Heavy like a gloomy dream yet soothingly vibrant. Slow Crush are bridging boundaries with their own distinct sound between Shoegaze\, Postrock\, indierock\, Heavypop\, Nugaze\, Postpunk\, Grunge.\nLes 3 influences: Slowdive\, My Bloody Valentine\, Whirr\nhttps://slowcrush.bandcamp.com/releases\nhttps://www.youtube.com/c/SLOWCRUSH/videos \nDEAD HORSE ONE\n(Shoegaze – Requiem Pour Un Twister – Valence/Hossegor\,FR)\nIl y a 10 ans\, Dead Horse One sortait leur 1er EP chez Cranes Records\, qui reçut de nombreuses critiques positives et une programmation au Liverpool Psych Fest de 2013. S’en est suivi des tournées avec Ride\, Brian Jonestown Massacre\, Nothing et plusieurs excellents opus dont un LP produit par Mark Gardener des légendaires RIDE. Cette année\, ils reviennent avec ce nouvel EP: «When Love Runs Dry»\, produit par Brendan Williams (Soul Blind\, Warm) et sorti sur le label Requiem Pour Un Twister !\nLes 3 influences: Nirvana\, My Bloody Valentine\, Smashing Pumpkins\nhttps://deadhorseone1.bandcamp.com/\nhttps://youtu.be/YF0YdJZ4MCs \n———————————\nSamedi 5 Mars 2022\nEntrée gratuite jusqu’à 23h\n• Pass sanitaire et port du masque obligatoires\n• Ouverture des portes à 19h00\n• Happy Hour de 19h à 20h (3€50 la pinte)\n———————————\nSUPERSONIC\n9 rue Biscornet\, 75012 Paris\nMétro Bastille (sortie rue de lyon)\nhttp://supersonic-club.fr/ \nTarifs : Gratuit
URL:http://supersonic-club.fr/event/slow-crush-grivo-dead-horse-one-supersonic-free-entry/
CATEGORIES:Concert,Dead Horse One,Pop / Rock / Folk,Slow Crush,Sowprog
ATTACH;FMTTYPE=image/jpeg:http://supersonic-club.fr/wp-content/uploads/2022/01/namethumb_w600px_img_event_980d0ce2-fb9e-4b1d-93b7-dbe4d6575db4-1.jpg
END:VEVENT
END:VCALENDAR