BEGIN:VCALENDAR
VERSION:2.0
PRODID:-//Supersonic - ECPv6.15.20//NONSGML v1.0//EN
CALSCALE:GREGORIAN
METHOD:PUBLISH
X-WR-CALNAME:Supersonic
X-ORIGINAL-URL:http://supersonic-club.fr
X-WR-CALDESC:Évènements pour Supersonic
REFRESH-INTERVAL;VALUE=DURATION:PT1H
X-Robots-Tag:noindex
X-PUBLISHED-TTL:PT1H
BEGIN:VTIMEZONE
TZID:Europe/London
BEGIN:DAYLIGHT
TZOFFSETFROM:+0000
TZOFFSETTO:+0100
TZNAME:BST
DTSTART:20220327T010000
END:DAYLIGHT
BEGIN:STANDARD
TZOFFSETFROM:+0100
TZOFFSETTO:+0000
TZNAME:GMT
DTSTART:20221030T010000
END:STANDARD
BEGIN:DAYLIGHT
TZOFFSETFROM:+0000
TZOFFSETTO:+0100
TZNAME:BST
DTSTART:20230326T010000
END:DAYLIGHT
BEGIN:STANDARD
TZOFFSETFROM:+0100
TZOFFSETTO:+0000
TZNAME:GMT
DTSTART:20231029T010000
END:STANDARD
BEGIN:DAYLIGHT
TZOFFSETFROM:+0000
TZOFFSETTO:+0100
TZNAME:BST
DTSTART:20240331T010000
END:DAYLIGHT
BEGIN:STANDARD
TZOFFSETFROM:+0100
TZOFFSETTO:+0000
TZNAME:GMT
DTSTART:20241027T010000
END:STANDARD
END:VTIMEZONE
BEGIN:VEVENT
DTSTART;TZID=Europe/London:20230928T190000
DTEND;TZID=Europe/London:20230928T230000
DTSTAMP:20260420T155126
CREATED:20230915T155439Z
LAST-MODIFIED:20230927T171239Z
UID:11614-1695927600-1695942000@supersonic-club.fr
SUMMARY:Daytime TV • Veronica Fusaro • Thomas Bachler / Supersonic (Free entry)
DESCRIPTION:Cette soirée plaira aux fans de… Circa Waves\, The Struts & The Wombats \n \nDAYTIME TV (22h30)\n(Indie rock – Édimbourg\, UK)\nHaving recently supported Two Door Cinema Club\, Circa Waves\, The Wombats\, The Amazons\, Kaiser Chiefs and having featured at British Summer Time\, Mad Cool and Kendal Calling summer festivals\, plus being featured across both Spotify and Apple Music’s premium editorial playlists\, the impending rise of Scottish alternative band DAYTIME TV feels somewhat inevitable.\nThe product of a relentless hunger to create\, the band are ready to step out with their undeniable stadium-ready sound. With talk of a second album due next year\, the band’s hotly anticipated new singles can be expected to arrive imminently.\nTheir latest release ‘jessica’ received support across BBC Radio 1 and having taken the front cover spot of the UK’s biggest rock playlist\, The Rock List\, DAYTIME TV are primed for a breakout year\nFFO / Si vous aimez : Circa Waves\, The Struts & The Wombats\nhttps://open.spotify.com/…/artist/35ls7qnn5iKLPMT8PnOBy8\nhttps://www.youtube.com/watch?v=Gi0x0BUEhAw \nVERONICA FUSARO (21h30)\n(Soul pop – Deepdive records – Bern\, CH)\nVeronica Fusaro writes storytelling pop songs interweaved with powerful melodies that shimmer somewhere between soul and alternative pop music.\nInfluenced by the likes of Adele\, Amy Winehouse and Alicia Keys\, Veronica first stepped into the spotlight in 2016 with her self produced EP “Lost In Thought” and surprised the Swiss music industry by winning the “Demo of the Year” at the M4Music Festival.\nOut of over 500 shows that she played\, being the support act for Dire Straits legend Mark Knopfler in the amphitheater in Nîmes\, for Eagle-Eye Cherry’s album release Tour in France\, playing Glastonbury and the Montreux Jazz Festival mark only a few of the many highlights of her career.\nCurrently touring with her debut album “All the Colors of the Sky” and her 4 piece band\, she captures the audience with her strong stage presence and performance: Raw\, intriguing and skillfully balancing between the depth and playfulness of her music.\nhttp://bit.ly/VeronicaFusaro-Spotify\nhttps://www.youtube.com/c/VeronicaFusaroOfficial \nTHOMAS BACHLER (20h30)\n(Indie rock – Paris\, FR)\nThomas Bachler\, originaire d’Albi\, est un compositeur et producteur de musique. Après la réalisation d’une première maquette en 2022\, il lance son projet musical en arrivant à Paris\, et décide rapidement de s’entourer de Lucas Fratini à la guitare\, de Thomas Pierre à la basse et de Nathan Forsberg à la batterie. Leur musique nous plonge dans une atmosphère immersive où se mêle des influences allant de l’indie pop rock à la soul en passant par la musique de film. Ensemble ils décident de développer et d’amener ce projet sur scène afin de lui donner vie.\nFFO / Si vous aimez : Danger Mouse\, Dan Auerbach\, Paolo Nutini\nhttps://on.soundcloud.com/SjF3n\n———————————\nJeudi 28 Septembre 2023\nEntrée gratuite\n• Ouverture des portes à 19h00\n• Happy Hour de 19h à 20h (3€50 la pinte)\n• Si vous êtes témoin ou victime d’une agression\, vous pouvez alerter le personnel du bar ou si vous préférez\, vous pouvez nous écrire à cette adresse: communication@supersonic-paris.fr\n———————————\nSUPERSONIC\n9 rue Biscornet\, 75012 Paris\nMétro Bastille (sortie rue de lyon) \nTarifs : Gratuit
URL:http://supersonic-club.fr/event/daytime-tv-veronica-fusaro-supersonic-free-entry/
LOCATION:SUPERSONIC\, 9 Rue Biscornet\, Paris\, 75012\, France
CATEGORIES:Concert,Daytime TV,Pop / Rock / Folk,Sowprog,SUPERSONIC,Thomas Bachler,Veronica Fusaro
ATTACH;FMTTYPE=image/jpeg:http://supersonic-club.fr/wp-content/uploads/2023/09/namethumb_w600px_img_event_596a9864-01d3-4768-a3b6-e9ccc593f464-1.jpg
END:VEVENT
END:VCALENDAR