BEGIN:VCALENDAR
VERSION:2.0
PRODID:-//Supersonic - ECPv6.15.20//NONSGML v1.0//EN
CALSCALE:GREGORIAN
METHOD:PUBLISH
X-WR-CALNAME:Supersonic
X-ORIGINAL-URL:http://supersonic-club.fr
X-WR-CALDESC:Évènements pour Supersonic
REFRESH-INTERVAL;VALUE=DURATION:PT1H
X-Robots-Tag:noindex
X-PUBLISHED-TTL:PT1H
BEGIN:VTIMEZONE
TZID:Europe/London
BEGIN:DAYLIGHT
TZOFFSETFROM:+0000
TZOFFSETTO:+0100
TZNAME:BST
DTSTART:20160327T010000
END:DAYLIGHT
BEGIN:STANDARD
TZOFFSETFROM:+0100
TZOFFSETTO:+0000
TZNAME:GMT
DTSTART:20161030T010000
END:STANDARD
BEGIN:DAYLIGHT
TZOFFSETFROM:+0000
TZOFFSETTO:+0100
TZNAME:BST
DTSTART:20170326T010000
END:DAYLIGHT
BEGIN:STANDARD
TZOFFSETFROM:+0100
TZOFFSETTO:+0000
TZNAME:GMT
DTSTART:20171029T010000
END:STANDARD
BEGIN:DAYLIGHT
TZOFFSETFROM:+0000
TZOFFSETTO:+0100
TZNAME:BST
DTSTART:20180325T010000
END:DAYLIGHT
BEGIN:STANDARD
TZOFFSETFROM:+0100
TZOFFSETTO:+0000
TZNAME:GMT
DTSTART:20181028T010000
END:STANDARD
END:VTIMEZONE
BEGIN:VEVENT
DTSTART;TZID=Europe/London:20170428T004500
DTEND;TZID=Europe/London:20170428T070000
DTSTAMP:20260421T015702
CREATED:20170422T145055Z
LAST-MODIFIED:20170422T145055Z
UID:1342-1493340300-1493362800@supersonic-club.fr
SUMMARY:Underscep presents PHP : TBA // Dawidu // Philipp Drube
DESCRIPTION:Sigmund Erscep présente : Panam House Papers au Supersonic. Le 27 Avril\, UNDERSCEP réunit le meilleur de la scène House Parisienne et Berlinoise au SUPERSONIC. \n \n// TBA soon //  \n// Dawidu //\nhttps://soundcloud.com/teiubescrecords \n// Philipp Drube //\nOriginally from Hamburg\, Philipp Drube is based in Berlin since a few years. Constantly moving forward\, he traces his path surely\, adding more and more dates to his agenda. Previously playing within Griessmuehle\, Tresor as well as at the Arena Club\, he’s Resident for the Ismus events. \n \nINFOS PRATIQUES\n8€ early birds : https://goo.gl/Z9kLhh\n10€ prévente : https://goo.gl/Z9kLhh\n15€ sur place\nⓂ️ BASTILLE (sortie rue de Lyon) \nPARTENAIRES\nUrbaine Paris \nTarifs : SUR PLACE : 15€ \nBilletteries : PREVENTES YURPLAN
URL:http://supersonic-club.fr/event/underscep-presents-php-tba-dawidu-philipp-drube/
LOCATION:SUPERSONIC\, 9 Rue Biscornet\, Paris\, 75012\, France
CATEGORIES:Clubbing,DAWIDU,Musiques electroniques,Philipp Drube
ATTACH;FMTTYPE=image/jpeg:http://supersonic-club.fr/wp-content/uploads/2017/04/namethumb_w600px_img_event_f97f0c5e-136f-458f-a6cc-abf3224403ba.jpg
END:VEVENT
END:VCALENDAR