BEGIN:VCALENDAR
VERSION:2.0
PRODID:-//Supersonic - ECPv6.15.20//NONSGML v1.0//EN
CALSCALE:GREGORIAN
METHOD:PUBLISH
X-WR-CALNAME:Supersonic
X-ORIGINAL-URL:http://supersonic-club.fr
X-WR-CALDESC:Évènements pour Supersonic
REFRESH-INTERVAL;VALUE=DURATION:PT1H
X-Robots-Tag:noindex
X-PUBLISHED-TTL:PT1H
BEGIN:VTIMEZONE
TZID:Europe/London
BEGIN:DAYLIGHT
TZOFFSETFROM:+0000
TZOFFSETTO:+0100
TZNAME:BST
DTSTART:20160327T010000
END:DAYLIGHT
BEGIN:STANDARD
TZOFFSETFROM:+0100
TZOFFSETTO:+0000
TZNAME:GMT
DTSTART:20161030T010000
END:STANDARD
BEGIN:DAYLIGHT
TZOFFSETFROM:+0000
TZOFFSETTO:+0100
TZNAME:BST
DTSTART:20170326T010000
END:DAYLIGHT
BEGIN:STANDARD
TZOFFSETFROM:+0100
TZOFFSETTO:+0000
TZNAME:GMT
DTSTART:20171029T010000
END:STANDARD
BEGIN:DAYLIGHT
TZOFFSETFROM:+0000
TZOFFSETTO:+0100
TZNAME:BST
DTSTART:20180325T010000
END:DAYLIGHT
BEGIN:STANDARD
TZOFFSETFROM:+0100
TZOFFSETTO:+0000
TZNAME:GMT
DTSTART:20181028T010000
END:STANDARD
END:VTIMEZONE
BEGIN:VEVENT
DTSTART;TZID=Europe/London:20171021T005500
DTEND;TZID=Europe/London:20171021T070000
DTSTAMP:20260420T191427
CREATED:20170927T120259Z
LAST-MODIFIED:20170927T120259Z
UID:2067-1508547300-1508569200@supersonic-club.fr
SUMMARY:Une nuit avec Daniel Jeanrenaud / Skip School Warm Up
DESCRIPTION:En attendant Noël et le festival Skip School\, qui met en lumière la culture Rockabilly on vous invite au Warm Up! avec le mythique Daniel Jeanrenaud! \n \n→ DANIEL JEANRENAUD\n(live Rock’n’roll ) \nTrès heureux d’accueillir Daniel Jeanrenaud – The Camden Cat\, leader du groupe culte #Kingsnakes puis des #HotsPants.\nHéros rock’n’roll depuis ses 20ans\, il a notamment côtoyé les plus grands tels que #CarlPerkins\, #BoDiddley\, #JerryLeeLewis ou même #ChuckBerry…\nUn costume qui éclabousse\, une houppette rockabilly\, des mocassins en faux-serpent et un jeu de guitare épileptique: c’est le vendredi 20 octobre à partir de minuit pour le #warmup Skip School\, festival rockabilly qui l’avait accueilli lors de leur 1ère édition\, et qui revient cette année juste avant Noël… on vous dévoile tout le 20 octobre 😉 \n+ DJ SET #rocknroll #50s #rockabilly #surf\n+ 2EME CONCERT DE NUIT \nTarifs : SUR PLACE : 5€
URL:http://supersonic-club.fr/event/une-nuit-avec-daniel-jeanrenaud-skip-school-warm-up/
LOCATION:SUPERSONIC\, 9 Rue Biscornet\, Paris\, 75012\, France
CATEGORIES:Concert,Daniel Jeanrenaud,Pop / Rock / Folk
ATTACH;FMTTYPE=image/jpeg:http://supersonic-club.fr/wp-content/uploads/2017/09/namethumb_w600px_img_event_53c84373-c61b-4d46-b9f1-9e7a44c77502.jpg
END:VEVENT
END:VCALENDAR