BEGIN:VCALENDAR
VERSION:2.0
PRODID:-//Supersonic - ECPv6.15.20//NONSGML v1.0//EN
CALSCALE:GREGORIAN
METHOD:PUBLISH
X-ORIGINAL-URL:http://supersonic-club.fr
X-WR-CALDESC:Évènements pour Supersonic
REFRESH-INTERVAL;VALUE=DURATION:PT1H
X-Robots-Tag:noindex
X-PUBLISHED-TTL:PT1H
BEGIN:VTIMEZONE
TZID:Europe/London
BEGIN:DAYLIGHT
TZOFFSETFROM:+0000
TZOFFSETTO:+0100
TZNAME:BST
DTSTART:20160327T010000
END:DAYLIGHT
BEGIN:STANDARD
TZOFFSETFROM:+0100
TZOFFSETTO:+0000
TZNAME:GMT
DTSTART:20161030T010000
END:STANDARD
BEGIN:DAYLIGHT
TZOFFSETFROM:+0000
TZOFFSETTO:+0100
TZNAME:BST
DTSTART:20170326T010000
END:DAYLIGHT
BEGIN:STANDARD
TZOFFSETFROM:+0100
TZOFFSETTO:+0000
TZNAME:GMT
DTSTART:20171029T010000
END:STANDARD
BEGIN:DAYLIGHT
TZOFFSETFROM:+0000
TZOFFSETTO:+0100
TZNAME:BST
DTSTART:20180325T010000
END:DAYLIGHT
BEGIN:STANDARD
TZOFFSETFROM:+0100
TZOFFSETTO:+0000
TZNAME:GMT
DTSTART:20181028T010000
END:STANDARD
END:VTIMEZONE
BEGIN:VEVENT
DTSTART;TZID=Europe/London:20171212T200000
DTEND;TZID=Europe/London:20171212T233000
DTSTAMP:20260426T023205
CREATED:20171004T145911Z
LAST-MODIFIED:20171212T141203Z
UID:2131-1513108800-1513121400@supersonic-club.fr
SUMMARY:Cymbals (Tough Love) • Arhios • Daymark / Supersonic - Free
DESCRIPTION:Le Supersonic présente… \n \n▬▬▬ ENTREE LIBRE ▬▬▬▬▬▬▬▬▬▬▬▬ \n→ CYMBALS\n(Synthpop – Tough Love Records – Paris/London) \n« On avait quitté CYMBALS en 2013 avec The Age Of Fracture (Tough Love Records) en vadrouille entre The English Riviera de Metronomy et les ambiances synth-pop qui animaient les nuits de Bergen à l’époque de gloire de Air France et JJ\, on imaginait volontiers que le groupe britannique privilégierait l’insouciance et la légèreté pour esquisser quelques pas de danse hédonistes. Raté. Light In Your Mind est un manifeste à la mélancolie automnale – quand bien même le disque s’achève sur ses paroles : « don’t be sad\, don’t be sad ». Un petit disque dont on use et abuse sans retenue. \nSi on ne saurait crier au génie sans être taxé d’un manque de lucidité (oui\, certes\, il n’y a rien de réellement neuf dans cette affaire)\, en revanche\, il faut reconnaitre à CYMBALS une belle qualité d’écriture et une sensibilité qui font de Light In Your Mind un de ses albums auxquels on accorde un attachement tout particulier. » – Sun Burns Out \n► Liker: https://www.facebook.com/CYMBALSmusic/\n► Regarder: https://www.youtube.com/watch?v=9fDlTd1wcHg\n► Pour en savoir plus: http://www.cymbalsmusic.com/ \n→ ARHIOS\n(Post-rock / pop electronica – Vannes\, Rennes) \nPuissance des vagues en pleine tempête\, douceur d’un coucher de soleil sur l’horizon\, les ambiances changeantes de ce post-rock instrumental invitent à la contemplation. Inspiré par Sigur Ros\, Caspian\, BNRS ou encore Gogo Penguin\, Arhios vous transporte dans une musique introspective qui vise avec justesse le moment où le son se transforme en émotion. L’absence de mots libère et rend le voyage plus facile\, chacun trouvant sa place dans un écrin de sonorités puissantes aériennes. \nLes 3 influences: BRNS\, Boards Of Canada\, Caspian \n► Liker: https://www.facebook.com/pg/arhios.band\n► Ecouter: http://arhios.com/music/\n► Regarder: https://www.youtube.com/watch?v=t3rIpBkLfKs&feature=youtu.be \n→ DAYMARK\n(Electro rock – Paris) \nDaymark naît de la rencontre de trois musiciens ayant fait connaissance au travers de projets variés allant du jazz à la pop-rock. Rapidement\, des affinités se créent\, et une esthétique artistique commune émerge. Ayant chacun suivi une formation musicale\, ils partagent une passion commune pour les instrumentations live qu’ils souhaitent mêler aux sonorités de productions électroniques modernes.\nDès lors\, la naissance du projet se fait naturellement: l’année 2016 est consacrée à la composition de leur premier EP\, qu’ils produisent eux- mêmes. Sorti en janvier 2017\, ce premier jet présente des morceaux aux ambiances planantes mêlant beats electro énergiques\, textures synthétiques éthérées\, et pop mélancolique rêveuse. Passionnés de 7ème art\, les trois membres de Daymark puisent également leur inspiration dans l’art visuel\, insufflant une dimension atmosphérique et polaire à leurs compositions.  \nLes 3 influences : Radiohead\, Bonobo\, Mogwai \n► Liker: https://www.facebook.com/thedaymark/\n► Ecouter : https://soundcloud.com/daymarkmusic\n► Regarder : https://www.youtube.com/watch?v=kudPSKp3dfo \n▬▬▬ INFOS PRATIQUES ▬▬▬▬▬▬▬▬▬▬▬ \nMardi 12 Décembre 2017\nEntrée gratuite \n– Ouverture des portes à 18h30\n– Happy Hour de 18h30 à 20h (3€50 la pinte)\n– Début des concerts vers 20h\n– Foodtruck hot dog au 1er étage \nPartenaire média: – Open Up Your Ears \n▬▬▬▬▬▬▬▬▬▬▬▬▬▬▬▬▬▬▬▬▬▬▬ \nSUPERSONIC\n9 rue Biscornet\, 75012 Paris\nMétro Bastille (sortie rue de lyon)\nhttp://supersonic-club.fr/\nInscription à la newsletter du Supersonic: http://bit.ly/1lWTnx4 \nTarifs : Gratuit
URL:http://supersonic-club.fr/event/cymbals-tough-love-en-concert-au-supersonic-free/
LOCATION:SUPERSONIC\, 9 Rue Biscornet\, Paris\, 75012\, France
CATEGORIES:Arhios,Concert,Cymbals,Daymark,Pop / Rock / Folk
ATTACH;FMTTYPE=image/jpeg:http://supersonic-club.fr/wp-content/uploads/2017/10/namethumb_w600px_img_event_0fc4d5d1-f9a6-487b-b05c-34c88c0cd188-1.jpg
END:VEVENT
END:VCALENDAR