BEGIN:VCALENDAR
VERSION:2.0
PRODID:-//Supersonic - ECPv6.15.20//NONSGML v1.0//EN
CALSCALE:GREGORIAN
METHOD:PUBLISH
X-WR-CALNAME:Supersonic
X-ORIGINAL-URL:http://supersonic-club.fr
X-WR-CALDESC:Évènements pour Supersonic
REFRESH-INTERVAL;VALUE=DURATION:PT1H
X-Robots-Tag:noindex
X-PUBLISHED-TTL:PT1H
BEGIN:VTIMEZONE
TZID:Europe/London
BEGIN:DAYLIGHT
TZOFFSETFROM:+0000
TZOFFSETTO:+0100
TZNAME:BST
DTSTART:20160327T010000
END:DAYLIGHT
BEGIN:STANDARD
TZOFFSETFROM:+0100
TZOFFSETTO:+0000
TZNAME:GMT
DTSTART:20161030T010000
END:STANDARD
BEGIN:DAYLIGHT
TZOFFSETFROM:+0000
TZOFFSETTO:+0100
TZNAME:BST
DTSTART:20170326T010000
END:DAYLIGHT
BEGIN:STANDARD
TZOFFSETFROM:+0100
TZOFFSETTO:+0000
TZNAME:GMT
DTSTART:20171029T010000
END:STANDARD
BEGIN:DAYLIGHT
TZOFFSETFROM:+0000
TZOFFSETTO:+0100
TZNAME:BST
DTSTART:20180325T010000
END:DAYLIGHT
BEGIN:STANDARD
TZOFFSETFROM:+0100
TZOFFSETTO:+0000
TZNAME:GMT
DTSTART:20181028T010000
END:STANDARD
END:VTIMEZONE
BEGIN:VEVENT
DTSTART;TZID=Europe/London:20171111T200000
DTEND;TZID=Europe/London:20171111T230000
DTSTAMP:20260424T163212
CREATED:20171110T134403Z
LAST-MODIFIED:20171110T134403Z
UID:2211-1510430400-1510441200@supersonic-club.fr
SUMMARY:EDH SOS Release = avec du beau monde
DESCRIPTION:Le Supersonic présente… \n \nDans une tentative de chaos prémédité\, il pourrait bien y avoir des mélanges incongrus. Pop/anti-pop\, synthétique\, electronique avec des machines et de « vrais » instruments. \n▬▬▬ LINE UP ▬▬▬ \n→ EDH\nAdepte des sons synthétiques mélodiques et tortueux\nhttps://lentoniarecords.bandcamp.com/album/sos-spring \n→ Hypo\nIl tord et étrangle la pop\nhttps://lentoniarecords.bandcamp.com/album/xin \n→ Tamara Goukassova\nviolon solo\nhttp://alpageshop.com/album/a-sit-with-no-view \n→ Carradot\nmusique chrétienne\nhttps://carradot.bandcamp.com/ \n→ Crysta patterson\nDancefloor de pointe !\nhttps://lentoniarecords.bandcamp.com/track/helle \nTarifs : Gratuit
URL:http://supersonic-club.fr/event/edh-sos-release-avec-du-beau-monde/
LOCATION:SUPERSONIC\, 9 Rue Biscornet\, Paris\, 75012\, France
CATEGORIES:Carradot,Concert,Crysta Patterson,EDH,Hypo,Pop / Rock / Folk,Tamara Goukassova
ATTACH;FMTTYPE=image/jpeg:http://supersonic-club.fr/wp-content/uploads/2017/11/namethumb_w600px_img_event_09238bbf-c849-449a-8cae-9785ce1ee43d.jpg
END:VEVENT
END:VCALENDAR