BEGIN:VCALENDAR
VERSION:2.0
PRODID:-//Supersonic - ECPv6.15.20//NONSGML v1.0//EN
CALSCALE:GREGORIAN
METHOD:PUBLISH
X-ORIGINAL-URL:http://supersonic-club.fr
X-WR-CALDESC:Évènements pour Supersonic
REFRESH-INTERVAL;VALUE=DURATION:PT1H
X-Robots-Tag:noindex
X-PUBLISHED-TTL:PT1H
BEGIN:VTIMEZONE
TZID:Europe/London
BEGIN:DAYLIGHT
TZOFFSETFROM:+0000
TZOFFSETTO:+0100
TZNAME:BST
DTSTART:20240331T010000
END:DAYLIGHT
BEGIN:STANDARD
TZOFFSETFROM:+0100
TZOFFSETTO:+0000
TZNAME:GMT
DTSTART:20241027T010000
END:STANDARD
BEGIN:DAYLIGHT
TZOFFSETFROM:+0000
TZOFFSETTO:+0100
TZNAME:BST
DTSTART:20250330T010000
END:DAYLIGHT
BEGIN:STANDARD
TZOFFSETFROM:+0100
TZOFFSETTO:+0000
TZNAME:GMT
DTSTART:20251026T010000
END:STANDARD
BEGIN:DAYLIGHT
TZOFFSETFROM:+0000
TZOFFSETTO:+0100
TZNAME:BST
DTSTART:20260329T010000
END:DAYLIGHT
BEGIN:STANDARD
TZOFFSETFROM:+0100
TZOFFSETTO:+0000
TZNAME:GMT
DTSTART:20261025T010000
END:STANDARD
END:VTIMEZONE
BEGIN:VEVENT
DTSTART;TZID=Europe/London:20250924T190000
DTEND;TZID=Europe/London:20250924T230100
DTSTAMP:20260420T073404
CREATED:20250903T165344Z
LAST-MODIFIED:20250911T134625Z
UID:17007-1758740400-1758754860@supersonic-club.fr
SUMMARY:Cold Beaches • Adèle Luisa • Cathy
DESCRIPTION:Cette soirée plaira aux fans de… Blossoms\, New Dad & Dehd \n \nCOLD BEACHES (22h00)\n(Indie jazz pop – Paris\, FR)\nBasé à Paris et originaire de Chicago aux États-Unis\, Cold Beaches sort son album indie jazz pop « Ambient Joy ». Après avoir enregistré l’album en collaboration avec Band & Breakfast à Rome\, en Italie\, Cold Beaches interprétera ses nouvelles chansons pour célébrer cette nouvelle sortie\, la première depuis cinq ans.\nLes 3 influences : Men I Trust\, Pavement\, Still Woozy\nhttps://coldbeaches.bandcamp.com/track/where-i-started\nhttps://www.youtube.com/@ColdBeaches \nADÈLE LUISA (21h00)\n(Indie pop – Paris\, FR)\nAdèle Luisa propose une indie pop psychédélique teintée de jazz\, portée par sa voix et ses textes en français.\nEntourée de ses quatre musiciens sur scène\, elle livre un live aux arrangements planants\, qui emportent le public dans des courants profonds\, parmi les créatures bioluminescentes.\nLes 3 influences : Mac Demarco\, Flavien Berger\, Bonnie Banane\nhttps://open.spotify.com/artist/1VnjeyVrCJF3JDYFMcL36d…\nhttps://www.youtube.com/@adeleluisa \nCATHY (20h00)\n(Indie rock – Paris\, FR)\nCathy est un groupe parisien composé d’Audrey Rhodes-Greig\, Kate Homsy\, André Godon et Alek Gardet. Leur style musical est principalement indé/folk\, mais surtout en concert\, on y retrouve un aspect rock. Ils commencent à jouer ensemble dès l’automne 2024 lorsqu’André et Alek viennent d’Istanbul pour leurs études\, mais Audrey et Kate composent déjà à deux sous le nom de Cathy depuis 2022. La musique de Cathy est alors aussi définie par une grande proximité entre les deux musiciennes\, qui écrivent des chansons qui leur ressemblent autant l’une que l’autre. Les membres ont beaucoup de références en commun\, mais chacun a ses influences en particulier (Fleetwood Mac\, Big Thief\, Lou Reed mais aussi The Libertines\, The War on Drugs ou encore Mazzy Star)\, ce qui fait\, avec leurs deux voix lead\, la spécificité de leur style.\nLes 3 influences : Fleetwood Mac\, The Libertines\, The Cranberries\nhttps://open.spotify.com/artist/3Ri46HMFXnM8gr5FEswlZg…\nhttps://youtube.com/@cathytheband?si=nRG5y9UySmNyPokI \nLa suite de la programmation arrive très vite !\n———————————\nLundi 22 Septembre 2025\nEntrée gratuite\n• Ouverture des portes à 19h00\n• Happy Hour de 19h à 20h\n• Si vous êtes témoin ou victime d’une agression\, vous pouvez alerter le personnel du bar ou si vous préférez\, vous pouvez nous écrire à cette adresse: communication@supersonic-paris.fr\n———————————\nSUPERSONIC\n9 rue Biscornet\, 75012 Paris\nMétro Bastille (sortie rue de lyon) \nTarifs : Gratuit
URL:http://supersonic-club.fr/event/cold-beaches/
LOCATION:SUPERSONIC\, 9 Rue Biscornet\, Paris\, 75012\, France
CATEGORIES:Adèle Luisa,Cathy,Cold Beaches,Concert,Pop / Rock / Folk,Sowprog,SUPERSONIC,Supersonic Productions
ATTACH;FMTTYPE=image/jpeg:http://supersonic-club.fr/wp-content/uploads/2025/09/namethumb_w600px_img_event_861cead6-6b90-491a-bce0-22d260e4e460-3.jpg
END:VEVENT
END:VCALENDAR