BEGIN:VCALENDAR
VERSION:2.0
PRODID:-//Supersonic - ECPv6.15.20//NONSGML v1.0//EN
CALSCALE:GREGORIAN
METHOD:PUBLISH
X-ORIGINAL-URL:http://supersonic-club.fr
X-WR-CALDESC:Évènements pour Supersonic
REFRESH-INTERVAL;VALUE=DURATION:PT1H
X-Robots-Tag:noindex
X-PUBLISHED-TTL:PT1H
BEGIN:VTIMEZONE
TZID:Europe/London
BEGIN:DAYLIGHT
TZOFFSETFROM:+0000
TZOFFSETTO:+0100
TZNAME:BST
DTSTART:20230326T010000
END:DAYLIGHT
BEGIN:STANDARD
TZOFFSETFROM:+0100
TZOFFSETTO:+0000
TZNAME:GMT
DTSTART:20231029T010000
END:STANDARD
BEGIN:DAYLIGHT
TZOFFSETFROM:+0000
TZOFFSETTO:+0100
TZNAME:BST
DTSTART:20240331T010000
END:DAYLIGHT
BEGIN:STANDARD
TZOFFSETFROM:+0100
TZOFFSETTO:+0000
TZNAME:GMT
DTSTART:20241027T010000
END:STANDARD
BEGIN:DAYLIGHT
TZOFFSETFROM:+0000
TZOFFSETTO:+0100
TZNAME:BST
DTSTART:20250330T010000
END:DAYLIGHT
BEGIN:STANDARD
TZOFFSETFROM:+0100
TZOFFSETTO:+0000
TZNAME:GMT
DTSTART:20251026T010000
END:STANDARD
END:VTIMEZONE
BEGIN:VEVENT
DTSTART;TZID=Europe/London:20240516T190000
DTEND;TZID=Europe/London:20240516T233000
DTSTAMP:20260420T011012
CREATED:20240228T151210Z
LAST-MODIFIED:20240430T132506Z
UID:13099-1715886000-1715902200@supersonic-club.fr
SUMMARY:Chain of Flowers • Coeval • Arainbow / Supersonic (Free entry)
DESCRIPTION:Cette soirée plaira aux fans de… Iceage\, Diiv & Drab Majesty \n \nCHAIN OF FLOWERS (22h00)\n(Dream rock – Londres\, UK)\nChain of Flowers is back in a big way\, returning with their long-awaited and quickly acclaimed sophomore LP\, ‘Never Ending Space\,’ via London label ALTER. Produced\, recorded\, and mixed by Fucked Up drummer Jonah Falco at Total Refreshment Centre\, London\, this record presents the band in a scintillating new light.\n‘Never Ending Space’ has propelled the band into a new\, sophisticated yet expansive realm of sound\, building out their once-signature shoegaze-punk pummel with a deeper\, more considered but just as brooding neu-wave-pop palette.\nFormed in Cardiff\, their eponymous 2015 debut received considerable acclaim and an unusual amount of media attention\, given the band’s means of operation. The record’s positive reception kept the band busy on either side of the Atlantic\, packing out rooms from Cardiff to Berlin to Los Angeles. Along the way\, they were invited to tour with the likes of The Jesus & Mary Chain\, The Fall\, The Chameleons\, Nothing\, and Ceremony.\nChain of Flowers returned to the road in 2023\, swirling across Europe with a freshly charged dancefloor sensibility. They will continue this in 2024 with an exclusive performance at Wave Gotik Treffen.\nhttps://chainofflowers.bandcamp.com/\nhttps://www.youtube.com/watch?v=jOcF6U9r9kM \nCOEVAL (21h00)\n(Post punk – Le Turc Mécanique – Londres\, UK)\nFormed in London over a shared love for acts spanning across anything from the Velvet Underground\, the Australian punk revival scene by way of The Fall\, COEVAL deliver a nervous yet sometimes hypnotic sound. Explosive guitars\, airtight bass lines combined with haunted vocals gravitate around electronic drums where more contemporary influences meet. Following a debut modestly named “EP”\, they have just released their first full length LP “COEVAL”\, out on Le Turc Mecanique.\nLes 3 influences : Velvet Underground\, The Fall\, Total Control\nhttps://leturcmecanique.bandcamp.com/album/coeval \nARAINBOW (20h00)\n(Shoegaze – Île de France\, FR)\nUn murmure\, une averse\, une transe… Heavy et planant\, Arainbow sonne comme la pluie sur un champ de bataille\, celle qui enveloppe et régénère. Un voyage intime\, accidenté\, écorché et contemplatif\, qui traverse déserts et tempêtes\, pour conduire doucement vers la lumière.Une prière déposée dans le creux de ton oreille\, en français et en anglais\, entre shoegaze\, dark folk\,psyché\, à la croisée des terres brumeuses et hantées d’Archive\, Pink Floyd\, Matt Eliott\, Wovenhand ou Deftones..\nLes 3 influences : Radiohead\, Chokebore\, Matt Eliott\nhttps://arainbow.bandcamp.com/\nhttps://www.youtube.com/@ARAINBOWOFFICIAL\n———————————\nJeudi 16 Mai 2024\nEntrée gratuite\n• Ouverture des portes à 19h00\n• Happy Hour de 19h à 20h\n• Si vous êtes témoin ou victime d’une agression\, vous pouvez alerter le personnel du bar ou si vous préférez\, vous pouvez nous écrire à cette adresse: communication@supersonic-paris.fr\n———————————\nSUPERSONIC\n9 rue Biscornet\, 75012 Paris\nMétro Bastille (sortie rue de lyon) \nTarifs : Gratuit
URL:http://supersonic-club.fr/event/chain-of-flowers-en-concert-au-supersonic-free-entry/
LOCATION:SUPERSONIC\, 9 Rue Biscornet\, Paris\, 75012\, France
CATEGORIES:Arainbow,Chain of Flowers,COEVAL,Concert,Pop / Rock / Folk,Sowprog,SUPERSONIC,Supersonic Productions
ATTACH;FMTTYPE=image/jpeg:http://supersonic-club.fr/wp-content/uploads/2024/02/namethumb_w600px_img_event_137590a2-543e-457e-8868-952e6ed648d2-2.jpg
END:VEVENT
END:VCALENDAR