BEGIN:VCALENDAR
VERSION:2.0
PRODID:-//Supersonic - ECPv6.15.20//NONSGML v1.0//EN
CALSCALE:GREGORIAN
METHOD:PUBLISH
X-ORIGINAL-URL:http://supersonic-club.fr
X-WR-CALDESC:Évènements pour Supersonic
REFRESH-INTERVAL;VALUE=DURATION:PT1H
X-Robots-Tag:noindex
X-PUBLISHED-TTL:PT1H
BEGIN:VTIMEZONE
TZID:Europe/London
BEGIN:DAYLIGHT
TZOFFSETFROM:+0000
TZOFFSETTO:+0100
TZNAME:BST
DTSTART:20180325T010000
END:DAYLIGHT
BEGIN:STANDARD
TZOFFSETFROM:+0100
TZOFFSETTO:+0000
TZNAME:GMT
DTSTART:20181028T010000
END:STANDARD
BEGIN:DAYLIGHT
TZOFFSETFROM:+0000
TZOFFSETTO:+0100
TZNAME:BST
DTSTART:20190331T010000
END:DAYLIGHT
BEGIN:STANDARD
TZOFFSETFROM:+0100
TZOFFSETTO:+0000
TZNAME:GMT
DTSTART:20191027T010000
END:STANDARD
BEGIN:DAYLIGHT
TZOFFSETFROM:+0000
TZOFFSETTO:+0100
TZNAME:BST
DTSTART:20200329T010000
END:DAYLIGHT
BEGIN:STANDARD
TZOFFSETFROM:+0100
TZOFFSETTO:+0000
TZNAME:GMT
DTSTART:20201025T010000
END:STANDARD
END:VTIMEZONE
BEGIN:VEVENT
DTSTART;TZID=Europe/London:20190814T210000
DTEND;TZID=Europe/London:20190815T003000
DTSTAMP:20260420T072023
CREATED:20190729T153617Z
LAST-MODIFIED:20190801T142321Z
UID:4920-1565816400-1565829000@supersonic-club.fr
SUMMARY:Fuzzy Vox • Clavicule • Power Shake / Supersonic (Free entry)
DESCRIPTION:▬ Le Supersonic présente ▬ \n \n▬▬▬ ENTREE LIBRE JUSQU’A 23H ▬▬▬▬ \n→ FUZZY VOX\n(Rock’n Roll – Joinville\,FR) \nFrance – 2019: le dernier bastion du Rockʼn Roll est sur le point de tomber\, et pourtant\, un petit groupe d’irréductibles Joinvillais résiste encore et toujours à lʼenvahisseur électronique. Les Fuzzy Vox\, préférant mourir plutôt que de sacrifier leurs guitares et leurs costumes zébrés\, nʼont plus besoin de prouver quʼil sont la sensation rock la plus excitante du moment. Malgré tout\, après « NO LANDING PLAN » (2016\, enregistré à L.A) cʼest avec un EP « BA-DA-BOOM » (sortie Octobre 2017) que lʼindomptable power- trio pénètre dans la cour des grands\, tutoyant Miles Kane et Dr Feelgood. Véritables piles électriques sur scène détruisant tout sans concession\, leur meilleure arme reste leur capacité à écrire des chansons\, petits trésors « kinksiens » chantables instantanément et dont ils maîtrisent la recette: ils sont tombés dedans quand ils étaient petits.\nAprès un passage remarqué au Petit Journal de Canal+ et de multiples tournées ratissant la France (dont une première partie de Johnny Halliday) et lʼEurope\, les trois guerriers répandent leur énergie positive dans le monde entier afin de faire transpirer les garçons et hurler les filles\, et tout ça sans potion magique\, on vous le garantit. \n► Liker: https://www.facebook.com/pg/fuzzyvox\n► Ecouter : https://soundcloud.com/fuzzyvox\n► Regarder : https://www.youtube.com/user/MrFuzzyVox \n→ CLAVICULE\n(Garage Punk Psych – Rennes\,FR) \nCréé depuis à peine plus d’un an\, CLAVICULE se veut de jouer du garage comme il se doit : avec un son brut de pomme et une énergie folle sur scène.\nLe groupe a su faire ses preuves en quelques concerts et en ouvrant notamment pour Les Lullies\, les belges de Phoenician Drive ou encore les australiens de The Floors (Beast Records).\nInfluencés par la grouillante scène californienne (Ty Segall\, Meatbodies…) les rennais de Clavicule proposent un garage aromatisé sauce punk avec une pincée de psyché : à écouter d’urgence sur leur 1er EP sorti fin juin 2019 !\nPas d’hésitation\, foncez en live vous faire secouer les os !  \n► Liker: https://www.facebook.com/Clavicule-920265798172730/\n► Ecouter : https://clavicule.bandcamp.com/releases\n► Regarder : https://www.youtube.com/channel/UC1TGDn1vS2k45tlrJC2nRTg \n→ POWER SHAKE\n(Dynamite Blues Boogie Band – Tournai\,BEL) \n«Fraichement débarqué sur la scène blues’n’roll belge\, POWER SHAKE\, quartet explosif\, distille un mix détonnant de dirty boogie\, surf\, honky tonk blues et roots garage à l’énergie puissante et contagieuse! Warning! It’s dynamite\, folks!» \n► Liker: https://www.facebook.com/powershakeband/\n► Regarder : https://www.youtube.com/watch?v=Qp1ufULMJyk \n▬▬▬ INFOS PRATIQUES ▬▬▬ \nMercredi 14 Août 2019\nEntrée gratuite jusqu’à 23h \n– Ouverture des portes à 18h30\n– Début des concerts vers 20h\n– Happy Hour de 18h30 à 20h (3€50 la pinte)\n– Hot Dog au bar \n▬▬▬▬▬▬▬▬▬▬▬▬▬▬▬▬▬▬▬▬▬▬▬ \nSUPERSONIC\n9 rue Biscornet\, 75012 Paris\nMétro Bastille (sortie rue de lyon)\nhttp://supersonic-club.fr/\nObjets Perdus: https://forms.gle/rZxcMgGD5G82JnMQ9\nNewsletter du Supersonic: http://eepurl.com/gmxPzb​ \nTarifs : Gratuit
URL:http://supersonic-club.fr/event/fuzzy-vox-%e2%80%a2-clavicule-supersonic-free-entry/
LOCATION:SUPERSONIC\, 9 Rue Biscornet\, Paris\, 75012\, France
CATEGORIES:Clavicule,Concert,FUZZY VOX,Pop / Rock / Folk,Power Shake
ATTACH;FMTTYPE=image/jpeg:http://supersonic-club.fr/wp-content/uploads/2019/07/namethumb_w600px_img_event_83effb00-df53-48d6-ad79-78fae062dabf-1.jpg
END:VEVENT
END:VCALENDAR