BEGIN:VCALENDAR
VERSION:2.0
PRODID:-//Supersonic - ECPv6.15.20//NONSGML v1.0//EN
CALSCALE:GREGORIAN
METHOD:PUBLISH
X-ORIGINAL-URL:http://supersonic-club.fr
X-WR-CALDESC:Évènements pour Supersonic
REFRESH-INTERVAL;VALUE=DURATION:PT1H
X-Robots-Tag:noindex
X-PUBLISHED-TTL:PT1H
BEGIN:VTIMEZONE
TZID:Europe/London
BEGIN:DAYLIGHT
TZOFFSETFROM:+0000
TZOFFSETTO:+0100
TZNAME:BST
DTSTART:20160327T010000
END:DAYLIGHT
BEGIN:STANDARD
TZOFFSETFROM:+0100
TZOFFSETTO:+0000
TZNAME:GMT
DTSTART:20161030T010000
END:STANDARD
BEGIN:DAYLIGHT
TZOFFSETFROM:+0000
TZOFFSETTO:+0100
TZNAME:BST
DTSTART:20170326T010000
END:DAYLIGHT
BEGIN:STANDARD
TZOFFSETFROM:+0100
TZOFFSETTO:+0000
TZNAME:GMT
DTSTART:20171029T010000
END:STANDARD
BEGIN:DAYLIGHT
TZOFFSETFROM:+0000
TZOFFSETTO:+0100
TZNAME:BST
DTSTART:20180325T010000
END:DAYLIGHT
BEGIN:STANDARD
TZOFFSETFROM:+0100
TZOFFSETTO:+0000
TZNAME:GMT
DTSTART:20181028T010000
END:STANDARD
END:VTIMEZONE
BEGIN:VEVENT
DTSTART;TZID=Europe/London:20170726T210000
DTEND;TZID=Europe/London:20170727T003000
DTSTAMP:20260425T031744
CREATED:20170704T093739Z
LAST-MODIFIED:20170704T093739Z
UID:1613-1501102800-1501115400@supersonic-club.fr
SUMMARY:Boytoy (Burger Records\, PaperCup) • The Blind Mind // Supersonic
DESCRIPTION:Le Supersonic présente… le garage pop des ricaines de BoyToy de chez Burger Records\, et du psyché des Nantais de The Blind Mind. \n \n→ BOYTOY\n(Garage pop – Burger Records / PaperCup Music – Brooklyn\, USA) \n« Trois meufs basées à New York City dont la journée idéale se résumerait à surfer\, skater et jouer du rock’n’roll. Trois cool girls (Saara Untracht-Oaker\, guitare- chant / Lena Simon\, basse/ Chase Noelle\, batterie) qui jouent une powerpop hédoniste dans le sillage de leurs ainées des Go-Go’s ou autres Runaways. Des mélodies\, des guitares\, des voix auxquelles on ne peut résister. De la surf pop 60’s qui s’encanaille avec le grunge 90’s de Sleater-Kinney pour une beach party de rêve à L.A. » \n► Liker : https://www.facebook.com/boytoyband/\n► Ecouter: https://boytoyputty.bandcamp.com/\n► Regarder: https://www.youtube.com/watch?v=NcLC-renYBs \n→ THE BLIND MIND\n(Psyché – Nantes\, FR) \n► Liker : https://www.facebook.com/theblindmind/\n► Ecouter: https://theblindmindd.bandcamp.com/releases\n► Regarder: https://www.youtube.com/watch?v=MbJRmJZo2Zo&feature=youtu.be \n+ GUEST \nTarifs : Gratuit
URL:http://supersonic-club.fr/event/boytoy-burger-records-papercup-%e2%80%a2-the-blind-mind-supersonic/
LOCATION:SUPERSONIC\, 9 Rue Biscornet\, Paris\, 75012\, France
CATEGORIES:BOYTOY,Concert,Pop / Rock / Folk,The Blind Mind
ATTACH;FMTTYPE=image/jpeg:http://supersonic-club.fr/wp-content/uploads/2017/07/namethumb_w600px_img_event_668fb1e6-f8bf-467d-adba-c680978f91b9.jpg
END:VEVENT
END:VCALENDAR