BEGIN:VCALENDAR
VERSION:2.0
PRODID:-//Supersonic - ECPv6.15.20//NONSGML v1.0//EN
CALSCALE:GREGORIAN
METHOD:PUBLISH
X-ORIGINAL-URL:http://supersonic-club.fr
X-WR-CALDESC:Évènements pour Supersonic
REFRESH-INTERVAL;VALUE=DURATION:PT1H
X-Robots-Tag:noindex
X-PUBLISHED-TTL:PT1H
BEGIN:VTIMEZONE
TZID:Europe/London
BEGIN:DAYLIGHT
TZOFFSETFROM:+0000
TZOFFSETTO:+0100
TZNAME:BST
DTSTART:20170326T010000
END:DAYLIGHT
BEGIN:STANDARD
TZOFFSETFROM:+0100
TZOFFSETTO:+0000
TZNAME:GMT
DTSTART:20171029T010000
END:STANDARD
BEGIN:DAYLIGHT
TZOFFSETFROM:+0000
TZOFFSETTO:+0100
TZNAME:BST
DTSTART:20180325T010000
END:DAYLIGHT
BEGIN:STANDARD
TZOFFSETFROM:+0100
TZOFFSETTO:+0000
TZNAME:GMT
DTSTART:20181028T010000
END:STANDARD
BEGIN:DAYLIGHT
TZOFFSETFROM:+0000
TZOFFSETTO:+0100
TZNAME:BST
DTSTART:20190331T010000
END:DAYLIGHT
BEGIN:STANDARD
TZOFFSETFROM:+0100
TZOFFSETTO:+0000
TZNAME:GMT
DTSTART:20191027T010000
END:STANDARD
END:VTIMEZONE
BEGIN:VEVENT
DTSTART;TZID=Europe/London:20180309T200000
DTEND;TZID=Europe/London:20180309T233000
DTSTAMP:20260423T150517
CREATED:20180227T140329Z
LAST-MODIFIED:20180227T140329Z
UID:2637-1520625600-1520638200@supersonic-club.fr
SUMMARY:Two Bunnies in Love • Boca River / Supersonic - Free
DESCRIPTION:▬ Le Supersonic présente ▬ \n \n▬▬▬ ENTREE LIBRE JUSQU’A 23H ▬▬▬▬▬▬▬▬ \n→ TWO BUNNIES IN LOVE\n(Indie pop – Beau Travail – Paris) \nAprès un premier EP « Manchester » sorti en Septembre 2014 (via Believe Recordings) et le single « Duchesse » – qualifié de tubesque par la presse spécialisée (Tsugi\, Les Inrocks\, Gonzaï\, Rock & Folk…) – le gang des Bunnies est revenu il y a quelques mois avec leur album «Washington»\, classe et crasseux qui lorgne cette fois-ci du côté de la côte Ouest des States. \n► Ecouter : https://soundcloud.com/two-bunnies-in-love\n► Regarder : https://www.youtube.com/channel/UC-iNQ_gcA5zlTPYov1iDtBg\n► Liker : https://fr-fr.facebook.com/twobunniesinlove \n→ BOCA RIVER\n(Noise pop\, shoegaze – Cranes Records – Rennes) \n« Formé en 2013 sur les cendres de Verbal Kint’s Gone\, Boca River est un quatuor originaire de la région Rennaise. Boca et River\, Boca Junior et River Plate\, deux équipes historiques et rivales\, toutes deux basées à Buenos Aires.\nOn pense parfois aux débuts de The Verve\, aux Spacemen 3\, au “Methodrone” du Brian Jonestown Massacre ou encore à Drop Nineteens. Dans ce superclásico sous forme de mini-album\, Boca River fait cohabiter ce que tout (ou presque) oppose. D’un côté\, une obsession pop et mélodique prononcée et une écriture fine et rêveuse. De l’autre un véritable amour pour les débordements noisy\, les passements de jambes shoegaze et six titres à la finesse et à l’efficacité redoutable. »\nCranes Records \n► Ecouter: http://bocariver.bandcamp.com/\n► Regarder : https://www.youtube.com/watch?v=vPRb2nqmiJg\n► Liker : https://www.facebook.com/bocariverband/ \n+ GUEST \n▬▬▬ INFOS PRATIQUES ▬▬▬▬▬▬▬▬▬▬▬ \nVendredi 9 Mars 2018\nEntrée gratuite jusqu’à 23h \n– Ouverture des portes à 18h30\n– Début des concerts vers 20h\n– Happy Hour de 18h30 à 20h (3€50 la pinte)\n– Hot Dog au bar \n▬▬▬▬▬▬▬▬▬▬▬▬▬▬▬▬▬▬▬▬▬▬▬ \nSUPERSONIC\n9 rue Biscornet\, 75012 Paris\nMétro Bastille (sortie rue de lyon)\nhttp://supersonic-club.fr/\nInscription à la newsletter du Supersonic: http://bit.ly/1lWTnx4 \nTarifs : Gratuit
URL:http://supersonic-club.fr/event/two-bunnies-in-love-%e2%80%a2-boca-river-supersonic-free/
LOCATION:SUPERSONIC\, 9 Rue Biscornet\, Paris\, 75012\, France
CATEGORIES:BOCA RIVER,Concert,Pop / Rock / Folk,TWO BUNNIES IN LOVE
ATTACH;FMTTYPE=image/jpeg:http://supersonic-club.fr/wp-content/uploads/2018/02/namethumb_w600px_img_event_57209d55-8ba0-4fec-9d37-193f10f4df6f.jpg
END:VEVENT
END:VCALENDAR