BEGIN:VCALENDAR
VERSION:2.0
PRODID:-//Supersonic - ECPv6.15.20//NONSGML v1.0//EN
CALSCALE:GREGORIAN
METHOD:PUBLISH
X-ORIGINAL-URL:http://supersonic-club.fr
X-WR-CALDESC:Évènements pour Supersonic
REFRESH-INTERVAL;VALUE=DURATION:PT1H
X-Robots-Tag:noindex
X-PUBLISHED-TTL:PT1H
BEGIN:VTIMEZONE
TZID:Europe/London
BEGIN:DAYLIGHT
TZOFFSETFROM:+0000
TZOFFSETTO:+0100
TZNAME:BST
DTSTART:20250330T010000
END:DAYLIGHT
BEGIN:STANDARD
TZOFFSETFROM:+0100
TZOFFSETTO:+0000
TZNAME:GMT
DTSTART:20251026T010000
END:STANDARD
BEGIN:DAYLIGHT
TZOFFSETFROM:+0000
TZOFFSETTO:+0100
TZNAME:BST
DTSTART:20260329T010000
END:DAYLIGHT
BEGIN:STANDARD
TZOFFSETFROM:+0100
TZOFFSETTO:+0000
TZNAME:GMT
DTSTART:20261025T010000
END:STANDARD
BEGIN:DAYLIGHT
TZOFFSETFROM:+0000
TZOFFSETTO:+0100
TZNAME:BST
DTSTART:20270328T010000
END:DAYLIGHT
BEGIN:STANDARD
TZOFFSETFROM:+0100
TZOFFSETTO:+0000
TZNAME:GMT
DTSTART:20271031T010000
END:STANDARD
END:VTIMEZONE
BEGIN:VEVENT
DTSTART;TZID=Europe/London:20260504T190000
DTEND;TZID=Europe/London:20260504T230000
DTSTAMP:20260419T221152
CREATED:20260303T172959Z
LAST-MODIFIED:20260304T153117Z
UID:18524-1777921200-1777935600@supersonic-club.fr
SUMMARY:Frenzee • Amantique • Blast Candy
DESCRIPTION:Cette soirée plaira aux fans de… Amyl & The Sniffers\, Lambrini Girls & Teen Mortgage \n \nFRENZEE (22h00)\n(Punk – Grèce)\nComme les trois têtes de Cerbère dans la mythologie grecque\, Frenzee est un trio-monstre venu de Crète\, déchaîné et indomptable. Né à Melbourne et aujourd’hui basé en Grèce\, le groupe est composé des frère et sœur Apollonia\, Adonis et Nikos Xylouris. Ensemble\, ils développent un punk radical\, porté par une énergie scénique explosive.\nFormé en 2021\, le trio forge son identité durant les confinements en Crète\, où il commence à composer et enregistrer en conditions « live ». Leur son se distingue par des riffs secs et efficaces\, une rythmique implacable et la voix incendiaire d’Apollonia\, véritable moteur émotionnel du groupe.\nEn 2022\, Frenzee se fait remarquer avec son premier EP éponyme\, Frenzee\, publié sur Ouga Booga and the Mighty Oug. Ce disque pose les bases de leur esthétique : un punk garage abrasif\, nourri de hardcore\, de rock australien et d’attitude DIY. Le groupe entame alors des tournées en Europe et en Australie\, partageant l’affiche avec plusieurs références de la scène alternative.\nEn 2024\, ils confirment leur ascension avec leur premier album\, What’s Wrong With Me\, sorti chez Poison City Records. Plus abouti et percutant\, l’album est salué pour sa puissance et sa sincérité\, mêlant rage punk\, accroches rock et intensité émotionnelle.\nHéritiers d’une grande tradition musicale crétoise\, les membres de Frenzee ont grandi dans un environnement imprégné de musique folk. Ce bagage culturel\, détourné vers le punk\, donne au groupe une identité unique\, à la fois enracinée et résolument contemporaine.\nAujourd’hui\, Frenzee s’impose comme l’un des groupes les plus explosifs de la scène punk actuelle.\nLes 3 influences : Amyl and the Sniffers\, Bikini Kill & Niis\nhttps://frenzee.bandcamp.com/\nhttps://www.youtube.com/@frenzee2173 \nAMANTIQUE (21h00)\n(Punk rock – Amantique Records – Paris\, FR)\nAmantique (nom commun) déf : jeune quatuor parisiano-nantais né en 2023 aux membres affectueux et aux visages pileux\, produisant du rock punkifié en français.\nAmantique recherche le mouvement dans sa quête du grand réconfort. C’est l’effet d’une grande montagne autocentrée qui aime crier\, parfois. Un monstre d’immuabilité qui explore ses sensibilités.\nLeur premier EP « Laurent » est sorti le 17 février 2025 mixé par Alistair Groves au Motor Museum Studio (Arctic Monkeys\, Bring Me The Horizon\, Oasis…). Cette création résonne comme un bourdonnement de cinq morceaux tout aussi puissants que poétiques. Pareil à l’envol d’un insecte\, les morceaux frôlent la délicatesse par la parole et explosent à l’instrumental.\nAmantique a sorti son premier single de l’année 2026\, ce dernier nommé « La Ligne » présageant une nouvelle direction artistique chez le groupe. Un second est à paraître en avril 2026.\nLes 3 influences : Pogo Car Crash Control\, The Mars Volta\, Viagra Boys\nhttps://amantique.bandcamp.com/\nhhttps://www.youtube.com/@Amantique \nBLAST CANDY (20h00)\n(Riot punk grrrl pwr – Crash Toyz – Paris\, FR)\nBLAST CANDY revient au Supersonic avec son 2ème album FUTURE DRONE KILLER\, puissant et offensif\, cri du coeur qui appelle à la révolte sur fond post punk indus spectral. Furie rock\, la sauvagerie côtoie le groove entre punk à la Stooges ( Tibo Brandalise (batteur) et Florian Pellissier (réal)\, font partie du Free band d’Iggy Pop)\, noise rock et spoken word à la Lydia Lunch. Frontal et anti-cons ce gang offensif est mené par une front girl charismatique aux textes incandescents sur des titres furieux et engagés.\nUn son soigneusement produit\, et une esthétique qui revendique le Girl Power viennent emballer ce bonbon explosif.\nLeur 3ème album enregistré au mythique Studio du Chateau d’Hérouville sortira à l’automne 2026.\nLes 3 influences : Sonic Youth \, Lydia Lunch & Riot Grrrls\nhttps://blastcandy.bandcamp.com/music\nhttps://www.youtube.com/@blastcandy \nLa suite de la programmation arrive très vite !\n———————————\nLundi 4 Mai 2026\nEntrée gratuite\n• Ouverture des portes à 19h00\n• Happy Hour de 19h à 20h\n• Si vous êtes témoin ou victime d’une agression\, vous pouvez alerter le personnel du bar ou si vous préférez\, vous pouvez nous écrire à cette adresse: communication@supersonic-paris.fr\n———————————\nSUPERSONIC\n9 rue Biscornet\, 75012 Paris\nMétro Bastille (sortie rue de lyon) \nTarifs : Gratuit
URL:http://supersonic-club.fr/event/frenzee-blast-candy/
LOCATION:SUPERSONIC\, 9 Rue Biscornet\, Paris\, 75012\, France
CATEGORIES:Amantique,BLAST CANDY,Concert,Frenzee,Pop / Rock / Folk,Sowprog,SUPERSONIC
ATTACH;FMTTYPE=image/jpeg:http://supersonic-club.fr/wp-content/uploads/2026/03/namethumb_w600px_img_event_2cd3f62c-93d1-4ac0-b31e-5146180876c0-1.jpg
END:VEVENT
END:VCALENDAR