BEGIN:VCALENDAR
VERSION:2.0
PRODID:-//Supersonic - ECPv6.15.20//NONSGML v1.0//EN
CALSCALE:GREGORIAN
METHOD:PUBLISH
X-WR-CALNAME:Supersonic
X-ORIGINAL-URL:http://supersonic-club.fr
X-WR-CALDESC:Évènements pour Supersonic
REFRESH-INTERVAL;VALUE=DURATION:PT1H
X-Robots-Tag:noindex
X-PUBLISHED-TTL:PT1H
BEGIN:VTIMEZONE
TZID:Europe/London
BEGIN:DAYLIGHT
TZOFFSETFROM:+0000
TZOFFSETTO:+0100
TZNAME:BST
DTSTART:20190331T010000
END:DAYLIGHT
BEGIN:STANDARD
TZOFFSETFROM:+0100
TZOFFSETTO:+0000
TZNAME:GMT
DTSTART:20191027T010000
END:STANDARD
BEGIN:DAYLIGHT
TZOFFSETFROM:+0000
TZOFFSETTO:+0100
TZNAME:BST
DTSTART:20200329T010000
END:DAYLIGHT
BEGIN:STANDARD
TZOFFSETFROM:+0100
TZOFFSETTO:+0000
TZNAME:GMT
DTSTART:20201025T010000
END:STANDARD
BEGIN:DAYLIGHT
TZOFFSETFROM:+0000
TZOFFSETTO:+0100
TZNAME:BST
DTSTART:20210328T010000
END:DAYLIGHT
BEGIN:STANDARD
TZOFFSETFROM:+0100
TZOFFSETTO:+0000
TZNAME:GMT
DTSTART:20211031T010000
END:STANDARD
END:VTIMEZONE
BEGIN:VEVENT
DTSTART;TZID=Europe/London:20200302T200000
DTEND;TZID=Europe/London:20200302T233000
DTSTAMP:20260419T173844
CREATED:20200130T171132Z
LAST-MODIFIED:20200130T171132Z
UID:5764-1583179200-1583191800@supersonic-club.fr
SUMMARY:Blast Candy • Rewinder • Dragster Dealers / Supersonic (Free)
DESCRIPTION:Le Supersonic c’est lieu incontournable du rock à Paris! Trois concerts gratuits tous les soirs\, des nuits pop rock du jeudi au samedi et ce soir on vous présente : \n \n→ BLAST CANDY – Release Party –\n(Punk rock – Crash Toyz – Paris) \n« BLAST CANDY C’est un Girl Power Band explosif !\n-1 front fire Girl et 3 bombes de Guyz\,\n-un son brut post-punk-riot-rock\,\n-des chansons Dark Combat ou Pink Banana\,\ncaustiques\, stupides\, furieuses et contestataires . (Anglais et Français).\nDes shows énergiques\, déconnant\, révoltés et sauvages. \nLeur 1er album LP/CD sort le 28 fev 2020 chez L’Autre Distribution dispo sur place \nLes 3 influences: Riot Grrrls\, Lydia Lunch\, Les Bérus \n► Liker:  https://www.facebook.com/blastcandygang/Page\n► Regarder: https://youtu.be/h9G2dOyvvyc \n→ REWINDER\n(Garage trash grunge – Double Legs / Zone Onze – FR) \n« Duo de son et de fureur\, Rewinder déverse le punk rock dans les eaux boueuses du grunge\, dans un minimalisme garage.\nUne batterie lourde et implacable\, une guitare dégoulinante de fuzz acide et des voix écorchées donnent le ton. Depuis 2012\, le groupe a enchainé une centaine de concerts à travers l’Europe\, le Maroc (invité du festival Hardzazat HXC fest) et les USA.\nUn premier EP autoproduit en 2013\, Mainstream Killer\, traduit l’urgence de jouer fort et sans fioriture ou artifice. En parallèle\, le groupe conçoit ses montages vidéo\, dans un esprit DIY revendiqué\, habillant les morceaux d’une teinte super 8 et brute à la fois.\nUne autre collaboration\, plus littéraire cette fois\, a lieu en 2014. Rewinder participe à la promotion de l’ouvrage de l’auteure Héloïse Guay de Belissen\, Le Roman de Boddah (Fayard).\nEn 2016\, le groupe s’est acoquiné du groupe parisien Harassment pour sortir un 45tours en split. (Double Legs/Zone Onze). » \n► Liker: https://www.facebook.com/rewinderofficial/\n► Ecouter: https://rewinderofficial.bandcamp.com\n► Regarder: https://www.youtube.com/watch?v=eEaM8fCgtcU \n→ DRAGSTER DEALERS\n(Rock – Paris\,FR) \n« DRAGSTER DEALERS\, c’est un son garage rock\, brut\, sauvage et sensuel. C’est un mélange de riffs entêtants\, de rythmes énergiques servis par une voix rauque et envoutante. Il y a de la rage\, de la mélancolie et de la folie dans les textes comme sur scène. DRAGSTER DEALERS c’est du rock avec un univers à part.» \nLes 3 influences: PJ Harvey\, Mudhoney\, Sleater-Kinney \n► Liker : https://www.facebook.com/DRAGSTERDEALERS\n► Ecouter : https://dragsterdealers.bandcamp.com\n► Regarder : https://youtu.be/9h4BdsGXKMA \nTarifs : Gratuit
URL:http://supersonic-club.fr/event/blast-candy-%e2%80%a2-rewinder-%e2%80%a2-dragster-dealers-supersonic-free/
CATEGORIES:BLAST CANDY,Concert,DRAGSTER DEALERS,Pop / Rock / Folk,Rewinder,Sowprog
ATTACH;FMTTYPE=image/jpeg:http://supersonic-club.fr/wp-content/uploads/2020/01/namethumb_w600px_img_event_10e6c4f1-49e5-49b6-8b7f-bd3bc6a80c08.jpg
END:VEVENT
END:VCALENDAR