BEGIN:VCALENDAR
VERSION:2.0
PRODID:-//Supersonic - ECPv6.15.20//NONSGML v1.0//EN
CALSCALE:GREGORIAN
METHOD:PUBLISH
X-ORIGINAL-URL:http://supersonic-club.fr
X-WR-CALDESC:Évènements pour Supersonic
REFRESH-INTERVAL;VALUE=DURATION:PT1H
X-Robots-Tag:noindex
X-PUBLISHED-TTL:PT1H
BEGIN:VTIMEZONE
TZID:Europe/London
BEGIN:DAYLIGHT
TZOFFSETFROM:+0000
TZOFFSETTO:+0100
TZNAME:BST
DTSTART:20160327T010000
END:DAYLIGHT
BEGIN:STANDARD
TZOFFSETFROM:+0100
TZOFFSETTO:+0000
TZNAME:GMT
DTSTART:20161030T010000
END:STANDARD
BEGIN:DAYLIGHT
TZOFFSETFROM:+0000
TZOFFSETTO:+0100
TZNAME:BST
DTSTART:20170326T010000
END:DAYLIGHT
BEGIN:STANDARD
TZOFFSETFROM:+0100
TZOFFSETTO:+0000
TZNAME:GMT
DTSTART:20171029T010000
END:STANDARD
BEGIN:DAYLIGHT
TZOFFSETFROM:+0000
TZOFFSETTO:+0100
TZNAME:BST
DTSTART:20180325T010000
END:DAYLIGHT
BEGIN:STANDARD
TZOFFSETFROM:+0100
TZOFFSETTO:+0000
TZNAME:GMT
DTSTART:20181028T010000
END:STANDARD
END:VTIMEZONE
BEGIN:VEVENT
DTSTART;TZID=Europe/London:20171201T200000
DTEND;TZID=Europe/London:20171201T233000
DTSTAMP:20260423T225712
CREATED:20171110T134405Z
LAST-MODIFIED:20171110T134405Z
UID:2221-1512158400-1512171000@supersonic-club.fr
SUMMARY:Black Minou • Some Smoking Guys / Supersonic - Free
DESCRIPTION:Le Supersonic Présente… \n \n→ BLACK MINOU\n(Rock’n’roll – Bonus Tracks Records – Paris\,FR) \nYarol Poupaud (guitariste de FFF\, Adanowsky\, Johnny Hallyday) remonte sur scène accompagné de son frère Melvil (également acteur notamment dans Laurence Anyways) et leur gang sous le nom Black Minou.\nRetenu ces dernières années en studio par de multiples productions\, Yarol chante et joue de la guitare distillant un torride cocktail de rock’n’roll et de soul.  \n► Liker: https://www.facebook.com/blackminouofficial/\n► Ecouter: https://soundcloud.com/blackminourocks \n→ SOME SMOKING GUYS\n(Rock – Beside Label – Paris\,FR) \nBritpop\, rock indé\, la musique des Some Smoking Guys puise directement son inspiration dans l’effervescence des 90’s. L’énergie directe et l’originalité de leurs compositions sont définitivement là pour nous rappeler que le rock\, loin de la simple posture et des éternels revivals\, est toujours bien vivant et se réinvente. \n► Liker: https://www.facebook.com/SomeSmokingGuys/\n► Ecouter : https://somesmokingguys.bandcamp.com/\n► Regarder : https://www.youtube.com/watch?v=4RldIPqVcTA \nTarifs : Gratuit
URL:http://supersonic-club.fr/event/black-minou-%e2%80%a2-some-smoking-guys-supersonic-free/
LOCATION:SUPERSONIC\, 9 Rue Biscornet\, Paris\, 75012\, France
CATEGORIES:Black Minou,Concert,Pop / Rock / Folk,Some smoking guys
ATTACH;FMTTYPE=image/jpeg:http://supersonic-club.fr/wp-content/uploads/2017/11/namethumb_w600px_img_event_d86eaf5e-a7d8-4fba-85c0-6588b0ce3bfc.jpg
END:VEVENT
END:VCALENDAR