BEGIN:VCALENDAR
VERSION:2.0
PRODID:-//Supersonic - ECPv6.15.20//NONSGML v1.0//EN
CALSCALE:GREGORIAN
METHOD:PUBLISH
X-WR-CALNAME:Supersonic
X-ORIGINAL-URL:http://supersonic-club.fr
X-WR-CALDESC:Évènements pour Supersonic
REFRESH-INTERVAL;VALUE=DURATION:PT1H
X-Robots-Tag:noindex
X-PUBLISHED-TTL:PT1H
BEGIN:VTIMEZONE
TZID:Europe/London
BEGIN:DAYLIGHT
TZOFFSETFROM:+0000
TZOFFSETTO:+0100
TZNAME:BST
DTSTART:20170326T010000
END:DAYLIGHT
BEGIN:STANDARD
TZOFFSETFROM:+0100
TZOFFSETTO:+0000
TZNAME:GMT
DTSTART:20171029T010000
END:STANDARD
BEGIN:DAYLIGHT
TZOFFSETFROM:+0000
TZOFFSETTO:+0100
TZNAME:BST
DTSTART:20180325T010000
END:DAYLIGHT
BEGIN:STANDARD
TZOFFSETFROM:+0100
TZOFFSETTO:+0000
TZNAME:GMT
DTSTART:20181028T010000
END:STANDARD
BEGIN:DAYLIGHT
TZOFFSETFROM:+0000
TZOFFSETTO:+0100
TZNAME:BST
DTSTART:20190331T010000
END:DAYLIGHT
BEGIN:STANDARD
TZOFFSETFROM:+0100
TZOFFSETTO:+0000
TZNAME:GMT
DTSTART:20191027T010000
END:STANDARD
END:VTIMEZONE
BEGIN:VEVENT
DTSTART;TZID=Europe/London:20181013T210000
DTEND;TZID=Europe/London:20181014T003000
DTSTAMP:20260421T162357
CREATED:20180720T162155Z
LAST-MODIFIED:20180913T110938Z
UID:3174-1539464400-1539477000@supersonic-club.fr
SUMMARY:Penelope Isles • Balafre • Rest in Gale / Supersonic - Free
DESCRIPTION:▬ Le Supersonic présente ▬ \n \n▬▬▬ ENTREE LIBRE JUSQU’A 23H ▬▬▬▬ \n→ PENELOPE ISLES\n(Indie Pop Psyché – Brighton\, UK) \n«Hailing from the Isle of Man via Brighton\, Penelope Isles is the collaboration of brother and sister Jack and Lily Wolter.\nThe band mix waves of ambient delays and fuzz guitar noise\, sonic dynamics and melodic pop hooks entwined with girl-boy harmonies. Their self-produced home recordings portray an honest lo-fi approach in capturing their own music. Their live set is hypnotic\, captivating and moving\, smeared with glistening psych\, dreamlike chimes and potency that will transfix and satisfy.\nAfter self producing/releasing their debut EP ‘Comfortably Swell’ in 2015\, Penelope Isles have consistently toured the UK/Europe off their own backs\, working with some of the best promoters in the UK ( Bird On The Wire\, Parallel Lines & Melting Vinyl ). As well as selling out shows both in Brighton and London\, the band have opened for The Magic Numbers\, Lost Horizons\, Walter TV and British Sea Power.\nFor the lovers of Deerhunter\, Neil Young\, Radiohead and The magic Numbers.»  \n► Liker : https://www.facebook.com/penelopeisles/\n► Ecouter: https://penelopeisles.bandcamp.com/\n► Regarder: https://www.youtube.com/watch?v=6kRVAMjroHM \n→ BALAFRE\n(Pop New Wave – London\, UK) \n«BALAFRE is poetry. BALAFRE is blasphemy. This is not music\, this is Thuggery.» \nLes 3 influences: Siouxsie and the Banshees\, Roxy Music\, New order \n► Liker : https://fr-fr.facebook.com/balafreband/\n► Ecouter: https://soundcloud.com/balafre-band \n→ REST IN GALE\n(Rock – France) \n« Deep Dive and Bright Rock Journey »\nFormé en 2013 dans la banlieue Ouest de Paris\, Rest in Gale est un voyage rock psychédélique et indépendant. À l’origine\, les compositions de Julien Hicks (chant\, guitare rythmique) et William Rainaud (chœurs\, guitare lead) explorent le blues rock\net les territoires sonores américains de la fin des années 1960.\nPuis en 2014\, rejoint par William « Bull » Montgomery (basse) et Ivan « Maître » Carel (batterie)\, le groupe évolue vers les sons plus électrifiés du post-punk anglais\, tout en y mêlant une guitare aux accents western et une voix à la fois grave et postmoderne. \n► Liker: ​https://www.facebook.com/Rest-In-Gale-1380832635527085/\n► Ecouter: ​https://restingale.bandcamp.com/album/god-bless-jacob-delafon\n► Regarder: https://www.youtube.com/watch?v=cZ4SSiT-kC8 \n▬▬▬ INFOS PRATIQUES ▬▬▬ \nSamedi 13 Octobre 2018\nEntrée gratuite jusqu’à 23h \n– Ouverture des portes à 18h30\n– Début des concerts vers 20h\n– Happy Hour de 18h30 à 20h (3€50 la pinte)\n– Hot Dog au bar \n▬▬▬▬▬▬▬▬▬▬▬▬▬▬▬▬▬▬▬▬▬▬▬ \nSUPERSONIC\n9 rue Biscornet\, 75012 Paris\nMétro Bastille (sortie rue de lyon)\nhttp://supersonic-club.fr/\nInscription à la newsletter du Supersonic: http://bit.ly/1lWTnx4 \nTarifs : Gratuit
URL:http://supersonic-club.fr/event/penelope-isles-%e2%80%a2-balafre-supersonic-entree-gratuite/
LOCATION:SUPERSONIC\, 9 Rue Biscornet\, Paris\, 75012\, France
CATEGORIES:BALAFRE,Concert,Penelope Isles,Pop / Rock / Folk,REST IN GALE
ATTACH;FMTTYPE=image/jpeg:http://supersonic-club.fr/wp-content/uploads/2018/07/namethumb_w600px_img_event_0461ebdc-9b6e-4ebb-8da8-eee5d2a9a07f-1.jpg
END:VEVENT
END:VCALENDAR