BEGIN:VCALENDAR
VERSION:2.0
PRODID:-//Supersonic - ECPv6.15.20//NONSGML v1.0//EN
CALSCALE:GREGORIAN
METHOD:PUBLISH
X-ORIGINAL-URL:http://supersonic-club.fr
X-WR-CALDESC:Évènements pour Supersonic
REFRESH-INTERVAL;VALUE=DURATION:PT1H
X-Robots-Tag:noindex
X-PUBLISHED-TTL:PT1H
BEGIN:VTIMEZONE
TZID:Europe/London
BEGIN:DAYLIGHT
TZOFFSETFROM:+0000
TZOFFSETTO:+0100
TZNAME:BST
DTSTART:20160327T010000
END:DAYLIGHT
BEGIN:STANDARD
TZOFFSETFROM:+0100
TZOFFSETTO:+0000
TZNAME:GMT
DTSTART:20161030T010000
END:STANDARD
BEGIN:DAYLIGHT
TZOFFSETFROM:+0000
TZOFFSETTO:+0100
TZNAME:BST
DTSTART:20170326T010000
END:DAYLIGHT
BEGIN:STANDARD
TZOFFSETFROM:+0100
TZOFFSETTO:+0000
TZNAME:GMT
DTSTART:20171029T010000
END:STANDARD
BEGIN:DAYLIGHT
TZOFFSETFROM:+0000
TZOFFSETTO:+0100
TZNAME:BST
DTSTART:20180325T010000
END:DAYLIGHT
BEGIN:STANDARD
TZOFFSETFROM:+0100
TZOFFSETTO:+0000
TZNAME:GMT
DTSTART:20181028T010000
END:STANDARD
END:VTIMEZONE
BEGIN:VEVENT
DTSTART;TZID=Europe/London:20170601T210000
DTEND;TZID=Europe/London:20170602T003000
DTSTAMP:20260423T120812
CREATED:20170422T145057Z
LAST-MODIFIED:20170517T173124Z
UID:1352-1496350800-1496363400@supersonic-club.fr
SUMMARY:PILL • Avalanche Party • The Kinds // Supersonic - Free
DESCRIPTION:Le Supersonic présente…Pill\, un son féroce et lysergique\, des paroles rapides et militantes : Pill est un ovni dévastateur. \n \n→ PILL\n(No wave\, post-punk – Mexican Summer – NY\, USA) \nPill est un monstre à 4 têtes provenant de Brooklyn\, NY. Le quatuor joue une musique proche de la no-wave\, du post punk\, à grands coups de basse\, batterie\, guitare et saxophone\, surplombé des gémissements féroces de leur bassiste et chanteuse Veronica Torres. Ils sont signés sur le label Mexican Summer (Ariel Pink\, Allah-Las\, Connan Mockasin) et ont été récemment embarqués en support de la tournée de Parquet Courts\, qui avait d’ailleurs sorti leur premier ep. Leur son est féroce et lysergique\, leurs paroles rapides et militantes : Pill est un ovni dévastateur. \n► Liker : https://www.facebook.com/PILLTHEBAND/\n► Ecouter: https://pill.bandcamp.com/\n► Regarder: https://www.youtube.com/watch?v=X8SA0S6WvBA \n→ AVALANCHE PARTY\n(Garage rock – UK) \nAvalanche Party c’est du garage punk bourré d’amphétamines dont le son est intense et immédiat. Du punk sauvage\, du garage primitif\, du rock’n’roll redoutable\, le tout: féroce comme un pitbull enragé. \n► Liker : https://www.facebook.com/pg/AvalancheParty/\n► Ecouter: https://www.avalancheparty.com/media\n► Regarder: https://www.youtube.com/channel/UCVQHS8es36atxJMBqh8jAlQ/videos \n→ THE KINDS\n(Power rock – Paris / Amiens) \nLe groupe travail depuis plus de 2 ans à la création d’une identité sonore qui leur est propre. Et c’est en live que la musique de The Kinds prend tout son sens\, alliance de guitare puissante\, d’une rythmique assurée et de basse Electro. Une réelle expérience scénique\, voyage turbulent et hors du temps. \n► Liker : https://www.facebook.com/thekindsarmy/ \nTarifs : Gratuit
URL:http://supersonic-club.fr/event/pill-au-supersonic-free/
LOCATION:SUPERSONIC\, 9 Rue Biscornet\, Paris\, 75012\, France
CATEGORIES:Avalanche Party,Concert,PILL,Pop / Rock / Folk,The Kinds
ATTACH;FMTTYPE=image/jpeg:http://supersonic-club.fr/wp-content/uploads/2017/04/namethumb_w600px_img_event_c41ed1b1-8a08-45fe-8a73-272614770432-1.jpg
END:VEVENT
END:VCALENDAR