BEGIN:VCALENDAR
VERSION:2.0
PRODID:-//Supersonic - ECPv6.15.20//NONSGML v1.0//EN
CALSCALE:GREGORIAN
METHOD:PUBLISH
X-WR-CALNAME:Supersonic
X-ORIGINAL-URL:http://supersonic-club.fr
X-WR-CALDESC:Évènements pour Supersonic
REFRESH-INTERVAL;VALUE=DURATION:PT1H
X-Robots-Tag:noindex
X-PUBLISHED-TTL:PT1H
BEGIN:VTIMEZONE
TZID:Europe/London
BEGIN:DAYLIGHT
TZOFFSETFROM:+0000
TZOFFSETTO:+0100
TZNAME:BST
DTSTART:20240331T010000
END:DAYLIGHT
BEGIN:STANDARD
TZOFFSETFROM:+0100
TZOFFSETTO:+0000
TZNAME:GMT
DTSTART:20241027T010000
END:STANDARD
BEGIN:DAYLIGHT
TZOFFSETFROM:+0000
TZOFFSETTO:+0100
TZNAME:BST
DTSTART:20250330T010000
END:DAYLIGHT
BEGIN:STANDARD
TZOFFSETFROM:+0100
TZOFFSETTO:+0000
TZNAME:GMT
DTSTART:20251026T010000
END:STANDARD
BEGIN:DAYLIGHT
TZOFFSETFROM:+0000
TZOFFSETTO:+0100
TZNAME:BST
DTSTART:20260329T010000
END:DAYLIGHT
BEGIN:STANDARD
TZOFFSETFROM:+0100
TZOFFSETTO:+0000
TZNAME:GMT
DTSTART:20261025T010000
END:STANDARD
END:VTIMEZONE
BEGIN:VEVENT
DTSTART;TZID=Europe/London:20251013T190000
DTEND;TZID=Europe/London:20251013T230000
DTSTAMP:20260419T191826
CREATED:20251007T133504Z
LAST-MODIFIED:20251009T165129Z
UID:17316-1760382000-1760396400@supersonic-club.fr
SUMMARY:Altwain • Veys • The Gallant Club
DESCRIPTION:Cette soirée plaira aux fans de… Pixies\, The Strokes & Wallows \n \nALTWAIN (22h00)\n(Rock – Saturn Attack – Lyon\, FR)\nIl n’aura pas fallu bien longtemps à Allan\, chanteur guitariste des prometteurs et regrettés JP Goulag\, pour reprendre du service. Il s’est enfermé quelques jours dans son 20m²\, a écouté en boucle ses mentors lo-fi Daniel Johnston ou Guided by Voices\, puis a pondu comme ça vient des chansons avec le plus modeste outillage. Il en résulte un premier EP d’une étonnante maturité\, où les mélodies se révèlent dans un bouillon de reverb et où se côtoient rêves brisés\, fantômes\, retards de bus\, l’emprise\, inondations\, bronchite et suicide. Quand la pop devient garage\, Altwain a bien su s’entourer pour jouer ses morceaux en live. Un bel équipage d’artistes lyonnais.e.s qui officient toutes et tous dans diverses formations telles que Irnini Mons\, Ulysse Von Ectasy ou Caïman.\nLes 3 influences : Guided by Voices\, modern baseball\, Kevin Morby.\nhttps://altwain.bandcamp.com\nhttps://youtube.com/@altwain \nVEYS (21h00)\n(Desert rock – Paris\, FR)\nNé à Paris\, Veys est un fantôme sonore aux racines désertiques. Un mélange de stoner rock\, de country noir et de psychédélisme brumeux. Des riffs lourds\, des rythmes fluides et une profondeur cinématographique. Veys ne suit pas la lumière\, il s’y fond.\nLes 3 influences : Alain Johannes\, Nick Cave\, QOSTA\nhttps://veys.bandcamp.com/music\nhttps://youtube.com/@veysmusicoff?si=aMlVGejBrt0xWlvs \nTHE GALLANT CLUB (20h00)\n(Indie pop rock – Chantage Records – Paris\, FR)\nLe retour après six ans d’absence de The Gallant Club et un premier opus en 2018 «Ten great shover songs » (Chantage/Modulor) salué par les critiques rock. Ce nouvel album prévu pour janvier 2025 et sobrement intitulé «Volume Two » se caractérise par des guitares joyeusement offensives et des basses toutes en rondeur…mais les ambiances et arrangements audacieux où s’entremêlent à la fois électronique\, rock\, pop et psychédélisme révèlent les intentions du duo à brouiller les signaux ainsi que les références multiples qui vont de Butthole surfers aux Stranglers\, des Clash à Soft machine. Il en ressort toutefois une avalanche de titres entêtants que l’on se plaît à chanter sous la douche\, au bureau ou ailleurs.\nUn groupe prometteur donc et qui tient aussi ses promesses sur scène par l’énergie qu’il déploie devant son public.\nA noter que The Gallant Club\, le duo parisien formé par Clément Juttel (guitare/chant) et Alexander Faem (basse/chant) s’est élargi en trio avec l’arrivée de Marco Vicenzino à la batterie.\nLes 3 influences : Bowie\, Ween & Stranglers\nhttps://bfan.link/volume-two\nhttps://www.youtube.com/watch?v=y073W-2P4AI\n———————————\nLundi 13 Octobre 2025\nEntrée gratuite\n• Ouverture des portes à 19h00\n• Happy Hour de 19h à 20h\n• Si vous êtes témoin ou victime d’une agression\, vous pouvez alerter le personnel du bar ou si vous préférez\, vous pouvez nous écrire à cette adresse: communication@supersonic-paris.fr\n———————————\nSUPERSONIC\n9 rue Biscornet\, 75012 Paris\nMétro Bastille (sortie rue de lyon) \nTarifs : Gratuit
URL:http://supersonic-club.fr/event/altwain-the-gallant-club/
LOCATION:SUPERSONIC\, 9 Rue Biscornet\, Paris\, 75012\, France
CATEGORIES:Altwain,Concert,Pop / Rock / Folk,Sowprog,SUPERSONIC,The Gallant Club,Veys
ATTACH;FMTTYPE=image/jpeg:http://supersonic-club.fr/wp-content/uploads/2025/10/namethumb_w600px_img_event_1b302d7e-ef1c-4dbb-8961-1e222627685e-1.jpg
END:VEVENT
END:VCALENDAR