BEGIN:VCALENDAR
VERSION:2.0
PRODID:-//Supersonic - ECPv6.15.20//NONSGML v1.0//EN
CALSCALE:GREGORIAN
METHOD:PUBLISH
X-WR-CALNAME:Supersonic
X-ORIGINAL-URL:http://supersonic-club.fr
X-WR-CALDESC:Évènements pour Supersonic
REFRESH-INTERVAL;VALUE=DURATION:PT1H
X-Robots-Tag:noindex
X-PUBLISHED-TTL:PT1H
BEGIN:VTIMEZONE
TZID:Europe/London
BEGIN:DAYLIGHT
TZOFFSETFROM:+0000
TZOFFSETTO:+0100
TZNAME:BST
DTSTART:20250330T010000
END:DAYLIGHT
BEGIN:STANDARD
TZOFFSETFROM:+0100
TZOFFSETTO:+0000
TZNAME:GMT
DTSTART:20251026T010000
END:STANDARD
BEGIN:DAYLIGHT
TZOFFSETFROM:+0000
TZOFFSETTO:+0100
TZNAME:BST
DTSTART:20260329T010000
END:DAYLIGHT
BEGIN:STANDARD
TZOFFSETFROM:+0100
TZOFFSETTO:+0000
TZNAME:GMT
DTSTART:20261025T010000
END:STANDARD
BEGIN:DAYLIGHT
TZOFFSETFROM:+0000
TZOFFSETTO:+0100
TZNAME:BST
DTSTART:20270328T010000
END:DAYLIGHT
BEGIN:STANDARD
TZOFFSETFROM:+0100
TZOFFSETTO:+0000
TZNAME:GMT
DTSTART:20271031T010000
END:STANDARD
END:VTIMEZONE
BEGIN:VEVENT
DTSTART;TZID=Europe/London:20260424T190000
DTEND;TZID=Europe/London:20260424T230000
DTSTAMP:20260424T021631
CREATED:20260128T154832Z
LAST-MODIFIED:20260128T154832Z
UID:18234-1777057200-1777071600@supersonic-club.fr
SUMMARY:Dolphin Hyperspace • Peuf! • Flurp
DESCRIPTION:Cette soirée plaira aux fans de… Thumpasaurus\, Tropical Fuck Storm & O. \n \nDOLPHIN HYPERSPACE (22h30)\n(Electro jazz – Los Angeles\, US)\nDolphin Hyperspace est un duo électro-jazz basé à Los Angeles\, mené par la saxophoniste Nicole McCabe et le bassiste Logan Kane. Largement connu pour ses concerts légendaires mêlant folie instrumentale\, synthés déjantés et rythmes dance endiablés\, Dolphin Hyperspace trouve une nouvelle voie d’expression dans le jazz moderne et la culture beat. Le groupe collabore souvent avec les meilleurs batteurs de Los Angeles\, notamment Louis Cole et Justin Brown. Un spectacle de jazz électronique hautement énergique à son meilleur\, avec une production unique et dynamique : un spectacle que vous n’oublierez jamais.\nhttps://dolphinhyperspace.bandcamp.com/\nhttps://www.youtube.com/watch?v=GHXRxqCL5Co \nPEUF! (21h30)\n(Trans progressive – Paris\, FR)\nComposé de Tao Ehrlich à la batterie\, Martin Ferreyros à la guitare et Louis Prado à la contrebasse\, le trio\, dont les membres ont collaboré avec des artistes tels que Erik Truffaz\, Dhafer Yussef ou encore Donny McCaslin\, se retrouve depuis 2022\, un jeudi par mois\, sur la scène de La Gare à Paris.\nLeur live est une expérience inoubliable. Construit comme un groupe d’éternels ados qui rendent hommage à leur musique de cœur\, PEUF! revisite et renouvelle l’énergie brute du rock dans une version entièrement instrumentale\, avec la contrebasse en instrument star – parée d’effets électroniques. Sans chant\, le trio propose ainsi à l’auditeur un véritable voyage\, lui laissant la possibilité de se perdre dans la transe de ses morceaux progressifs et épiques.\nLes 3 influences : LCD Soundsystem\, Nilüfer Yanya\, Mount Kimbie\nhttps://www.youtube.com/watch?v=XMvbV-GR8q8… \nFLURP (20h30)\n(Jazz rock – Paris\, FR)\nProfondément ancré à la fois dans la riche tradition du jazz et dans l’univers de la musique contemporaine\, Flurp mêle l’ancien et le nouveau\, jouant la musique forte avec douceur et la musique douce avec intensité — audacieux\, osé\, étrange\, fascinant. Formé au jazz\, Flurp se situe au carrefour des genres\, intégrant rock\, indie\, Americana et musiques du monde\, tout en restant fidèle à ses racines jazz. Les sonorités sont tantôt envoûtantes et émouvantes\, tantôt excitantes et intenses — à la fois dansantes et contemplatives.\nLes 4 influences : Bill Frisell\, Allan Holdsworth\, Wayne Krantz\, Kurt Rosenwinkel\nhttps://tr.ee/KOz0Xpbsvz\nhttps://www.youtube.com/@listen-to-flurp\n———————————\nVendredi 24 Avril 2026\nEntrée gratuite\n• Ouverture des portes à 19h00\n• Happy Hour de 19h à 20h\n• Si vous êtes témoin ou victime d’une agression\, vous pouvez alerter le personnel du bar ou si vous préférez\, vous pouvez nous écrire à cette adresse: communication@supersonic-paris.fr\n———————————\nSUPERSONIC\n9 rue Biscornet\, 75012 Paris\nMétro Bastille (sortie rue de lyon) \nTarifs : Gratuit
URL:http://supersonic-club.fr/event/dolphin-hyperspace-peuf-flurp/
LOCATION:SUPERSONIC\, 9 Rue Biscornet\, Paris\, 75012\, France
CATEGORIES:Concert,Dolphin Hyperspace,Flurp,PEUF,Pop / Rock / Folk,Sowprog,SUPERSONIC
ATTACH;FMTTYPE=image/jpeg:http://supersonic-club.fr/wp-content/uploads/2026/01/namethumb_w600px_img_event_fb74012f-f1af-4ad3-a030-7c872d0f72d8.jpg
END:VEVENT
BEGIN:VEVENT
DTSTART;TZID=Europe/London:20260424T200000
DTEND;TZID=Europe/London:20260424T223000
DTSTAMP:20260424T021631
CREATED:20260213T185147Z
LAST-MODIFIED:20260421T151826Z
UID:18380-1777060800-1777069800@supersonic-club.fr
SUMMARY:The Fiery Furnaces + Markéta Vostrá en concert (côté Records)
DESCRIPTION:Les Fiery Furnaces de New York occupent une place de choix dans le paysage de la pop expérimentale. De retour en duo près de 20 ans après leur dernier concert parisien pour une date exceptionnelle ! \n \nTake Me Out présente…\nThe Fiery Furnaces + Markéta Vostrá en concert !\nTickets : https://link.dice.fm/wd2efdec43f2 \nTHE FIERY FURNACES \nThe Fiery Furnaces\, fruit d’une longue collaboration entre Eleanor et Matthew Friedberger\, frère et sœur\, se reforme pour une série de concerts en duo épuré. Réputé pour ses paroles denses et allusives et ses compositions formellement inventives\, le groupe occupe une place unique dans le paysage de la pop expérimentale. Loin de mépriser la sentimentalité\, cette réunion est toutefois moins une reprise nostalgique qu’une continuation de leur interrogation sur la forme musicale\, la culture musicale\, la narration et la mémoire. \nFormé à New York en 2000\, le groupe a signé chez Rough Trade Records et a sorti huit albums acclamés par la critique entre 2003 et 2009\, tout en effectuant de nombreuses tournées en Amérique du Nord\, en Europe et en Australie. Parmi leurs concerts les plus marquants\, citons le Radio City Music Hall (2004)\, All Tomorrow’s Parties (2004\, 2006\, 2010)\, Coachella Valley Music & Arts Festival (2005)\, Bonnaroo Music & Arts Festival (2008)\, Primavera Sound Barcelona (2010)\, Pitchfork Music Festival Chicago (2021)\, Le Guess Who? (2025). \nL’année dernière\, le groupe a réédité son album phare Blueberry Boat en édition limitée deluxe gatefold 2LP avec le titre bonus « Far Away ». Cette année marque le 20e anniversaire de leur album Bitter Tea et le groupe le célèbre avec une toute première édition cassette. Ils prévoient de continuer à réimaginer\, retravailler et enrichir leur répertoire\, tant en live que dans le cadre d’une nouvelle série d’enregistrements intitulée « Σκίτσα » (Sketches). \nÉCOUTER\nhttps://thefieryfurnaces.bandcamp.com/ \nAIMER\nhttps://www.instagram.com/fiery_furnaces/  \nMARKÉTA VOSTRÁ \nMarkéta Vostrá est une auteure-compositrice-interprète originaire de la République tchèque\, installée récemment à Paris\, en France. \nSes chansons sont principalement inspirées par les relations humaines\, des personnages fictifs ou réels\, des rêves et des cauchemars. \nSes spectacles sont le plus souvent très intimistes\, emportant les auditeurs sur une vague émotionnelle douce-amère\, les plongeant à la fois dans l’instant présent\, mais aussi dans les souvenirs et l’imaginaire. \nÉCOUTER\nhttps://marktavostra.bandcamp.com/music \nAIMER\nhttps://www.instagram.com/marketa.vostra/\n———————————\nVendredi 24 Avril 2026\n• Ouverture des portes à 20h\n• Bar sur place\n• 26\,27€ en prévente\nOuverture de la billetterie le 16 février à 10h\n• Accès interdit aux moins de 16 ans sauf si accompagnés d’un tuteur légal\n———————————\nSUPERSONIC RECORDS\n9 Bis Rue Biscornet 75012 Paris\nMetro Bastille\nhttps://supersonic-records.fr/\nLa newsletter : https://t.ly/cx_NA\nLa playlist : https://tinyurl.com/SupersonicRecords2026 \nhttps://takemeout-production.fr \nTarifs : Billet : 26.27€ \nBilletteries : DICE
URL:http://supersonic-club.fr/event/the-fiery-furnaces-en-concert-cote-records/
LOCATION:Supersonic Records\, 9 Rue Biscornet\, Paris\, 75012\, France
CATEGORIES:Concert,Markéta Vostrá,Pop / Rock / Folk,Sowprog,Supersonic Records,The Fiery Furnaces
ATTACH;FMTTYPE=image/jpeg:http://supersonic-club.fr/wp-content/uploads/2026/02/namethumb_w600px_img_event_e5afe50a-c492-49ff-8e97-9301adf09878-1.jpg
END:VEVENT
BEGIN:VEVENT
DTSTART;TZID=Europe/London:20260424T230000
DTEND;TZID=Europe/London:20260425T060000
DTSTAMP:20260424T021631
CREATED:20260202T145827Z
LAST-MODIFIED:20260202T145827Z
UID:18270-1777071600-1777096800@supersonic-club.fr
SUMMARY:Where Is My Mind ? / La Nuit rock 90's
DESCRIPTION:WELCOME TO SUPERSONIC\nConcerts gratuits\, et nuits rock à Paris ! \n \nWhere is My Mind ?!\nMTV diffuse en continu les clips des guitar heroes de ton adolescence\, tu ne jures que par le grunge de Kurt Cobain\, les mélodies pop de Weezer\, les excentricités de Gwen Stefani ou de Bjork. De 23h à 6h du matin viens danser sur les meilleurs sons rock des années 90s !\nLive tribute à 1h de Banga\nDJ set rock 90s de Vynil Coyote et Sheitan\nSi tu aimes: Nirvana / Pixies / Placebo / Red Hot Chili Peppers / The Cranberries / No Doubt / Blur / Oasis / Beatis Boys / Garbage / Texas / Lenny Kravitz / The Breeders / Pulp / Sonic Youth / Green Day / The Offsprings / Garbage / Rem / The Verve / Rage Against The Machine / Radiohead / The Cardigans..\nPour t’ambiancer dès maintenant\, on t’a préparé une petite playlist : https://spoti.fi/37MGiRH\n———————————\nEntrée à 10€ de 23h à 6h\n• Vestiaire au 2ème étage\n• Entrée interdite aux mineur.e.s\n• Si vous êtes témoin ou victime d’une agression\, vous pouvez alerter le personnel du bar ou si vous préférez\, vous pouvez nous écrire à cette adresse: communication@supersonic-paris.fr\n———————————\nSUPERSONIC\n9 rue Biscornet\, 75012 Paris\nMétro Bastille (sortie rue de lyon) \nTarifs : Ticket : 10€ \nBilletteries : Dice
URL:http://supersonic-club.fr/event/where-is-my-mind-la-nuit-rock-90s-3/
LOCATION:SUPERSONIC\, 9 Rue Biscornet\, Paris\, 75012\, France
CATEGORIES:Clubbing,Pop / Rock / Folk,Sowprog,SUPERSONIC,Supersonic Paris
ATTACH;FMTTYPE=image/jpeg:http://supersonic-club.fr/wp-content/uploads/2026/02/namethumb_w600px_img_event_4ad8c115-8f52-46e3-a1b1-583b95b738c4.jpg
END:VEVENT
END:VCALENDAR